Workbook

Sheet Table2
A1: PSP | B1: TSA | C1: Location | D1: 2013 | E1: 2014 | F1: 2015 | G1: 2016 | H1: 2017 | I1: 2018 | J1: 2019
A2: 66 | B2: DRE | C2: Sutherland Falls | D2: 39.666667 | E2: 20.5 | F2: 2 | G2: 1 | H2: n/a | I2: 72 | J2: 235
A3: 83 | B3: DRE | C3: Begbie Crk | D3: 170.5 | E3: 23 | F3: 10.833333 | G3: 0 | H3: 49.6 | I3: 97 | J3: 658
A4: 72 | B4: DRE | C4: Tangier FSR | D4: 109.66667 | E4: 22.666667 | F4: 19.2 | G4: 0.6 | H4: 18.6 | I4: 98 | J4: 56
A5: 87 | B5: DRE | C5: Jumping Crk | D5: 36 | E5: 4 | F5: 2.8333333 | G5: 4.8 | H5: 41.166667 | I5: n/a
A6: 73 | B6: DRE | C6: Martha Crk | D6: 104.83333 | E6: 31.2 | F6: 2.6666667 | G6: 2.8 | H6: 22.833333 | I6: 86 | J6: 33
A7: 78 | B7: DRE | C7: Carnes Crk | D7: 65.666667 | E7: 6.8333333 | F7: 5 | G7: 2.8 | H7: 15.2 | I7: 8 | J7: 257
A8: 75 | B8: DRE | C8: Downie Crk | D8: 85.5 | E8: 23.6 | F8: 8.8 | G8: 8.8 | H8: 8.6 | I8: 35 | J8: 246
A9: 74 | B9: DRE | C9: Goldstream River | D9: 137.33333 | E9: 23.166667 | F9: 2 | G9: 2.5 | H9: 42 | I9: 55 | J9: 257
A10: 76 | B10: DRE | C10: Bigmouth Crk | D10: 37.666667 | E10: 1.8333333 | F10: 2.4 | G10: 1 | H10: 26.166667 | I10: 55 | J10: 88
A11: 84 | B11: DRE | C11: Pitt Crk Rec Site | D11: 12.666667 | E11: 5.5 | F11: 4.1666667 | G11: 1.7 | H11: 49.833333 | I11: 25 | J11: 342
A12: 85 | B12: DRE | C12: Kinbasket Lk | D12: 83.166667 | E12: 4 | F12: 8.5 | G12: 1.8 | H12: 19.6 | I12: 145 | J12: 518
C13: Average | D13: =AVERAGE(D2:D12) -> 80.242424 | E13: =AVERAGE(E2:E12) -> 15.118182 | F13: =AVERAGE(F2:F12) -> 6.2181818 | G13: =AVERAGE(G2:G12) -> 2.5272727 | H13: =AVERAGE(H3:H12) -> 29.36 | I13: =AVERAGE(I2:I12) -> 67.6 | J13: =AVERAGE(J2:J12) -> 269

Sheet Yearly_Adult_average
A1: PSP | B1: Location | C1: 2007 | D1: 2008 | E1: 2009 | F1: 2010 | G1: 2011 | H1: 2012 | I1: 2013 | J1: 2014 | K1: 2015 | L1: 2016 | M1: 2017 | N1: 2018 | O1: 2019
A2: 66 | B2: Sutherland Falls | C2: 1.2 | D2: 28.833333 | E2: 30.333333 | F2: 221.33333 | G2: 328.33333 | H2: 222.16667 | I2: 39.666667 | J2: 20.5 | K2: 2 | L2: 1 | M2: n/a | N2: 72 | O2: 235
A3: 83 | B3: Begbie Crk | C3: 1.1666667 | D3: 24.5 | E3: 55 | F3: 550.5 | G3: 634.5 | H3: 557.33333 | I3: 170.5 | J3: 23 | K3: 10.833333 | L3: 0 | M3: 49.6 | N3: 97 | O3: 658
A4: 72 | B4: Tangier FSR | C4: 1.2 | D4: 22.166667 | E4: 75.333333 | F4: 383.5 | G4: 283.66667 | H4: 390.33333 | I4: 109.66667 | J4: 22.666667 | K4: 19.2 | L4: 0.6 | M4: 18.6 | N4: 98 | O4: 56
A5: 87 | B5: Jumping Crk | C5: 1 | D5: 27.333333 | E5: 30 | F5: 196.2 | H5: 200.83333 | I5: 36 | J5: 4 | K5: 2.8333333 | L5: 4.8 | M5: 41.166667 | N5: n/a
A6: 73 | B6: Martha Crk | C6: 0.83333333 | D6: 8 | E6: 6 | F6: 259 | G6: 227.83333 | H6: 280.83333 | I6: 104.83333 | J6: 31.2 | K6: 2.6666667 | L6: 2.8 | M6: 22.833333 | N6: 86 | O6: 33
A7: 78 | B7: Carnes Crk | C7: 1.1666667 | D7: 16.166667 | E7: 30.5 | F7: 312.5 | G7: 372.66667 | H7: 517.83333 | I7: 65.666667 | J7: 6.8333333 | K7: 5 | L7: 2.8 | M7: 15.2 | N7: 8 | O7: 257
A8: 75 | B8: Downie Crk | C8: 1 | D8: 29.5 | E8: 60.166667 | F8: 371.66667 | G8: 1135.1667 | H8: 743.16667 | I8: 85.5 | J8: 23.6 | K8: 8.8 | L8: 8.8 | M8: 8.6 | N8: 35 | O8: 246
A9: 74 | B9: Goldstream River | C9: 2.8333333 | D9: 4 | E9: 80.5 | F9: 302.5 | G9: 689 | H9: 597 | I9: 137.33333 | J9: 23.166667 | K9: 2 | L9: 2.5 | M9: 42 | N9: 55 | O9: 257
A10: 76 | B10: Bigmouth Crk | C10: 0.66666667 | D10: 9.3333333 | E10: 29.5 | F10: 318.4 | G10: 769 | H10: 644.66667 | I10: 37.666667 | J10: 1.8333333 | K10: 2.4 | L10: 1 | M10: 26.166667 | N10: 55 | O10: 88
A11: 84 | B11: Pitt Crk Rec Site | C11: 1.8333333 | D11: 15.666667 | E11: 130.2 | F11: 431.16667 | G11: 1274.3333 | H11: 865.16667 | I11: 12.666667 | J11: 5.5 | K11: 4.1666667 | L11: 1.7 | M11: 49.833333 | N11: 25 | O11: 342
A12: 85 | B12: Kinbasket Lk | C12: 7.5 | D12: 89.166667 | E12: 237.2 | F12: 468 | G12: 1532.6 | H12: 304 | I12: 83.166667 | J12: 4 | K12: 8.5 | L12: 1.8 | M12: 19.6 | N12: 145 | O12: 518
B13: Average | C13: =AVERAGE(C2:C12) -> 1.8545455 | D13: =AVERAGE(D2:D12) -> 24.969697 | E13: =AVERAGE(E2:E12) -> 69.521212 | F13: =AVERAGE(F2:F12) -> 346.79697 | G13: 724 | H13: =AVERAGE(H2:H12) -> 483.93939 | I13: =AVERAGE(I2:I12) -> 80.242424 | J13: =AVERAGE(J2:J12) -> 15.118182 | K13: =AVERAGE(K2:K12) -> 6.2181818 | L13: =AVERAGE(L2:L12) -> 2.5272727 | M13: =AVERAGE(M3:M12) -> 29.36 | N13: =AVERAGE(N2:N12) -> 67.6 | O13: =AVERAGE(O2:O12) -> 269

Sheet TrapResults19
A2: Plot | B2: Location | C2: 1 | D2: 2 | E2: 3 | F2: 4 | G2: 5 | H2: 6 | I2: Total | J2: Average | M2: Plot | N2: Location | O2: 1 | P2: 2 | Q2: 3 | R2: 4 | S2: 5 | T2: 6 | U2: Total | V2: Average
A3: 66 | B3: Sutherland Falls | C3: 540 | D3: 75 | E3: 421 | F3: 35 | G3: 278 | H3: 63 | I3: =SUM(C3:H3) -> 1412 | J3: =AVERAGE(C3:H3) -> 235.33333 | M3: 66 | N3: Sutherland Falls | O3: 131 | P3: 48 | Q3: 36 | R3: 28 | S3: 53 | T3: 135 | U3: =SUM(O3:T3) -> 431 | V3: =U3/6 -> 71.833333
A4: 72 | B4: Tangier FSR | C4: 28 | D4: 52 | E4: 37 | F4: 92 | G4: 38 | H4: 88 | I4: =SUM(C4:H4) -> 335 | J4: =AVERAGE(C4:H4) -> 55.833333 | M4: 72 | N4: Tangier FSR | O4: 81 | P4: 51 | Q4: 127 | R4: 94 | S4: 202 | T4: 34 | U4: =SUM(O4:T4) -> 589 | V4: =U4/6 -> 98.166667 | W4: 49.6
A5: 73 | B5: Martha Creek | C5: 38 | D5: 8 | E5: 41 | F5: 56 | G5: 22 | H5: 32 | I5: =SUM(C5:H5) -> 197 | J5: =AVERAGE(C5:H5) -> 32.833333 | M5: 73 | N5: Martha Creek | O5: 102 | P5: 157 | Q5: 15 | R5: down | S5: 70 | T5: down | U5: =SUM(O5:T5) -> 344 | V5: =U5/4 -> 86 | W5: 18.6
A6: 74 | B6: Goldstream River | C6: 178 | D6: 324 | E6: 269 | F6: 187 | G6: 342 | H6: 243 | I6: =SUM(C6:H6) -> 1543 | J6: =AVERAGE(C6:H6) -> 257.16667 | M6: 74 | N6: Goldstream River | O6: 67 | P6: 24 | Q6: 5 | R6: 99 | S6: 77 | T6: 58 | U6: =SUM(O6:T6) -> 330 | V6: =U6/6 -> 55 | W6: 41.166667
A7: 75 | B7: Downie Creek | C7: 428 | D7: 158 | E7: 82 | F7: 134 | G7: 428 | H7: down | I7: =SUM(C7:H7) -> 1230 | J7: =AVERAGE(C7:H7) -> 246 | M7: 75 | N7: Downie Creek | O7: 35 | P7: 12 | Q7: 68 | R7: 28 | S7: 31 | T7: down | U7: =SUM(O7:T7) -> 174 | V7: =U7/5 -> 34.8 | W7: 22.833333
A8: 76 | B8: Bigmouth Creek | C8: 30 | D8: 96 | E8: 148 | F8: 54 | G8: 114 | H8: down | I8: =SUM(C8:H8) -> 442 | J8: =AVERAGE(C8:H8) -> 88.4 | M8: 76 | N8: Bigmouth Creek | O8: 18 | P8: 2 | Q8: 26 | R8: 13 | S8: 20 | T8: 71 | U8: =SUM(O8:T8) -> 150 | V8: =U8/6 -> 25 | W8: 15.2
A9: 78 | B9: Carnes Creek | C9: 427 | D9: 178 | E9: 52 | F9: 75 | G9: 741 | H9: 71 | I9: =SUM(C9:H9) -> 1544 | J9: =AVERAGE(C9:H9) -> 257.33333 | M9: 78 | N9: Carnes Creek | O9: 5 | P9: 16 | Q9: 4 | R9: 7 | S9: 13 | T9: 1 | U9: =SUM(O9:T9) -> 46 | V9: =U9/6 -> 7.6666667 | W9: 8.6
A10: 83 | B10: Begbie Creek | C10: 506 | D10: 1371 | E10: 64 | F10: 700 | G10: 650 | H10: down | I10: =SUM(C10:H10) -> 3291 | J10: =AVERAGE(C10:H10) -> 658.2 | M10: 83 | N10: Begbie Creek | O10: 32 | P10: 6 | Q10: 76 | R10: 42 | S10: 76 | T10: 351 | U10: =SUM(O10:T10) -> 583 | V10: =U10/6 -> 97.166667 | W10: 42
A11: 84 | B11: Pitt Crk Rec Site | C11: 558 | D11: 412 | E11: 448 | F11: 57 | G11: 235 | H11: down | I11: =SUM(C11:H11) -> 1710 | J11: =AVERAGE(C11:H11) -> 342 | M11: 84 | N11: Pitt Crk Rec Site | O11: 23 | P11: 77 | Q11: 121 | R11: 102 | S11: 18 | T11: 17 | U11: =SUM(O11:T11) -> 358 | V11: =U11/6 -> 59.666667 | W11: 26.166667
A12: 85 | B12: Kinbasket Lake | C12: 442 | D12: 739 | E12: 67 | F12: 57 | G12: 1438 | H12: 367 | I12: =SUM(C12:H12) -> 3110 | J12: =AVERAGE(C12:H12) -> 518.33333 | M12: 85 | N12: Kinbasket Lake | O12: 121 | P12: 131 | Q12: 340 | R12: 135 | S12: missing | T12: down | U12: =SUM(O12:T12) -> 727 | V12: =U12/5 -> 145.4 | W12: 49.833333
A13: 87 | B13: Jumping Creek | C13: Now a gravel pit - site will have to be relocated | J13: =AVERAGE(J3:J12) -> 269.14333 | M13: 87 | N13: Jumping Creek | O13: Road Closed - Bridge Out | V13: =AVERAGE(V3:V12) -> 68.07 | W13: 19.6
B14: Total | I14: =SUM(I3:I13) -> 14814 | N14: Total | U14: =SUM(U3:U13) -> 3732

Sheet TrapResults18
A2: Plot | B2: Location | C2: 1 | D2: 2 | E2: 3 | F2: 4 | G2: 5 | H2: 6 | I2: Total | J2: Average
A3: 66 | B3: Sutherland Falls | C3: 131 | D3: 48 | E3: 36 | F3: 28 | G3: 53 | H3: 135 | I3: =SUM(C3:H3) -> 431 | J3: =I3/6 -> 71.833333
A4: 72 | B4: Tangier FSR | C4: 81 | D4: 51 | E4: 127 | F4: 94 | G4: 202 | H4: 34 | I4: =SUM(C4:H4) -> 589 | J4: =I4/6 -> 98.166667 | K4: 49.6
A5: 73 | B5: Martha Creek | C5: 102 | D5: 157 | E5: 15 | F5: down | G5: 70 | H5: down | I5: =SUM(C5:H5) -> 344 | J5: =I5/4 -> 86 | K5: 18.6
A6: 74 | B6: Goldstream River | C6: 67 | D6: 24 | E6: 5 | F6: 99 | G6: 77 | H6: 58 | I6: =SUM(C6:H6) -> 330 | J6: =I6/6 -> 55 | K6: 41.166667
A7: 75 | B7: Downie Creek | C7: 35 | D7: 12 | E7: 68 | F7: 28 | G7: 31 | H7: down | I7: =SUM(C7:H7) -> 174 | J7: =I7/5 -> 34.8 | K7: 22.833333
A8: 76 | B8: Bigmouth Creek | C8: 18 | D8: 2 | E8: 26 | F8: 13 | G8: 20 | H8: 71 | I8: =SUM(C8:H8) -> 150 | J8: =I8/6 -> 25 | K8: 15.2
A9: 78 | B9: Carnes Creek | C9: 5 | D9: 16 | E9: 4 | F9: 7 | G9: 13 | H9: 1 | I9: =SUM(C9:H9) -> 46 | J9: =I9/6 -> 7.6666667 | K9: 8.6
A10: 83 | B10: Begbie Creek | C10: 32 | D10: 6 | E10: 76 | F10: 42 | G10: 76 | H10: 351 | I10: =SUM(C10:H10) -> 583 | J10: =I10/6 -> 97.166667 | K10: 42
A11: 84 | B11: Pitt Crk Rec Site | C11: 23 | D11: 77 | E11: 121 | F11: 102 | G11: 18 | H11: 17 | I11: =SUM(C11:H11) -> 358 | J11: =I11/6 -> 59.666667 | K11: 26.166667
A12: 85 | B12: Kinbasket Lake | C12: 121 | D12: 131 | E12: 340 | F12: 135 | G12: missing | H12: down | I12: =SUM(C12:H12) -> 727 | J12: =I12/5 -> 145.4 | K12: 49.833333
A13: 87 | B13: Jumping Creek | C13: Road Closed - Bridge Out | J13: =AVERAGE(J3:J12) -> 68.07 | K13: 19.6
B14: Total | I14: =SUM(I3:I13) -> 3732

Sheet TrapResults17
A2: Plot | B2: Location | C2: 1 | D2: 2 | E2: 3 | F2: 4 | G2: 5 | H2: 6 | I2: Total | J2: Average
A3: 66 | B3: Sutherland Falls | C3: Not able to retreive - construction - campsite closed
A4: 72 | B4: Tangier FSR | C4: 10 | D4: 25 | E4: 25 | F4: 130 | G4: 58 | H4: down | I4: =SUM(C4:H4) -> 248 | J4: =I4/5 -> 49.6
A5: 73 | B5: Martha Creek | C5: 41 | D5: 22 | E5: 8 | F5: 18 | G5: 4 | H5: down | I5: =SUM(C5:H5) -> 93 | J5: =I5/5 -> 18.6
A6: 74 | B6: Goldstream River | C6: 37 | D6: 23 | E6: 44 | F6: 65 | G6: 37 | H6: 41 | I6: =SUM(C6:H6) -> 247 | J6: =I6/6 -> 41.166667
A7: 75 | B7: Downie Creek | C7: 20 | D7: 15 | E7: 39 | F7: 14 | G7: 21 | H7: 28 | I7: =SUM(C7:H7) -> 137 | J7: =I7/6 -> 22.833333
A8: 76 | B8: Bigmouth Creek | C8: 20 | D8: 18 | E8: 9 | F8: 21 | G8: 8 | H8: down | I8: =SUM(C8:H8) -> 76 | J8: =I8/5 -> 15.2
A9: 78 | B9: Carnes Creek | C9: 14 | D9: 13 | E9: 0 | F9: 3 | G9: 13 | H9: down | I9: =SUM(C9:H9) -> 43 | J9: =I9/5 -> 8.6
A10: 83 | B10: Begbie Creek | C10: 8 | D10: 31 | E10: 128 | F10: 19 | G10: 38 | H10: 28 | I10: =SUM(C10:H10) -> 252 | J10: =I10/6 -> 42
A11: 84 | B11: Pitt Crk Rec Site | C11: 21 | D11: 20 | E11: 10 | F11: 25 | G11: 18 | H11: 63 | I11: =SUM(C11:H11) -> 157 | J11: =I11/6 -> 26.166667
A12: 85 | B12: Kinbasket Lake | C12: 130 | D12: 53 | E12: 32 | F12: 20 | G12: 41 | H12: 23 | I12: =SUM(C12:H12) -> 299 | J12: =I12/6 -> 49.833333
A13: 87 | B13: Jumping Creek | C13: 8 | D13: 23 | E13: 28 | F13: 18 | G13: 21 | H13: down | I13: =SUM(C13:H13) -> 98 | J13: =I13/5 -> 19.6
B14: Total | I14: =SUM(I3:I13) -> 1650

Sheet TrapResults16
A2: Plot | B2: Location | C2: 1 | D2: 2 | E2: 3 | F2: 4 | G2: 5 | H2: 6 | I2: Total | J2: Average
A3: 66 | B3: Sutherland Falls | C3: 3 | D3: 2 | E3: 1 | F3: 0 | G3: 0 | H3: 0 | I3: =SUM(C3:H3) -> 6 | J3: =AVERAGE(C3:H3) -> 1
A4: 72 | B4: Tangier FSR | C4: 0 | D4: 0 | E4: 0 | F4: 1 | G4: 2 | H4: down | I4: =SUM(C4:H4) -> 3 | J4: =AVERAGE(C4:G4) -> 0.6
A5: 73 | B5: Martha Creek | C5: 2 | D5: 3 | E5: 4 | F5: 5 | G5: 0 | H5: down | I5: =SUM(C5:H5) -> 14 | J5: =AVERAGE(C5:G5) -> 2.8
A6: 74 | B6: Goldstream River | C6: 9 | D6: 4 | E6: 1 | F6: 0 | G6: 0 | H6: 1 | I6: =SUM(C6:H6) -> 15 | J6: =AVERAGE(C6:H6) -> 2.5
A7: 75 | B7: Downie Creek | C7: 1 | D7: 2 | E7: 4 | F7: 5 | G7: 15 | H7: 26 | I7: =SUM(C7:H7) -> 53 | J7: =AVERAGE(C7:H7) -> 8.8333333
A8: 76 | B8: Bigmouth Creek | C8: 2 | D8: 1 | E8: 3 | F8: 0 | G8: 0 | H8: 0 | I8: =SUM(C8:H8) -> 6 | J8: =AVERAGE(C8:H8) -> 1
A9: 78 | B9: Carnes Creek | C9: 1 | D9: 2 | E9: 2 | F9: 4 | G9: 8 | H9: 0 | I9: =SUM(C9:H9) -> 17 | J9: =AVERAGE(C9:H9) -> 2.8333333
A10: 83 | B10: Begbie Creek | C10: 0 | D10: 0 | E10: 0 | F10: 0 | G10: 0 | H10: 0 | I10: =SUM(C10:H10) -> 0 | J10: =AVERAGE(C10:H10) -> 0
A11: 84 | B11: Pitt Crk Rec Site | C11: 3 | D11: 3 | E11: 2 | F11: 2 | G11: 0 | H11: 0 | I11: =SUM(C11:H11) -> 10 | J11: =AVERAGE(C11:H11) -> 1.6666667
A12: 85 | B12: Kinbasket Lake | C12: 1 | D12: 1 | E12: 1 | F12: 7 | G12: 1 | H12: 0 | I12: =SUM(C12:H12) -> 11 | J12: =AVERAGE(C12:H12) -> 1.8333333
A13: 87 | B13: Jumping Creek | C13: 1 | D13: 2 | E13: 5 | F13: 8 | G13: 13 | H13: 0 | I13: =SUM(C13:H13) -> 29 | J13: =AVERAGE(C13:H13) -> 4.8333333
B14: Total | I14: =SUM(I3:I13) -> 164

Sheet TrapResults15
A2: Plot | B2: Location | C2: 1 | D2: 2 | E2: 3 | F2: 4 | G2: 5 | H2: 6 | I2: Total | J2: Average
A3: 66 | B3: Sutherland Falls | C3: 2 | D3: 2 | E3: 2 | F3: 3 | G3: 2 | H3: 1 | I3: =SUM(C3:H3) -> 12 | J3: =AVERAGE(C3:H3) -> 2
A4: 72 | B4: Tangier FSR | C4: 7 | D4: 0 | E4: x | F4: x | G4: 12 | H4: 58 | I4: =SUM(C4:H4) -> 77 | J4: 19.2
A5: 73 | B5: Martha Creek | C5: 1 | D5: 2 | E5: 2 | F5: 3 | G5: 4 | H5: 4 | I5: =SUM(C5:H5) -> 16 | J5: =AVERAGE(C5:H5) -> 2.6666667
A6: 74 | B6: Goldstream River | C6: 1 | D6: 0 | E6: 2 | F6: 3 | G6: 5 | H6: 1 | I6: =SUM(C6:H6) -> 12 | J6: =AVERAGE(C6:H6) -> 2
A7: 75 | B7: Downie Creek | C7: 1 | D7: 4 | E7: 7 | F7: 16 | G7: 16 | H7: x | I7: =SUM(C7:H7) -> 44 | J7: =AVERAGE(C7:H7) -> 8.8
A8: 76 | B8: Bigmouth Creek | C8: 0 | D8: 0 | E8: 1 | F8: 3 | G8: 8 | H8: x | I8: =SUM(C8:H8) -> 12 | J8: =AVERAGE(C8:H8) -> 2.4
A9: 78 | B9: Carnes Creek | C9: 0 | D9: 11 | E9: 4 | F9: 7 | G9: 6 | H9: 2 | I9: =SUM(C9:H9) -> 30 | J9: =AVERAGE(C9:H9) -> 5
A10: 83 | B10: Begbie Creek | C10: 6 | D10: 2 | E10: 21 | F10: 17 | G10: 7 | H10: 12 | I10: =SUM(C10:H10) -> 65 | J10: =AVERAGE(C10:H10) -> 10.833333
A11: 84 | B11: Pitt Crk Rec Site | C11: 1 | D11: 1 | E11: 5 | F11: 8 | G11: 10 | H11: 0 | I11: =SUM(C11:H11) -> 25 | J11: =AVERAGE(C11:H11) -> 4.1666667
A12: 85 | B12: Kinbasket Lake | C12: 18 | D12: 7 | E12: 12 | F12: 3 | G12: 1 | H12: 10 | I12: =SUM(C12:H12) -> 51 | J12: =AVERAGE(C12:H12) -> 8.5
A13: 87 | B13: Jumping Creek | C13: 12 | D13: 3 | E13: 2 | F13: 0 | G13: 0 | H13: 0 | I13: =SUM(C13:H13) -> 17 | J13: =AVERAGE(C13:H13) -> 2.8333333
I14: =SUM(I3:I13) -> 361 | J14: =AVERAGE(J3:J13) -> 6.2181818

Sheet TrapResults14
C1: Trap Counts
A2: Plot | B2: Location | C2: 1 | D2: 2 | E2: 3 | F2: 4 | G2: 5 | H2: 6 | I2: Total | J2: Average
A3: 66 | B3: Sutherland Falls | C3: 13 | D3: 37 | E3: 17 | F3: 26 | G3: 15 | H3: 15 | I3: =SUM(C3:H3) -> 123 | J3: =AVERAGE(C3:H3) -> 20.5
A4: 72 | B4: Tangier FSR | C4: 3 | D4: 30 | E4: 18 | F4: 52 | G4: 12 | H4: x | I4: =SUM(C4:H4) -> 115 | J4: =AVERAGE(C4:H4) -> 23
A5: 73 | B5: Martha Creek | C5: 14 | D5: 10 | E5: 10 | F5: 41 | G5: 46 | H5: 15 | I5: =SUM(C5:H5) -> 136 | J5: =AVERAGE(C5:H5) -> 22.666667
A6: 74 | B6: Goldstream River | C6: 2 | D6: 1 | E6: 8 | F6: 6 | G6: 3 | H6: 4 | I6: =SUM(C6:H6) -> 24 | J6: =AVERAGE(C6:H6) -> 4
A7: 75 | B7: Downie Creek | C7: 35 | D7: 35 | E7: 25 | F7: 48 | G7: 13 | H7: x | I7: =SUM(C7:H7) -> 156 | J7: =AVERAGE(C7:H7) -> 31.2
A8: 76 | B8: Bigmouth Creek | C8: 6 | D8: 4 | E8: 10 | F8: 11 | G8: 3 | H8: 7 | I8: =SUM(C8:H8) -> 41 | J8: =AVERAGE(C8:H8) -> 6.8333333
A9: 78 | B9: Carnes Creek | C9: 27 | D9: 40 | E9: 17 | F9: 17 | G9: 17 | H9: x | I9: =SUM(C9:H9) -> 118 | J9: =AVERAGE(C9:H9) -> 23.6
A10: 83 | B10: Begbie Creek | C10: 12 | D10: 28 | E10: 17 | F10: 16 | G10: 40 | H10: 26 | I10: =SUM(C10:H10) -> 139 | J10: =AVERAGE(C10:H10) -> 23.166667
A11: 84 | B11: Pitt Crk Rec Site | C11: 2 | D11: 1 | E11: 1 | F11: 1 | G11: 1 | H11: 5 | I11: =SUM(C11:H11) -> 11 | J11: =AVERAGE(C11:H11) -> 1.8333333
A12: 85 | B12: Kinbasket Lake | C12: 0 | D12: 5 | E12: 10 | F12: 11 | G12: 4 | H12: 3 | I12: =SUM(C12:H12) -> 33 | J12: =AVERAGE(C12:H12) -> 5.5
A13: 87 | B13: Jumping Creek | C13: 0 | D13: 3 | E13: 6 | F13: 0 | G13: 11 | H13: x | I13: =SUM(C13:H13) -> 20 | J13: =AVERAGE(C13:H13) -> 4
I14: =SUM(I3:I13) -> 916 | J14: =SUM(J3:J13) -> 166.3
A16: Plot | B16: Location | C16: 1 | D16: 2 | E16: 3 | F16: 4 | G16: 5 | H16: 6 | I16: Total | J16: Average
A17: 66 | B17: Sutherland Falls | C17: 2 | D17: 2 | E17: 2 | F17: 3 | G17: 2 | H17: 1 | I17: =SUM(C17:H17) -> 12 | J17: =AVERAGE(C17:H17) -> 2
A18: 72 | B18: Tangier FSR | C18: 7 | D18: 0 | E18: x | F18: x | G18: 12 | H18: 58 | I18: =SUM(C18:H18) -> 77 | J18: 19.2
A19: 73 | B19: Martha Creek | C19: 1 | D19: 2 | E19: 2 | F19: 3 | G19: 4 | H19: 4 | I19: =SUM(C19:H19) -> 16 | J19: =AVERAGE(C19:H19) -> 2.6666667
A20: 74 | B20: Goldstream River | C20: 1 | D20: 0 | E20: 2 | F20: 3 | G20: 5 | H20: 1 | I20: =SUM(C20:H20) -> 12 | J20: =AVERAGE(C20:H20) -> 2
A21: 75 | B21: Downie Creek | C21: 1 | D21: 4 | E21: 7 | F21: 16 | G21: 16 | H21: x | I21: =SUM(C21:H21) -> 44 | J21: =AVERAGE(C21:H21) -> 8.8
A22: 76 | B22: Bigmouth Creek | C22: 0 | D22: 0 | E22: 1 | F22: 3 | G22: 8 | H22: x | I22: =SUM(C22:H22) -> 12 | J22: =AVERAGE(C22:H22) -> 2.4
A23: 78 | B23: Carnes Creek | C23: 0 | D23: 11 | E23: 4 | F23: 7 | G23: 6 | H23: 2 | I23: =SUM(C23:H23) -> 30 | J23: =AVERAGE(C23:H23) -> 5
A24: 83 | B24: Begbie Creek | C24: 6 | D24: 2 | E24: 21 | F24: 17 | G24: 7 | H24: 12 | I24: =SUM(C24:H24) -> 65 | J24: =AVERAGE(C24:H24) -> 10.833333
A25: 84 | B25: Pitt Crk Rec Site | C25: 1 | D25: 1 | E25: 5 | F25: 8 | G25: 10 | H25: 0 | I25: =SUM(C25:H25) -> 25 | J25: =AVERAGE(C25:H25) -> 4.1666667
A26: 85 | B26: Kinbasket Lake | C26: 18 | D26: 7 | E26: 12 | F26: 3 | G26: 1 | H26: 10 | I26: =SUM(C26:H26) -> 51 | J26: =AVERAGE(C26:H26) -> 8.5
A27: 87 | B27: Jumping Creek | C27: 12 | D27: 3 | E27: 2 | F27: 0 | G27: 0 | H27: 0 | I27: =SUM(C27:H27) -> 17 | J27: =AVERAGE(C27:H27) -> 2.8333333
I28: =SUM(I17:I27) -> 361

Sheet TrapResults12
C1: Trap Counts
A2: Plot | B2: Location | C2: 1 | D2: 2 | E2: 3 | F2: 4 | G2: 5 | H2: 6 | I2: Total | J2: Average
A3: 66 | B3: Sutherland Falls | C3: 295 | D3: 160 | E3: 113 | F3: 276 | G3: 255 | H3: 234 | I3: 1333 | J3: 222.16667
A4: 72 | B4: Tangier FSR | C4: 282 | D4: 244 | E4: 233 | F4: 502 | G4: 695 | H4: 386 | I4: 2342 | J4: 390.33333
A5: 73 | B5: Martha Creek | C5: 205 | D5: 137 | E5: 468 | F5: 206 | G5: 381 | H5: 288 | I5: 1685 | J5: 280.83333
A6: 74 | B6: Goldstream River | C6: 470 | D6: 472 | E6: 649 | F6: 1142 | G6: 356 | H6: 493 | I6: 3582 | J6: 597
A7: 75 | B7: Downie Creek | C7: 638 | D7: 1123 | E7: 622 | F7: 438 | G7: 655 | H7: 983 | I7: 4459 | J7: 743.16667
A8: 76 | B8: Bigmouth Creek | C8: 245 | D8: 391 | E8: 837 | F8: 1252 | G8: 826 | H8: 317 | I8: 3868 | J8: 644.66667
A9: 78 | B9: Carnes Creek | C9: 573 | D9: 456 | E9: 621 | F9: 340 | G9: 515 | H9: 602 | I9: 3107 | J9: 517.83333
A10: 83 | B10: Begbie Creek | C10: 574 | D10: 242 | E10: 429 | F10: 970 | G10: 718 | H10: 411 | I10: 3344 | J10: 557.33333
A11: 84 | B11: Pitt Crk Rec Site | C11: 818 | D11: 787 | E11: 1242 | F11: 225 | G11: 1090 | H11: 1029 | I11: 5191 | J11: 865.16667
A12: 85 | B12: Kinbasket Lake | C12: 869 | D12: 412 | E12: 100 | F12: 134 | G12: 122 | H12: 187 | I12: 1824 | J12: 304
A13: 87 | B13: Jumping Creek | C13: 590 | D13: 64 | E13: 164 | F13: 91 | G13: 66 | H13: 230 | I13: 1205 | J13: 200.83333

Sheet TrapResults11
C1: Trap Counts
A2: Plot | B2: Location | C2: 1 | D2: 2 | E2: 3 | F2: 4 | G2: 5 | H2: 6 | I2: Total | J2: Average
A3: 66 | B3: Sutherland Falls | C3: 219 | D3: 210 | E3: 156 | F3: 236 | G3: 640 | H3: 509 | I3: =SUM(C3:H3) -> 1970 | J3: =I3/6 -> 328.33333
A4: 72 | B4: Tangier FSR | C4: 173 | D4: 152 | E4: 750 | F4: 175 | G4: 282 | H4: 170 | I4: =SUM(C4:H4) -> 1702 | J4: =I4/6 -> 283.66667
A5: 73 | B5: Martha Creek | C5: 485 | D5: 148 | E5: 129 | F5: 216 | G5: 276 | H5: 113 | I5: =SUM(C5:H5) -> 1367 | J5: =I5/6 -> 227.83333
A6: 74 | B6: Goldstream River | C6: 564 | D6: 747 | E6: 446 | F6: 544 | G6: 953 | H6: 880 | I6: =SUM(C6:H6) -> 4134 | J6: =I6/6 -> 689
A7: 75 | B7: Downie Creek | C7: 899 | D7: 745 | E7: 1574 | F7: 555 | G7: 2058 | H7: 980 | I7: =SUM(C7:H7) -> 6811 | J7: =I7/6 -> 1135.1667
A8: 76 | B8: Bigmouth Creek | C8: 944 | D8: 930 | E8: 1039 | F8: 1140 | G8: 301 | H8: 260 | I8: =SUM(C8:H8) -> 4614 | J8: =I8/6 -> 769
A9: 78 | B9: Carnes Creek | C9: 287 | D9: 365 | E9: 283 | F9: 436 | G9: 415 | H9: 450 | I9: =SUM(C9:H9) -> 2236 | J9: =I9/6 -> 372.66667
A10: 83 | B10: Begbie Creek | C10: 405 | D10: 283 | E10: 300 | F10: 1016 | G10: 823 | H10: 980 | I10: =SUM(C10:H10) -> 3807 | J10: =I10/6 -> 634.5
A11: 84 | B11: Pitt Crk Rec Site | C11: 1215 | D11: 2085 | E11: 1327 | F11: 749 | G11: 1966 | H11: 304 | I11: =SUM(C11:H11) -> 7646 | J11: =I11/6 -> 1274.3333
A12: 85 | B12: Kinbasket Lake | C12: 803 | D12: 1570 | E12: 1254 | F12: 2044 | G12: 1992 | I12: =SUM(C12:H12) -> 7663 | J12: =I12/5 -> 1532.6
A13: 87 | B13: Jumping Creek | C13: BEAR - consider moving site

Sheet TrapResult10
C1: Trap Counts
A2: Plot | B2: Location | C2: 1 | D2: 2 | E2: 3 | F2: 4 | G2: 5 | H2: 6 | I2: Total | J2: Average
A3: 66 | B3: Sutherland Falls | C3: 242 | D3: 128 | E3: 211 | F3: 271 | G3: 291 | H3: 185 | I3: =SUM(C3:H3) -> 1328 | J3: =AVERAGE(C3:H3) -> 221.33333
A4: 72 | B4: Tangier FSR | C4: 185 | D4: 512 | E4: 112 | F4: 508 | G4: 341 | H4: 643 | I4: =SUM(C4:H4) -> 2301 | J4: =AVERAGE(C4:H4) -> 383.5
A5: 73 | B5: Martha Creek | C5: 201 | D5: 462 | E5: 152 | F5: 362 | G5: 118 | H5: / | I5: =SUM(C5:H5) -> 1295 | J5: =AVERAGE(C5:H5) -> 259
A6: 74 | B6: Goldstream River | C6: 277 | D6: 427 | E6: 321 | F6: 187 | G6: 401 | H6: 202 | I6: =SUM(C6:H6) -> 1815 | J6: =AVERAGE(C6:H6) -> 302.5
A7: 75 | B7: Downie Creek | C7: 342 | D7: 556 | E7: 370 | F7: 228 | G7: 508 | H7: 226 | I7: =SUM(C7:H7) -> 2230 | J7: =AVERAGE(C7:H7) -> 371.66667
A8: 76 | B8: Bigmouth Creek | C8: 512 | D8: 230 | E8: 185 | F8: 410 | G8: 255 | H8: / | I8: =SUM(C8:H8) -> 1592 | J8: =AVERAGE(C8:H8) -> 318.4
A9: 78 | B9: Carnes Creek | C9: 238 | D9: 374 | E9: 338 | F9: 282 | G9: 211 | H9: 432 | I9: =SUM(C9:H9) -> 1875 | J9: =AVERAGE(C9:H9) -> 312.5
A10: 83 | B10: Begbie Creek | C10: 415 | D10: 648 | E10: 490 | F10: 398 | G10: 1132 | H10: 220 | I10: =SUM(C10:H10) -> 3303 | J10: =AVERAGE(C10:H10) -> 550.5
A11: 84 | B11: Pitt Crk Rec Site | C11: 742 | D11: 883 | E11: 193 | F11: 133 | G11: 118 | H11: 518 | I11: =SUM(C11:H11) -> 2587 | J11: =AVERAGE(C11:H11) -> 431.16667
A12: 85 | B12: Kinbasket Lake | C12: 611 | D12: 572 | E12: 283 | F12: 222 | G12: 652 | H12: / | I12: =SUM(C12:H12) -> 2340 | J12: =AVERAGE(C12:H12) -> 468
A13: 87 | B13: Jumping Creek | C13: 209 | D13: 405 | E13: 128 | F13: 125 | G13: 114 | H13: / | I13: =SUM(C13:H13) -> 981 | J13: =AVERAGE(C13:H13) -> 196.2

Sheet TrapResults09
C1: Trap Number
A2: Plot | B2: Location | C2: 1 | D2: 2 | E2: 3 | F2: 4 | G2: 5 | H2: 6 | I2: Total | J2: Average
A3: 66 | B3: Sutherland Falls | C3: 28 | D3: 25 | E3: 28 | F3: 23 | G3: 16 | H3: 62 | I3: =SUM(C3:H3) -> 182 | J3: =I3/6 -> 30.333333
A4: 72 | B4: Tangier FSR | C4: 4 | D4: 39 | E4: 81 | F4: 24 | G4: 245 | H4: 59 | I4: =SUM(C4:H4) -> 452 | J4: =I4/6 -> 75.333333
A5: 73 | B5: Martha Crk | C5: 2 | D5: 6 | E5: 1 | F5: 15 | G5: bear | H5: windthrow | I5: =SUM(C5:H5) -> 24 | J5: =I5/4 -> 6
A6: 74 | B6: Goldstream River | C6: 183 | D6: 39 | E6: 81 | F6: 21 | G6: 6 | H6: 153 | I6: =SUM(C6:H6) -> 483 | J6: =I6/6 -> 80.5
A7: 75 | B7: Downie Crk | C7: 85 | D7: 36 | E7: 86 | F7: 54 | G7: 53 | H7: 47 | I7: =SUM(C7:H7) -> 361 | J7: =I7/6 -> 60.166667
A8: 76 | B8: Bigmouth Crk | C8: 25 | D8: 18 | E8: 105 | F8: 9 | G8: 5 | H8: 15 | I8: =SUM(C8:H8) -> 177 | J8: =I8/6 -> 29.5
A9: 78 | B9: Carnes Crk | C9: 40 | D9: 47 | E9: 23 | F9: 10 | G9: 37 | H9: 26 | I9: =SUM(C9:H9) -> 183 | J9: =I9/6 -> 30.5
A10: 83 | B10: Begbie Crk | C10: 38 | D10: 64 | E10: 80 | F10: 36 | G10: 57 | H10: down | I10: =SUM(C10:H10) -> 275 | J10: =I10/5 -> 55
A11: 84 | B11: Pitt Crk Rec Site | C11: 174 | D11: 214 | E11: 158 | F11: 35 | G11: 70 | H11: bear | I11: =SUM(C11:H11) -> 651 | J11: =I11/5 -> 130.2
A12: 85 | B12: Kinbasket Lk | C12: 210 | D12: 237 | E12: 194 | F12: 242 | G12: 303 | H12: bear | I12: =SUM(C12:H12) -> 1186 | J12: =I12/5 -> 237.2
A13: 87 | B13: Jumping Crk | C13: 34 | D13: 26 | E13: down | F13: down | G13: down | H13: down | I13: =SUM(C13:H13) -> 60 | J13: =I13/2 -> 30
I14: =SUM(I3:I13) -> 4034 | J14: =SUM(J3:J13)/11 -> 69.521212 | L14: =SUM(J3:J13) -> 764.73333
L15: =764/11 -> 69.454545

Sheet TrapResults08 
C1: Trap Number
A2: Plot | B2: Location | C2: 1 | D2: 2 | E2: 3 | F2: 4 | G2: 5 | H2: 6 | I2: Total | J2: Average
A3: 66 | B3: Sutherland Falls | C3: 31 | D3: 52 | E3: 20 | F3: 26 | G3: 13 | H3: 31 | I3: =SUM(C3:H3) -> 173 | J3: =I3/6 -> 28.833333
A4: 72 | B4: Tangier FSR | C4: 7 | D4: 54 | E4: 42 | F4: 13 | G4: 10 | H4: 7 | I4: =SUM(C4:H4) -> 133 | J4: =I4/6 -> 22.166667
A5: 73 | B5: Martha Crk | C5: 13 | D5: 4 | E5: 0 | F5: 22 | G5: 6 | H5: 3 | I5: =SUM(C5:H5) -> 48 | J5: =I5/6 -> 8
A6: 74 | B6: Goldstream River | C6: 4 | D6: 7 | E6: 4 | F6: 2 | G6: 3 | H6: 4 | I6: =SUM(C6:H6) -> 24 | J6: =I6/6 -> 4
A7: 75 | B7: Downie Crk | C7: 8 | D7: 13 | E7: 36 | F7: 8 | G7: 62 | H7: 50 | I7: =SUM(C7:H7) -> 177 | J7: =I7/6 -> 29.5
A8: 76 | B8: Bigmouth Crk | C8: 17 | D8: 10 | E8: 3 | F8: 4 | G8: 19 | H8: 3 | I8: =SUM(C8:H8) -> 56 | J8: =I8/6 -> 9.3333333
A9: 78 | B9: Carnes Crk | C9: 10 | D9: 4 | E9: 13 | F9: 11 | G9: 37 | H9: 22 | I9: =SUM(C9:H9) -> 97 | J9: =I9/6 -> 16.166667
A10: 83 | B10: Begbie Crk | C10: 1 | D10: 42 | E10: 11 | F10: 52 | G10: 22 | H10: 19 | I10: =SUM(C10:H10) -> 147 | J10: =I10/6 -> 24.5
A11: 84 | B11: Pitt Crk Rec Site | C11: 10 | D11: 17 | E11: 9 | F11: 44 | G11: 11 | H11: 3 | I11: =SUM(C11:H11) -> 94 | J11: =I11/6 -> 15.666667
A12: 85 | B12: Kinbasket Lk | C12: 66 | D12: 69 | E12: 15 | F12: 157 | G12: 63 | H12: 165 | I12: =SUM(C12:H12) -> 535 | J12: =I12/6 -> 89.166667
A13: 87 | B13: Jumping Crk | C13: 1 | D13: 57 | E13: 9 | F13: 2 | G13: 53 | H13: 42 | I13: =SUM(C13:H13) -> 164 | J13: =I13/6 -> 27.333333
I14: =SUM(I3:I13) -> 1648 | J14: =SUM(J3:J13)/11 -> 24.969697

Sheet TrapResults07
C1: Trap Number
A2: Plot | B2: Location | C2: 1 | D2: 2 | E2: 3 | F2: 4 | G2: 5 | H2: 6 | I2: Total | J2: Average
A3: 66 | B3: Sutherland Falls | C3: 2 | D3: 1 | E3: 2 | F3: 0 | G3: down | H3: 1 | I3: 6 | J3: =I3/5 -> 1.2
A4: 72 | B4: Tangier FSR | C4: 0 | D4: 1 | E4: 4 | F4: 2 | G4: 0 | H4: 0 | I4: 7 | J4: 1.2
A5: 73 | B5: Martha Crk | C5: 0 | D5: 1 | E5: 2 | F5: 0 | G5: 2 | H5: 0 | I5: =SUM(C5:H5) -> 5 | J5: =I5/6 -> 0.83333333
A6: 74 | B6: Goldstream River | C6: 3 | D6: 2 | E6: 0 | F6: 2 | G6: 5 | H6: 5 | I6: =SUM(C6:H6) -> 17 | J6: =I6/6 -> 2.8333333
A7: 75 | B7: Downie Crk | C7: 0 | D7: 3 | E7: 3 | F7: 0 | G7: 0 | H7: 0 | I7: =SUM(C7:H7) -> 6 | J7: =I7/6 -> 1
A8: 76 | B8: Bigmouth Crk | C8: 1 | D8: 2 | E8: 0 | F8: 0 | G8: 1 | H8: 0 | I8: =SUM(C8:H8) -> 4 | J8: =I8/6 -> 0.66666667
A9: 78 | B9: Carnes Crk | C9: 3 | D9: 4 | E9: 0 | F9: 0 | G9: 0 | H9: 0 | I9: =SUM(C9:H9) -> 7 | J9: =I9/6 -> 1.1666667
A10: 83 | B10: Begbie Crk | C10: 0 | D10: 2 | E10: 1 | F10: 3 | G10: 1 | H10: 0 | I10: =SUM(C10:H10) -> 7 | J10: =I10/6 -> 1.1666667
A11: 84 | B11: Pitt Crk Rec Site | C11: 7 | D11: 0 | E11: 3 | F11: 1 | G11: 0 | H11: 0 | I11: =SUM(C11:H11) -> 11 | J11: =I11/6 -> 1.8333333
A12: 85 | B12: Kinbasket Lk | C12: 8 | D12: 9 | E12: 12 | F12: 3 | G12: 10 | H12: 3 | I12: =SUM(C12:H12) -> 45 | J12: =I12/6 -> 7.5
A13: 87 | B13: Jumping Crk | C13: 0 | D13: 1 | E13: 4 | F13: 1 | G13: 0 | H13: 0 | I13: =SUM(C13:H13) -> 6 | J13: =I13/6 -> 1
I14: =SUM(I3:I13) -> 121 | J14: =SUM(J3:J13)/11 -> 1.8545455

Sheet LarvalTrends
A1: Geographic | B1: PSS | C1: Locatoin | D1: 2000 | E1: 2001 | F1: 2002 | G1: 2003 | H1: 2004 | I1: 2005 | J1: 2006 | K1: 2007 | L1: 2008 | M1: 2009 | N1: 2010 | O1: 2011 | P1: 2012 | Q1: 2013 | R1: 2014 | S1: 2015 | T1: 2016 | U1: 2017
A2: RevSouth | B2: 30 | C2: Keen Crk (new location 09) | D2: 1 | E2: 0 | F2: 2 | G2: 7 | H2: 0 | I2: 0 | J2: 0 | K2: 0 | L2: 0 | M2: 1 | N2: 0 | O2: 0 | P2: 0 | Q2: 0 | R2: 0 | S2: 0 | T2: 0 | U2: 0
A3: RevSouth | B3: 38 | C3: Hills | D3: 0 | E3: 4 | F3: 21 | G3: 31 | H3: 0 | I3: 0 | J3: 8.5714286 | K3: 0 | L3: 0 | M3: 1 | N3: 1 | O3: 2 | P3: 0 | Q3: 0 | R3: 0 | S3: 0 | T3: 0 | U3: 0
A4: RevSouth | B4: 58 | C4: Halfway River | D4: 1 | E4: 17 | F4: 62 | G4: 46 | H4: 0 | I4: 0 | J4: 0 | K4: 0 | L4: 1 | M4: 1 | N4: 0 | O4: 4 | P4: 0 | Q4: 0 | R4: 0 | S4: 0 | T4: 0 | U4: 0
A5: RevSouth | B5: 61 | C5: Box Lake | D5: 1 | E5: 0 | F5: 3 | G5: 9 | H5: 0 | I5: 0 | J5: 0 | K5: 0 | L5: 0 | M5: 1 | N5: 1 | O5: 1 | P5: 0 | Q5: 0 | R5: 0 | S5: 0 | T5: 0 | U5: 0
A6: RevSouth | B6: 62 | C6: Kuskanax Crk | D6: 1 | E6: 10 | F6: 83 | G6: 313 | H6: 2.8571429 | I6: 0 | J6: 0 | K6: 0 | L6: 0 | M6: 4 | N6: 7 | O6: 5 | P6: 0 | Q6: 0 | R6: 0 | S6: 0 | T6: 0 | U6: 0
A7: RevSouth | B7: 65 | C7: Shelter Bay Ferry | D7: 0 | E7: 68 | F7: 879 | G7: 87 | H7: 2.8571429 | I7: 0 | J7: 0 | K7: 1 | L7: 0 | M7: 1 | N7: 0 | O7: 3 | P7: 2 | Q7: 0 | R7: 0 | S7: 0 | T7: 0 | U7: 0
A8: RevSouth | B8: 66 | C8: Sutherland Falls | D8: 1 | E8: 37 | F8: 67 | G8: 39 | H8: 31.428571 | I8: 0 | J8: 0 | K8: 0 | L8: 0 | M8: 0 | N8: 1 | O8: 3 | P8: 12 | Q8: 3 | R8: 0 | S8: 0 | T8: 0 | U8: 0
A9: RevSouth | B9: 70 | C9: Gerrad | D9: 0 | E9: 2 | F9: 47 | G9: 84 | H9: 0 | I9: 0 | J9: 0 | K9: 0 | L9: 1 | M9: 1 | N9: 0 | O9: 1 | P9: 0 | Q9: 0 | R9: 0 | S9: 0 | T9: 0 | U9: 0
A10: RevSouth | B10: 71 | C10: Trout Lake | D10: 3 | E10: 204 | F10: 544 | G10: 90 | H10: 2.8571429 | I10: 0 | J10: 2.8571429 | K10: 0 | L10: 0 | M10: 1 | N10: 0 | O10: 45 | P10: 0 | Q10: 0 | R10: 1 | S10: 0 | T10: 0 | U10: 0
A11: RevSouth | B11: 79 | C11: Lardeau FSR | D11: 0 | E11: 1 | F11: 0 | G11: 1 | H11: 0 | I11: 0 | J11: 0 | K11: 0 | L11: 0 | M11: 1 | N11: 0 | O11: 0 | P11: 0 | Q11: 0 | R11: 0 | S11: 0 | T11: 1 | U11: 0
A12: RevSouth | B12: 80 | C12: Meadow Crk | D12: 0 | E12: 6 | F12: 15 | G12: 47 | H12: 0 | I12: 0 | J12: 0 | K12: 0 | L12: 1 | M12: 2 | N12: 0 | O12: 0 | P12: 0 | Q12: 0 | R12: 0 | S12: 0 | T12: 0 | U12: 0
A13: RevSouth | B13: 81 | C13: Schroeder Crk | D13: 2 | E13: 5 | F13: 6 | G13: 14 | H13: 0 | I13: 0 | J13: 0 | K13: 0 | L13: 0 | M13: 0 | N13: 2 | O13: 0 | P13: 0 | Q13: 0 | R13: 0 | S13: 0 | T13: 0 | U13: 0
A14: RevSouth | B14: 82 | C14: Beaton | D14: 0 | E14: 10 | F14: 1 | G14: 1 | H14: 11.428571 | I14: 0 | J14: 0 | K14: 0 | L14: 0 | M14: 0 | N14: 2 | O14: 9 | P14: 8 | Q14: 0 | R14: 0 | S14: 0 | T14: 0 | U14: 0
D15: =AVERAGE(D2:D14) -> 0.76923077 | E15: =AVERAGE(E2:E14) -> 28 | F15: =AVERAGE(F2:F14) -> 133.07692 | G15: =AVERAGE(G2:G14) -> 59.153846 | H15: =AVERAGE(H2:H14) -> 3.956044 | I15: =AVERAGE(I2:I14) -> 0 | J15: =AVERAGE(J2:J14) -> 0.87912088 | K15: =AVERAGE(K2:K14) -> 0.076923077 | ... O15: =AVERAGE(O2:O14) -> 5.6153846 | P15: =22/12 -> 1.8333333 | Q15: =3/12 -> 0.25 | R15: =1/12 -> 0.083333333 | S15: 0 | T15: =AVERAGE(T2:T14) -> 0.076923077 | U15: 0
A16: Rev N and E | B16: 69 | C16: Quartz Crk | D16: 0 | E16: 142 | F16: 202 | G16: 59 | H16: 0 | I16: 0 | J16: 0 | K16: 1 | L16: 0 | M16: 0 | N16: 1 | O16: 3 | P16: 1 | Q16: 0 | R16: 0 | S16: 0 | T16: 0 | U16: 0
A17: Rev N and E | B17: 72 | C17: Tangier FSR | D17: 0 | E17: 9 | F17: 9 | G17: 1 | H17: 102.85714 | I17: 0 | J17: 0 | K17: 0 | L17: 0 | M17: 0 | N17: 10 | O17: 38 | P17: 46 | Q17: =9+5+8 -> 22 | R17: 0 | S17: 0 | T17: 0 | U17: 0
A18: Rev N and E | B18: 73 | C18: Martha Crk | D18: 3 | E18: 43 | F18: 13 | G18: 3 | H18: 97.142857 | I18: 0 | J18: 0 | K18: Negative | L18: 4 | M18: 0 | N18: 1 | O18: 2 | P18: 31 | Q18: =1+7+13 -> 21 | R18: 0 | S18: 0 | T18: 0 | U18: 0
A19: Rev N and E | B19: 74 | C19: Goldstream River | D19: 0 | E19: 1 | F19: 0 | G19: 0 | H19: 0 | I19: 2.8571429 | J19: 0 | K19: 0 | L19: 0 | M19: 1 | N19: 2 | O19: 27 | P19: 15 | Q19: =2+1+1 -> 4 | R19: 0 | S19: 0 | T19: 0 | U19: 0
A20: Rev N and E | B20: 75 | C20: Downie Crk | D20: 0 | E20: 0 | F20: 0 | G20: 1 | H20: 0 | I20: 0 | J20: 0 | K20: 0 | L20: 0 | M20: 0 | N20: 0 | O20: 7 | P20: 19 | Q20: =1+11+4 -> 16 | R20: 0 | S20: 0 | T20: 0 | U20: 0
A21: Rev N and E | B21: 76 | C21: Bigmouth Crk | D21: 0 | E21: 0 | F21: 0 | G21: 0 | H21: 2.8571429 | I21: 0 | J21: 0 | K21: 0 | L21: 0 | M21: 1 | N21: 5 | O21: 65 | P21: 68 | Q21: 1 | R21: 0 | S21: 0 | T21: 0 | U21: 0
A22: Rev N and E | B22: 78 | C22: Carnes Crk | D22: 0 | E22: 0 | F22: 0 | G22: 1 | H22: 0 | I22: 0 | J22: 0 | K22: 0 | L22: 1 | M22: 0 | N22: 7 | O22: 14 | P22: 19 | Q22: =2+0+2 -> 4 | R22: 0 | S22: 1 | T22: 0 | U22: 0
A23: Rev N and E | B23: 83 | C23: Begbie Crk | D23: 0 | E23: 8 | F23: 63 | G23: 40 | H23: 71.428571 | I23: 0 | J23: 0 | K23: 0 | L23: 0 | M23: 0 | N23: 1 | O23: 32 | P23: 17 | Q23: =3+2+7 -> 12 | R23: 0 | S23: 0 | T23: 0 | U23: 0
A24: Rev N and E | B24: 84 | C24: Pitt Crk Rec Site | D24: 0 | E24: 0 | F24: 0 | G24: 0 | H24: 14.285714 | I24: 0 | J24: 0 | K24: Negative | L24: 0 | M24: 0 | N24: 1 | O24: 105 | P24: 53 | Q24: =1+0+11 -> 12 | R24: 0 | S24: 0 | T24: 0 | U24: 0
A25: Rev N and E | B25: 85 | C25: Kinbasket Lk | D25: 2 | E25: 5 | F25: 0 | G25: 0 | H25: 2.8571429 | I25: 0 | J25: 0 | K25: 0 | L25: 0 | M25: 6 | N25: 5 | O25: 72 | P25: 11 | Q25: =0+0+1 -> 1 | R25: 0 | S25: 0 | T25: 0 | U25: 0
A26: Rev N and E | B26: 86 | C26: Beaver River | D26: 0 | E26: 1 | F26: 1 | G26: 0 | H26: 0 | I26: 0 | J26: 0 | K26: 0 | L26: 0 | M26: 1 | N26: 11 | O26: 107 | P26: 79 | Q26: =9+12+5 -> 26 | R26: 1 | S26: 0 | T26: 0 | U26: 0
A27: Rev N and E | B27: 87 | C27: Jumping Crk | D27: 1 | E27: 7 | F27: 2 | G27: 19 | H27: 65.714286 | I27: 0 | J27: 0 | K27: 0 | L27: 0 | M27: 1 | N27: 1 | O27: 3 | P27: 72 | Q27: =9+7+6 -> 22 | R27: 1 | S27: 1 | T27: 0 | U27: 0
D28: 0.5 | E28: 18 | F28: 24 | G28: 10 | H28: 29.7 | I28: 0.23 | J28: 0 | K28: 0.1 | L28: 0.42 | M28: 0.83 | N28: =AVERAGE(N16:N27) -> 3.75 | O28: 39.5 | P28: =AVERAGE(P16:P27) -> 35.916667 | Q28: =AVERAGE(Q16:Q27) -> 11.75 | R28: =AVERAGE(R16:R27) -> 0.16666667 | S28: =AVERAGE(S16:S27) -> 0.16666667 | T28: 0 | U28: 0

Sheet Yearly_LarvalAvg
B1: 2000 | C1: 2001 | D1: 2002 | E1: 2003 | F1: 2004 | G1: 2005 | H1: 2006 | I1: 2007 | J1: 2008 | K1: 2009 | L1: 2010 | M1: 2011 | N1: 2012 | O1: 2013 | P1: 2014 | Q1: 2015 | R1: 2016 | S1: 2017
A2: Western hemlock looper | B2: ='2000'!D30 -> 0.64 | C2: ='2001'!D30 -> 23.2 | D2: ='2002'!D30 -> 80.8 | E2: ='2003'!D30 -> 35.72 | F2: ='2004_Forrest'!D31/0.35 -> 16.342857 | G2: ='2005_Forrest'!D30/0.35 -> 0.11428571 | H2: ='2006_Forrest'!D30/0.35 -> 0.45714286 | I2: ='2007'!D30 -> 0.08 | J2: 0.3 | K2: 1 | L2: 2.4 | M2: 21.9 | N2: 18.9 | O2: 6 | P2: 0.1 | Q2: 2 | R2: 1 | S2: 0
A3: Western blackheaded budworm | B3: ='2000'!E30 -> 0.32 | C3: ='2001'!D31 -> 32 | D3: ='2002'!E30 -> 7.24 | E3: ='2003'!E30 -> 20.08 | F3: ='2004_Forrest'!E31/0.35 -> 0 | G3: ='2005_Forrest'!E30/0.35 -> 9.9428571 | H3: ='2006_Forrest'!E30/0.35 -> 4.5714286 | I3: ='2007'!E30 -> 0.64 | J3: 0.2 | K3: 0.1 | L3: 0 | M3: 0.2 | N3: 0.04 | O3: 2.5 | P3: 4.6 | Q3: 12 | R3: 0 | S3: 0
A4: Sawflies | B4: ='2000'!F30 -> 9 | C4: ='2001'!F30 -> 61.08 | D4: ='2002'!F30 -> 8.44 | E4: ='2003'!F30 -> 19.56 | F4: ='2004_Forrest'!F31/0.35 -> 17.371429 | G4: ='2005_Forrest'!F30/0.35 -> 4.3428571 | H4: ='2006_Forrest'!F30/0.35 -> 1.6 | I4: 2.6 | J4: 20 | K4: 20.4 | L4: 36 | M4: 27.5 | N4: 14.2 | O4: 17.8 | P4: 1.2 | Q4: 1 | R4: 0 | S4: 10
C7: Counts adjusted to equate to 2M*3M beating sheet

Sheet 2019_NFR
A1: Year | B1: Contract | C1: PSSName | D1: Plot | E1: Location | F1: Western Hemlock Looper | G1: Black-headed budworm | H1: Sawflies | I1: Green-striped forest looper | J1: Western False Hemlock Looper | K1: Gray Spruce Looper | L1: Saddleback Looper | M1: Filament Bearer | N1: Semiothisa s unipunctaria | O1: Cladara limitaria | P1: Gabriola dyari | Q1: Eupithicia olivacea | R1: Choristoneura occidentalis | S1: Stenoporpia pulmonaria satisfacta | T1: Orgyia sp | U1: Psychidae | V1: Eupithecia spp | W1: Acantholyda | X1: Callophrys rosneri | Y1: Feralia jocosa | Z1: Nytobia limitaria | AA1: Protoboarmia p indicataria | AB1: Geometridae | AC1: Noctuidae | AD1: Hypagyrtia piniata | AE1: Synaxis pallulata | AF1: Macaria signaria | AG1: Stenoporpia excelsaria | AH1: Tolype dayi | AI1: Zeiraphera canadensis | AJ1: DEFOLIATON ESTIMATE
A2: 2012 | B2: Art | C2: NFR30 | D2: 30 | E2: Keen Crk (new location 09) | F2: 6 | H2: 60 | I2: 2 | L2: 4 | M2: 3 | Y2: 1 | AJ2: Nil
A3: 2012 | B3: Art | C3: NFR38 | D3: 38 | E3: Hills | F3: 6 | I3: 4 | J3: 6 | L3: 4 | AJ3: Nil
A4: 2012 | B4: Art | C4: NFR58 | D4: 58 | E4: Halfway River | F4: 4 | J4: 1 | AJ4: Nil
A5: 2012 | B5: Art | C5: NFR61 | D5: 61 | E5: Box Lake | F5: 8 | H5: 77 | I5: 3 | J5: 2 | L5: 40 | M5: 25 | AH5: 1 | AJ5: T-L
A6: 2012 | B6: Art | C6: NFR62 | D6: 62 | E6: Kuskanax Crk | F6: 3 | I6: 5 | AJ6: Nil
A7: 2012 | B7: Art | C7: NFR65 | D7: 65 | E7: Shelter Bay Ferry | F7: 2 | AJ7: Nil
A8: 2012 | B8: Lorraine | C8: NFR66 | D8: 66 | E8: Sutherland Falls | F8: 2 | AJ8: Nil
A9: 2012 | B9: Lorraine | C9: NFR69 | D9: 69 | E9: Quartz Crk | F9: 1 | H9: 6 | I9: 1 | AJ9: Nil
A10: 2012 | B10: Art | C10: NFR70 | D10: 70 | E10: Gerrad | F10: 8 | H10: 27 | M10: 1 | V10: 1 | AG10: 1 | AJ10: Nil
C11: NFR71 | D11: 71 | E11: Trout Lake | F11: 5 | AJ11: Nil
A12: 2012 | B12: Lorraine | C12: NFR72 | D12: 72 | E12: Tangier FSR | F12: 6 | H12: 12 | M12: 3 | AJ12: Nil
A13: 2012 | B13: Lorraine | C13: NFR73 | D13: 73 | E13: Martha Crk | F13: 4 | H13: 3 | J13: 1 | AJ13: Nil
A14: 2012 | B14: Lorraine | C14: NFR74 | D14: 74 | E14: Goldstream River | F14: 2 | H14: 3 | AJ14: Nil
A15: 2012 | B15: Lorraine | C15: NFR75 | D15: 75 | E15: Downie Crk | F15: 3 | H15: 10 | AJ15: Nil
A16: 2012 | B16: Lorraine | C16: NFR76 | D16: 76 | E16: Bigmouth Crk | F16: 9 | H16: 2 | AJ16: Nil
A17: 2012 | B17: Lorraine | C17: NFR78 | D17: 78 | E17: Carnes Crk | F17: 0 | AJ17: Nil
A18: 2012 | B18: Art | C18: NFR79 | D18: 79 | E18: Lardeau FSR | F18: 7 | I18: 3 | AJ18: Nil
A19: 2012 | B19: Art | C19: NFR80 | D19: 80 | E19: Meadow Crk | F19: 2 | AJ19: Nil
A20: 2012 | B20: Art | C20: NFR81 | D20: 81 | E20: Schroeder Crk | F20: 2 | H20: 15 | AJ20: Nil
A21: 2012 | B21: Art | C21: NFR82 | D21: 82 | E21: Beaton | F21: 3 | I21: 1 | J21: 1 | AJ21: Nil
A22: 2012 | B22: Lorraine | C22: NFR83 | D22: 83 | E22: Begbie Crk | F22: 2 | I22: 1 | L22: 1 | M22: 13 | AJ22: Nil
A23: 2012 | B23: Lorraine | C23: NFR84 | D23: 84 | E23: Pitt Crk Rec Site | F23: 6 | H23: 35 | AJ23: Nil
A24: 2012 | B24: Lorraine | C24: NFR85 | D24: 85 | E24: Kinbasket Lk | F24: 4 | H24: 38 | AJ24: Nil
A25: 2012 | B25: Lorraine | C25: NFR86 | D25: 86 | E25: Beaver River | F25: 0 | H25: 42 | AJ25: T
A26: 2012 | B26: Lorraine | C26: NFR87 | D26: 87 | E26: Jumping Crk | F26: 5 | H26: 9 | M26: 1 | AJ26: Nil
E27: Total | F27: =SUM(F2:F26) -> 100 | G27: =SUM(G2:G26) -> 0 | H27: =SUM(H2:H26) -> 339 | I27: =SUM(I2:I26) -> 20 | J27: =SUM(J2:J26) -> 11 | K27: =SUM(K2:K26) -> 0 | L27: =SUM(L2:L26) -> 49 | M27: =SUM(M2:M26) -> 46 | ... AI27: =SUM(AI2:AI26) -> 0 | AJ27: =SUM(F27:AI27) -> 569

Sheet 2018_NFR
A1: PSSName | B1: Plot | C1: Location | D1: Western Hemlock Looper | E1: Black-headed budworm | F1: Sawflies | G1: Green-striped forest looper | H1: Western False Hemlock Looper | I1: Gray Spruce Looper | J1: Saddleback Looper | K1: Semiothisa s unipunctaria | L1: Cladara limitaria | M1: Gabriola dyari | N1: Eupithicia olivacea | O1: Choristoneura occidentalis | P1: Stenoporpia pulmonaria satisfacta | Q1: Orgyia sp | R1: Psychidae | S1: Eupithecia spp | T1: Acantholyda | U1: Callophrys rosneri | V1: Feralia jocosa | W1: Nytobia limitaria | X1: Nematocampa resistaria | Y1: Protoboarmia p indicataria | Z1: Geometridae | AA1: Noctuidae | AB1: Hypagyrtia piniata | AC1: Synaxis pallulata | AD1: Macaria signaria | AE1: Zeiraphera canadensis | AF1: DEFOLIATON ESTIMATE
A2: NFR30 | B2: 30 | C2: Keen Crk (new location 09) | D2: 1 | F2: 1 | J2: 3 | V2: 1 | AF2: Nil
A3: NFR38 | B3: 38 | C3: Hills | D3: 3 | F3: 1 | J3: 1 | X3: 2 | AF3: Nil
A4: NFR58 | B4: 58 | C4: Halfway River | D4: 2 | G4: 1 | AF4: Nil
A5: NFR61 | B5: 61 | C5: Box Lake | D5: 3 | F5: 56 | J5: 11 | L5: 1 | AF5: Nil
A6: NFR62 | B6: 62 | C6: Kuskanax Crk | D6: 4 | H6: 1 | J6: 3 | L6: 2 | S6: 1 | AF6: Nil
A7: NFR65 | B7: 65 | C7: Shelter Bay Ferry | D7: 1 | G7: 1 | AF7: Nil
A8: NFR66 | B8: 66 | C8: Sutherland Falls | D8: 1 | AF8: Nil
A9: NFR69 | B9: 69 | C9: Quartz Crk | F9: 6 | AF9: Nil
A10: NFR70 | B10: 70 | C10: Gerrad | G10: 1 | AF10: Nil
A11: NFR71 | B11: 71 | C11: Trout Lake | D11: 4 | F11: 4 | AF11: Nil
A12: NFR72 | B12: 72 | C12: Tangier FSR | AF12: Nil
A13: NFR73 | B13: 73 | C13: Martha Crk | D13: 1 | AF13: Nil
A14: NFR74 | B14: 74 | C14: Goldstream River | D14: 6 | F14: 3 | AF14: Nil
A15: NFR75 | B15: 75 | C15: Downie Crk | F15: 22 | AF15: Nil
A16: NFR76 | B16: 76 | C16: Bigmouth Crk | AF16: Nil
A17: NFR78 | B17: 78 | C17: Carnes Crk | AF17: Nil
A18: NFR79 | B18: 79 | C18: Lardeau FSR | D18: 1 | AF18: Nil
A19: NFR80 | B19: 80 | C19: Meadow Crk | O19: 1 | AF19: Nil
A20: NFR81 | B20: 81 | C20: Schroeder Crk | AF20: Nil
A21: NFR82 | B21: 82 | C21: Beaton | D21: 1 | K21: 2 | L21: 2 | AF21: Nil
A22: NFR83 | B22: 83 | C22: Begbie Crk | F22: 7 | AF22: Nil
A23: NFR84 | B23: 84 | C23: Pitt Crk Rec Site | F23: 3 | AF23: Nil
A24: NFR85 | B24: 85 | C24: Kinbasket Lk | D24: 2 | F24: 9 | AF24: Nil
A25: NFR86 | B25: 86 | C25: Beaver River | F25: 9 | AF25: Nil
A26: NFR87 | B26: 87 | C26: Jumping Crk | D26: 2 | F26: 4 | AF26: Nil
C27: Total | D27: =SUM(D2:D26) -> 32 | E27: =SUM(E2:E26) -> 0 | F27: =SUM(F2:F26) -> 125 | G27: =SUM(G2:G26) -> 3 | H27: =SUM(H2:H26) -> 1 | I27: =SUM(I2:I26) -> 0 | J27: =SUM(J2:J26) -> 18 | K27: =SUM(K2:K26) -> 2 | ... AE27: =SUM(AE2:AE26) -> 0 | AF27: =SUM(D27:AE27) -> 191

Sheet 2017_NFR
A1: Year | B1: Contract | C1: PSSName | D1: Plot | E1: Location | F1: Western Hemlock Looper | G1: Black-headed budworm | H1: Sawflies | I1: Green-striped forest looper | J1: Western False Hemlock Looper | K1: Gray Spruce Looper | L1: Saddleback Looper | M1: Semiothisa s unipunctaria | N1: Cladara limitaria | O1: Gabriola dyari | P1: Eupithicia olivacea | Q1: Choristoneura occidentalis | R1: Stenoporpia pulmonaria satisfacta | S1: Orgyia sp | T1: Psychidae | U1: Eupithecia spp | V1: Acantholyda | W1: Callophrys rosneri | X1: Feralia jocosa | Y1: Nytobia limitaria | Z1: Nematocampa resistaria | AA1: Protoboarmia p indicataria | AB1: Geometridae | AC1: Noctuidae | AD1: Hypagyrtia piniata | AE1: Synaxis pallulata | AF1: Macaria signaria | AG1: Zeiraphera canadensis | AH1: DEFOLIATON ESTIMATE
A2: 2012 | B2: Art | C2: NFR30 | D2: 30 | E2: Keen Crk (new location 09) | AH2: Nil
A3: 2012 | B3: Art | C3: NFR38 | D3: 38 | E3: Hills | J3: 1 | L3: 1 | AH3: Nil
A4: 2012 | B4: Art | C4: NFR58 | D4: 58 | E4: Halfway River | AH4: Nil
A5: 2012 | B5: Art | C5: NFR61 | D5: 61 | E5: Box Lake | H5: 1 | L5: 1 | AH5: Nil
A6: 2012 | B6: Art | C6: NFR62 | D6: 62 | E6: Kuskanax Crk | J6: 1 | AH6: Nil
A7: 2012 | B7: Art | C7: NFR65 | D7: 65 | E7: Shelter Bay Ferry | AH7: Nil
A8: 2012 | B8: Lorraine | C8: NFR66 | D8: 66 | E8: Sutherland Falls | AC8: 1 | AH8: Nil
A9: 2012 | B9: Lorraine | C9: NFR69 | D9: 69 | E9: Quartz Crk | H9: 2 | Z9: 1 | AH9: Nil
A10: 2012 | B10: Art | C10: NFR70 | D10: 70 | E10: Gerrad | AH10: Nil
C11: NFR71 | D11: 71 | E11: Trout Lake | AH11: Nil
A12: 2012 | B12: Lorraine | C12: NFR72 | D12: 72 | E12: Tangier FSR | AH12: Nil
A13: 2012 | B13: Lorraine | C13: NFR73 | D13: 73 | E13: Martha Crk | AH13: Nil
A14: 2012 | B14: Lorraine | C14: NFR74 | D14: 74 | E14: Goldstream River | AH14: Nil
A15: 2012 | B15: Lorraine | C15: NFR75 | D15: 75 | E15: Downie Crk | L15: 1 | X15: 1 | AH15: Nil
A16: 2012 | B16: Lorraine | C16: NFR76 | D16: 76 | E16: Bigmouth Crk | AH16: Nil
A17: 2012 | B17: Lorraine | C17: NFR78 | D17: 78 | E17: Carnes Crk | AH17: Nil
A18: 2012 | B18: Art | C18: NFR79 | D18: 79 | E18: Lardeau FSR | V18: 1 | AH18: Nil
A19: 2012 | B19: Art | C19: NFR80 | D19: 80 | E19: Meadow Crk | AB19: 1 | AH19: Nil
A20: 2012 | B20: Art | C20: NFR81 | D20: 81 | E20: Schroeder Crk | AH20: Nil
A21: 2012 | B21: Art | C21: NFR82 | D21: 82 | E21: Beaton | I21: 1 | AH21: Nil
A22: 2012 | B22: Lorraine | C22: NFR83 | D22: 83 | E22: Begbie Crk | AH22: Nil
A23: 2012 | B23: Lorraine | C23: NFR84 | D23: 84 | E23: Pitt Crk Rec Site | AH23: Nil
A24: 2012 | B24: Lorraine | C24: NFR85 | D24: 85 | E24: Kinbasket Lk | H24: 2 | AH24: Nil
A25: 2012 | B25: Lorraine | C25: NFR86 | D25: 86 | E25: Beaver River | H25: 2 | X25: 1 | AH25: Nil
A26: 2012 | B26: Lorraine | C26: NFR87 | D26: 87 | E26: Jumping Crk | H26: 3 | AH26: Nil
E27: Total | F27: =SUM(F2:F26) -> 0 | G27: =SUM(G2:G26) -> 0 | H27: =SUM(H2:H26) -> 10 | I27: =SUM(I2:I26) -> 1 | J27: =SUM(J2:J26) -> 2 | K27: =SUM(K2:K26) -> 0 | L27: =SUM(L2:L26) -> 3 | M27: =SUM(M2:M26) -> 0 | ... AG27: =SUM(AG2:AG26) -> 0

Sheet 2016_NFR
A1: Year | B1: Contract | C1: OldRegion | D1: PSSName | E1: Plot | F1: Location | G1: Western Hemlock Looper | H1: Black-headed budworm | I1: Sawflies | J1: Green-striped forest looper | K1: Western False Hemlock Looper | L1: Gray Spruce Looper | M1: Saddleback Looper | N1: Semiothisa s unipunctaria | O1: Cladara limitaria | P1: Gabriola dyari | Q1: Eupithicia olivacea | R1: Choristoneura occidentalis | S1: Stenoporpia pulmonaria satisfacta | T1: Orgyia sp | U1: Psychidae | V1: Eupithecia spp | W1: Acantholyda | X1: Callophrys rosneri | Y1: Nytobia limitaria | Z1: Nematocampa resistaria | AA1: Protoboarmia p indicataria | AB1: Geometridae | AC1: Hypagyrtia piniata | AD1: Synaxis pallulata | AE1: Macaria signaria | AF1: Zeiraphera canadensis | AG1: DEFOLIATON ESTIMATE
A2: 2012 | B2: Art | C2: NFR | D2: NFR30 | E2: 30 | F2: Keen Crk (new location 09)
A3: 2012 | B3: Art | C3: NFR | D3: NFR38 | E3: 38 | F3: Hills
A4: 2012 | B4: Art | C4: NFR | D4: NFR58 | E4: 58 | F4: Halfway River
A5: 2012 | B5: Art | C5: NFR | D5: NFR61 | E5: 61 | F5: Box Lake | K5: 1
A6: 2012 | B6: Art | C6: NFR | D6: NFR62 | E6: 62 | F6: Kuskanax Crk | J6: 1
A7: 2012 | B7: Art | C7: NFR | D7: NFR65 | E7: 65 | F7: Shelter Bay Ferry
A8: 2012 | B8: Lorraine | C8: NFR | D8: NFR66 | E8: 66 | F8: Sutherland Falls | J8: 1
A9: 2012 | B9: Lorraine | C9: NFR | D9: NFR69 | E9: 69 | F9: Quartz Crk
A10: 2012 | B10: Art | C10: NFR | D10: NFR70 | E10: 70 | F10: Gerrad | J10: 1
D11: NFR71 | E11: 71 | F11: Trout Lake | J11: 1
A12: 2012 | B12: Lorraine | C12: NFR | D12: NFR72 | E12: 72 | F12: Tangier FSR
A13: 2012 | B13: Lorraine | C13: NFR | D13: NFR73 | E13: 73 | F13: Martha Crk
A14: 2012 | B14: Lorraine | C14: NFR | D14: NFR74 | E14: 74 | F14: Goldstream River
A15: 2012 | B15: Lorraine | C15: NFR | D15: NFR75 | E15: 75 | F15: Downie Crk
A16: 2012 | B16: Lorraine | C16: NFR | D16: NFR76 | E16: 76 | F16: Bigmouth Crk | J16: 1
A17: 2012 | B17: Lorraine | C17: NFR | D17: NFR78 | E17: 78 | F17: Carnes Crk
A18: 2012 | B18: Art | C18: NFR | D18: NFR79 | E18: 79 | F18: Lardeau FSR | G18: 1
A19: 2012 | B19: Art | C19: NFR | D19: NFR80 | E19: 80 | F19: Meadow Crk
A20: 2012 | B20: Art | C20: NFR | D20: NFR81 | E20: 81 | F20: Schroeder Crk | J20: 1
A21: 2012 | B21: Art | C21: NFR | D21: NFR82 | E21: 82 | F21: Beaton
A22: 2012 | B22: Lorraine | C22: NFR | D22: NFR83 | E22: 83 | F22: Begbie Crk
A23: 2012 | B23: Lorraine | C23: NFR | D23: NFR84 | E23: 84 | F23: Pitt Crk Rec Site
A24: 2012 | B24: Lorraine | C24: NFR | D24: NFR85 | E24: 85 | F24: Kinbasket Lk
A25: 2012 | B25: Lorraine | C25: NFR | D25: NFR86 | E25: 86 | F25: Beaver River
A26: 2012 | B26: Lorraine | C26: NFR | D26: NFR87 | E26: 87 | F26: Jumping Crk
F27: Total | G27: =SUM(G18:G26) -> 1 | J27: =SUM(J2:J26) -> 6 | K27: 1

Sheet 2015_NFR
A1: Year | B1: Contract | C1: OldRegion | D1: PSSName | E1: Plot | F1: Location | G1: Western Hemlock Looper | H1: Black-headed budworm | I1: Sawflies | J1: Green-striped forest looper | K1: Western False Hemlock Looper | L1: Gray Spruce Looper | M1: Saddleback Looper | N1: Semiothisa s unipunctaria | O1: Cladara limitaria | P1: Gabriola dyari | Q1: Eupithicia olivacea | R1: Choristoneura occidentalis | S1: Stenoporpia pulmonaria satisfacta | T1: Orgyia sp | U1: Psychidae | V1: Eupithecia spp | W1: Acantholyda | X1: Callophrys rosneri | Y1: Nytobia limitaria | Z1: Nematocampa resistaria | AA1: Protoboarmia p indicataria | AB1: Geometridae | AC1: Hypagyrtia piniata | AD1: Synaxis pallulata | AE1: Macaria signaria | AF1: Zeiraphera canadensis | AG1: DEFOLIATON ESTIMATE
A2: 2012 | B2: Art | C2: NFR | D2: NFR30 | E2: 30 | F2: Keen Crk (new location 09)
A3: 2012 | B3: Art | C3: NFR | D3: NFR38 | E3: 38 | F3: Hills
A4: 2012 | B4: Art | C4: NFR | D4: NFR58 | E4: 58 | F4: Halfway River
A5: 2012 | B5: Art | C5: NFR | D5: NFR61 | E5: 61 | F5: Box Lake
A6: 2012 | B6: Art | C6: NFR | D6: NFR62 | E6: 62 | F6: Kuskanax Crk
A7: 2012 | B7: Art | C7: NFR | D7: NFR65 | E7: 65 | F7: Shelter Bay Ferry
A8: 2012 | B8: Lorraine | C8: NFR | D8: NFR66 | E8: 66 | F8: Sutherland Falls
A9: 2012 | B9: Lorraine | C9: NFR | D9: NFR69 | E9: 69 | F9: Quartz Crk
A10: 2012 | B10: Art | C10: NFR | D10: NFR70 | E10: 70 | F10: Gerrad | O10: 1
D11: NFR71 | E11: 71 | F11: Trout Lake
A12: 2012 | B12: Lorraine | C12: NFR | D12: NFR72 | E12: 72 | F12: Tangier FSR
A13: 2012 | B13: Lorraine | C13: NFR | D13: NFR73 | E13: 73 | F13: Martha Crk
A14: 2012 | B14: Lorraine | C14: NFR | D14: NFR74 | E14: 74 | F14: Goldstream River
A15: 2012 | B15: Lorraine | C15: NFR | D15: NFR75 | E15: 75 | F15: Downie Crk
A16: 2012 | B16: Lorraine | C16: NFR | D16: NFR76 | E16: 76 | F16: Bigmouth Crk
A17: 2012 | B17: Lorraine | C17: NFR | D17: NFR78 | E17: 78 | F17: Carnes Crk | G17: 1 | H17: 4
A18: 2012 | B18: Art | C18: NFR | D18: NFR79 | E18: 79 | F18: Lardeau FSR
A19: 2012 | B19: Art | C19: NFR | D19: NFR80 | E19: 80 | F19: Meadow Crk | J19: 1
A20: 2012 | B20: Art | C20: NFR | D20: NFR81 | E20: 81 | F20: Schroeder Crk
A21: 2012 | B21: Art | C21: NFR | D21: NFR82 | E21: 82 | F21: Beaton | O21: 1
A22: 2012 | B22: Lorraine | C22: NFR | D22: NFR83 | E22: 83 | F22: Begbie Crk
A23: 2012 | B23: Lorraine | C23: NFR | D23: NFR84 | E23: 84 | F23: Pitt Crk Rec Site | I23: 1
A24: 2012 | B24: Lorraine | C24: NFR | D24: NFR85 | E24: 85 | F24: Kinbasket Lk
A25: 2012 | B25: Lorraine | C25: NFR | D25: NFR86 | E25: 86 | F25: Beaver River
A26: 2012 | B26: Lorraine | C26: NFR | D26: NFR87 | E26: 87 | F26: Jumping Crk | G26: 1 | H26: 8
F27: Total | G27: =SUM(G2:G26) -> 2 | H27: =SUM(H2:H26) -> 12 | I27: =SUM(I2:I26) -> 1 | J27: =SUM(J2:J26) -> 1 | O27: =SUM(O2:O26) -> 2

Sheet 2014_NFR
A1: Year | B1: Contract | C1: OldRegion | D1: PSSName | E1: Plot | F1: Location | G1: Western Hemlock Looper | H1: Black-headed budworm | I1: Sawflies | J1: Green-striped forest looper | K1: Western False Hemlock Looper | L1: Gray Spruce Looper | M1: Saddleback Looper | N1: Semiothisa s unipunctaria | O1: Cladara limitaria | P1: Gabriola dyari | Q1: Eupithicia olivacea | R1: Choristoneura occidentalis | S1: Stenoporpia pulmonaria satisfacta | T1: Orgyia sp | U1: Psychidae | V1: Eupithecia spp | W1: Acantholyda | X1: Callophrys rosneri | Y1: Nytobia limitaria | Z1: Nematocampa resistaria | AA1: Protoboarmia p indicataria | AB1: Geometridae | AC1: Hypagyrtia piniata | AD1: Synaxis pallulata | AE1: Macaria signaria | AF1: Zeiraphera canadensis | AG1: DEFOLIATON ESTIMATE
A2: 2012 | B2: Art | C2: NFR | D2: NFR30 | E2: 30 | F2: Keen Crk (new location 09) | H2: 3
A3: 2012 | B3: Art | C3: NFR | D3: NFR38 | E3: 38 | F3: Hills | H3: 1
A4: 2012 | B4: Art | C4: NFR | D4: NFR58 | E4: 58 | F4: Halfway River | H4: 1 | L4: 1
A5: 2012 | B5: Art | C5: NFR | D5: NFR61 | E5: 61 | F5: Box Lake | H5: 4 | I5: 2
A6: 2012 | B6: Art | C6: NFR | D6: NFR62 | E6: 62 | F6: Kuskanax Crk | H6: 3 | J6: 1 | M6: 1
A7: 2012 | B7: Art | C7: NFR | D7: NFR65 | E7: 65 | F7: Shelter Bay Ferry | H7: 1
A8: 2012 | B8: Lorraine | C8: NFR | D8: NFR66 | E8: 66 | F8: Sutherland Falls | H8: 7 | M8: 1 | O8: 1
A9: 2012 | B9: Lorraine | C9: NFR | D9: NFR69 | E9: 69 | F9: Quartz Crk | I9: 1
A10: 2012 | B10: Art | C10: NFR | D10: NFR70 | E10: 70 | F10: Gerrad
E11: 71 | F11: Trout Lake | G11: 1 | I11: 2
A12: 2012 | B12: Lorraine | C12: NFR | D12: NFR72 | E12: 72 | F12: Tangier FSR | H12: 10 | AG12: Trace - BHB
A13: 2012 | B13: Lorraine | C13: NFR | D13: NFR73 | E13: 73 | F13: Martha Crk
A14: 2012 | B14: Lorraine | C14: NFR | D14: NFR74 | E14: 74 | F14: Goldstream River | H14: 1
A15: 2012 | B15: Lorraine | C15: NFR | D15: NFR75 | E15: 75 | F15: Downie Crk
A16: 2012 | B16: Lorraine | C16: NFR | D16: NFR76 | E16: 76 | F16: Bigmouth Crk | H16: 1 | I16: 1
A17: 2012 | B17: Lorraine | C17: NFR | D17: NFR78 | E17: 78 | F17: Carnes Crk | H17: 1 | O17: 1
A18: 2012 | B18: Art | C18: NFR | D18: NFR79 | E18: 79 | F18: Lardeau FSR | Q18: 1
A19: 2012 | B19: Art | C19: NFR | D19: NFR80 | E19: 80 | F19: Meadow Crk | W19: 1
A20: 2012 | B20: Art | C20: NFR | D20: NFR81 | E20: 81 | F20: Schroeder Crk | H20: 1
A21: 2012 | B21: Art | C21: NFR | D21: NFR82 | E21: 82 | F21: Beaton | I21: 3
A22: 2012 | B22: Lorraine | C22: NFR | D22: NFR83 | E22: 83 | F22: Begbie Crk | I22: 1
A23: 2012 | B23: Lorraine | C23: NFR | D23: NFR84 | E23: 84 | F23: Pitt Crk Rec Site | H23: 5 | I23: 3
A24: 2012 | B24: Lorraine | C24: NFR | D24: NFR85 | E24: 85 | F24: Kinbasket Lk | H24: 5 | I24: 4
A25: 2012 | B25: Lorraine | C25: NFR | D25: NFR86 | E25: 86 | F25: Beaver River | G25: 1 | H25: 47 | I25: 1
A26: 2012 | B26: Lorraine | C26: NFR | D26: NFR87 | E26: 87 | F26: Jumping Crk | G26: 1 | H26: 23 | I26: 12 | J26: 1 | L26: 1 | AG26: Trace -BHB
F27: Total | G27: =SUM(G2:G26) -> 3 | H27: =SUM(H2:H26) -> 114 | I27: =SUM(I2:I26) -> 30 | J27: =SUM(J2:J26) -> 2 | L27: =SUM(L2:L26) -> 2 | M27: =SUM(M2:M26) -> 2 | N27: =SUM(N2:N26) -> 0 | O27: =SUM(O2:O26) -> 2 | P27: =SUM(P2:P26) -> 0 | Q27: =SUM(Q2:Q26) -> 1 | R27: =SUM(R2:R26) -> 0 | S27: =SUM(S2:S26) -> 0 | ... AF27: =SUM(AF2:AF26) -> 0
F28: Average | G28: =G27/25 -> 0.12 | H28: =H27/25 -> 4.56 | I28: =I27/25 -> 1.2 | J28: =J27/25 -> 0.08 | L28: =L27/25 -> 0.08 | M28: =M27/25 -> 0.08 | N28: =N27/25 -> 0 | O28: =O27/25 -> 0.08 | P28: =P27/25 -> 0 | Q28: =Q27/25 -> 0.04 | R28: =R27/25 -> 0 | S28: =S27/25 -> 0 | ... AF28: =AF27/25 -> 0
F29: Average Infested | G29: 1 | H29: =H27/16 -> 7.125 | I29: 3 | J29: 1 | L29: 1 | M29: 1 | O29: 1 | Q29: 1 | W29: 1

Sheet 2013_NFR
A1: Year | B1: Contract | C1: OldRegion | D1: PSSName | E1: Plot | F1: Location | G1: Western Hemlock Looper | H1: Black-headed budworm | I1: Sawflies | J1: Green-striped forest looper | K1: Western False Hemlock Looper | L1: Gray Spruce Looper | M1: Saddleback Looper | N1: Semiothisa s unipunctaria | O1: Cladara limitaria | P1: Gabriola dyari | Q1: Eupithicia olivacea | R1: Choristoneura occidentalis | S1: Stenoporpia pulmonaria satisfacta | T1: Orgyia sp | U1: Psychidae | V1: Eupithecia spp | W1: Acantholyda | X1: Callophrys rosneri | Y1: Nytobia limitaria | Z1: Nematocampa resistaria | AA1: Protoboarmia p indicataria | AB1: Geometridae | AC1: Hypagyrtia piniata | AD1: Synaxis pallulata | AE1: Macaria signaria | AF1: Zeiraphera canadensis | AG1: DEFOLIATON ESTIMATE
A2: 2012 | B2: Art | C2: NFR | D2: NFR30 | E2: 30 | F2: Keen Crk (new location 09) | AI2: 30
A3: 2012 | B3: Art | C3: NFR | D3: NFR38 | E3: 38 | F3: Hills | AI3: 38
A4: 2012 | B4: Art | C4: NFR | D4: NFR58 | E4: 58 | F4: Halfway River | AI4: 58
A5: 2012 | B5: Art | C5: NFR | D5: NFR61 | E5: 61 | F5: Box Lake | AI5: 61
A6: 2012 | B6: Art | C6: NFR | D6: NFR62 | E6: 62 | F6: Kuskanax Crk | AI6: 62
A7: 2012 | B7: Art | C7: NFR | D7: NFR65 | E7: 65 | F7: Shelter Bay Ferry | AI7: 65
A8: 2012 | B8: Lorraine | C8: NFR | D8: NFR66 | E8: 66 | F8: Sutherland Falls | G8: =2+1+0 -> 3 | H8: 2 | J8: 3 | AI8: 66
A9: 2012 | B9: Lorraine | C9: NFR | D9: NFR69 | E9: 69 | F9: Quartz Crk | G9: 0 | I9: 2 | Z9: 1 | AI9: 70
A10: 2012 | B10: Art | C10: NFR | D10: NFR70 | E10: 70 | F10: Gerrad | AI10: 71
E11: 71 | F11: Trout Lake | AI11: 79
A12: 2012 | B12: Lorraine | C12: NFR | D12: NFR72 | E12: 72 | F12: Tangier FSR | G12: =9+5+8 -> 22 | H12: =1+2+3 -> 6 | I12: =11+32+9 -> 52 | J12: 2 | M12: 1 | Z12: 1 | AI12: 80
A13: 2012 | B13: Lorraine | C13: NFR | D13: NFR73 | E13: 73 | F13: Martha Crk | G13: =1+7+13 -> 21 | H13: =1+3 -> 4 | I13: =21+1 -> 22 | K13: =1+4 -> 5 | M13: 1 | AI13: 81
A14: 2012 | B14: Lorraine | C14: NFR | D14: NFR74 | E14: 74 | F14: Goldstream River | G14: =2+1+1 -> 4 | H14: =1 -> 1 | I14: =4+1+1 -> 6 | AI14: 82
A15: 2012 | B15: Lorraine | C15: NFR | D15: NFR75 | E15: 75 | F15: Downie Crk | G15: =1+11+4 -> 16 | H15: 1 | I15: =1+10 -> 11
A16: 2012 | B16: Lorraine | C16: NFR | D16: NFR76 | E16: 76 | F16: Bigmouth Crk | G16: 1 | H16: 4 | I16: =16+5+6 -> 27 | AI16: 69
A17: 2012 | B17: Lorraine | C17: NFR | D17: NFR78 | E17: 78 | F17: Carnes Crk | G17: =2+0+2 -> 4 | H17: 1 | I17: 1 | AI17: 72
A18: 2012 | B18: Art | C18: NFR | D18: NFR79 | E18: 79 | F18: Lardeau FSR | AI18: 73
A19: 2012 | B19: Art | C19: NFR | D19: NFR80 | E19: 80 | F19: Meadow Crk | AI19: 74
A20: 2012 | B20: Art | C20: NFR | D20: NFR81 | E20: 81 | F20: Schroeder Crk | AI20: 75
A21: 2012 | B21: Art | C21: NFR | D21: NFR82 | E21: 82 | F21: Beaton | AI21: 76
A22: 2012 | B22: Lorraine | C22: NFR | D22: NFR83 | E22: 83 | F22: Begbie Crk | G22: =3+2+7 -> 12 | H22: =0+5+3 -> 8 | I22: =4+0+0 -> 4 | M22: 1 | AI22: 78
A23: 2012 | B23: Lorraine | C23: NFR | D23: NFR84 | E23: 84 | F23: Pitt Crk Rec Site | G23: =1+0+11 -> 12 | I23: =3+41+50 -> 94 | Z23: 1 | AI23: 83
A24: 2012 | B24: Lorraine | C24: NFR | D24: NFR85 | E24: 85 | F24: Kinbasket Lk | G24: =0+0+1 -> 1 | I24: =12+21+6 -> 39 | AI24: 84
A25: 2012 | B25: Lorraine | C25: NFR | D25: NFR86 | E25: 86 | F25: Beaver River | G25: =9+12+5 -> 26 | I25: =2+2+10 -> 14 | R25: 1 | AI25: 85
A26: 2012 | B26: Lorraine | C26: NFR | D26: NFR87 | E26: 87 | F26: Jumping Crk | G26: =9+7+6 -> 22 | H26: =7+9+18 -> 34 | I26: =14+8+49+14+60 -> 145 | M26: 1 | P26: 1 | Z26: 1 | AI26: 86
F27: Total | G27: =SUM(G2:G26) -> 144 | H27: =SUM(H2:H26) -> 61 | I27: =SUM(I2:I26) -> 417 | J27: =SUM(J2:J26) -> 5 | K27: =SUM(K2:K26) -> 5 | L27: =SUM(L2:L26) -> 0 | M27: =SUM(M2:M26) -> 4 | N27: =SUM(N2:N26) -> 0 | ... AF27: =SUM(AF2:AF26) -> 0 | AI27: 87
F28: Average | G28: =G27/24 -> 6 | H28: =H27/24 -> 2.5416667 | I28: =I27/24 -> 17.375 | J28: =J27/24 -> 0.20833333 | K28: =K27/24 -> 0.20833333 | L28: =L27/24 -> 0 | M28: =M27/24 -> 0.16666667 | N28: =N27/24 -> 0 | ... AF28: =AF27/24 -> 0
F29: Average Infested | G29: =G27/21 -> 6.8571429 | H29: 2 | I29: =I27/25 -> 16.68

Sheet 2012_NFR 
A1: Year | B1: Contract | C1: OldRegion | D1: PSSName | E1: Plot | F1: Location | G1: Western Hemlock Looper | H1: Black-headed budworm | I1: Sawflies | J1: Green-striped forest looper | K1: Western False Hemlock Looper | L1: Gray Spruce Looper | M1: Saddleback Looper | N1: Semiothisa s unipunctaria | O1: Cladara limitaria | P1: Gabriola dyari | Q1: Eupithicia olivacea | R1: Choristoneura occidentalis | S1: Stenoporpia pulmonaria satisfacta | T1: Orgyia sp | U1: Psychidae | V1: Eupithecia spp | W1: Acantholyda | X1: Callophrys rosneri | Y1: Nytobia limitaria | Z1: Nematocampa resistaria | AA1: Protoboarmia p indicataria | AB1: Geometridae | AC1: Hypagyrtia piniata | AD1: Synaxis pallulata | AE1: Macaria signaria | AF1: Zeiraphera canadensis | AG1: DEFOLIATON ESTIMATE
A2: 2012 | B2: Art | C2: NFR | D2: NFR30 | E2: 30 | F2: Keen Crk (new location 09) | G2: 0 | I2: 11 | AG2: N
A3: 2012 | B3: Art | C3: NFR | D3: NFR38 | E3: 38 | F3: Hills | G3: 0 | I3: 0 | M3: 1 | R3: 2 | AG3: N
A4: 2012 | B4: Art | C4: NFR | D4: NFR58 | E4: 58 | F4: Halfway River | G4: 0 | I4: 0 | J4: 1 | M4: 1 | R4: 1 | AG4: N
A5: 2012 | B5: Art | C5: NFR | D5: NFR61 | E5: 61 | F5: Box Lake | G5: 0 | I5: 0 | M5: 2 | O5: 1 | AG5: N
A6: 2012 | B6: Art | C6: NFR | D6: NFR62 | E6: 62 | F6: Kuskanax Crk | G6: 0 | I6: 0 | J6: 3 | N6: 1 | R6: 5 | AG6: N
A7: 2012 | B7: Art | C7: NFR | D7: NFR65 | E7: 65 | F7: Shelter Bay Ferry | G7: 2 | I7: 2 | J7: 1 | M7: 1 | R7: 1 | AG7: N
A8: 2012 | B8: Lorraine | C8: NFR | D8: NFR66 | E8: 66 | F8: Sutherland Falls | G8: 12 | I8: 9 | K8: 1 | AG8: N
A9: 2012 | B9: Lorraine | C9: NFR | D9: NFR69 | E9: 69 | F9: Quartz Crk | G9: 1 | I9: 2 | R9: 1 | AF9: 1 | AG9: N
A10: 2012 | B10: Art | C10: NFR | D10: NFR70 | E10: 70 | F10: Gerrad | G10: 0 | I10: 8 | J10: 2 | AG10: N
A11: 2012 | B11: Art | C11: NFR | D11: NFR71 | E11: 71 | F11: Trout Lake | H11: No Access - high water
A12: 2012 | B12: Lorraine | C12: NFR | D12: NFR72 | E12: 72 | F12: Tangier FSR | G12: 46 | I12: 9 | P12: 1 | AG12: N
A13: 2012 | B13: Lorraine | C13: NFR | D13: NFR73 | E13: 73 | F13: Martha Crk | G13: 31 | I13: 0 | K13: 1 | AG13: N
A14: 2012 | B14: Lorraine | C14: NFR | D14: NFR74 | E14: 74 | F14: Goldstream River | G14: 15 | I14: 1 | AG14: T
A15: 2012 | B15: Lorraine | C15: NFR | D15: NFR75 | E15: 75 | F15: Downie Crk | G15: 19 | I15: 12 | O15: 1 | AG15: N
A16: 2012 | B16: Lorraine | C16: NFR | D16: NFR76 | E16: 76 | F16: Bigmouth Crk | G16: 68 | I16: 2 | AG16: N
A17: 2012 | B17: Lorraine | C17: NFR | D17: NFR78 | E17: 78 | F17: Carnes Crk | G17: 19 | R17: 3 | AG17: N
A18: 2012 | B18: Art | C18: NFR | D18: NFR79 | E18: 79 | F18: Lardeau FSR | G18: 0 | I18: 40 | J18: 1 | AG18: N
A19: 2012 | B19: Art | C19: NFR | D19: NFR80 | E19: 80 | F19: Meadow Crk | G19: 0 | H19: 1 | I19: 16 | J19: 2 | AG19: N
A20: 2012 | B20: Art | C20: NFR | D20: NFR81 | E20: 81 | F20: Schroeder Crk | G20: 0 | AG20: N
A21: 2012 | B21: Art | C21: NFR | D21: NFR82 | E21: 82 | F21: Beaton | G21: 8 | I21: 12 | AG21: N
A22: 2012 | B22: Lorraine | C22: NFR | D22: NFR83 | E22: 83 | F22: Begbie Crk | G22: 17 | I22: 19 | AG22: N
A23: 2012 | B23: Lorraine | C23: NFR | D23: NFR84 | E23: 84 | F23: Pitt Crk Rec Site | G23: 53 | I23: 55 | AG23: T
A24: 2012 | B24: Lorraine | C24: NFR | D24: NFR85 | E24: 85 | F24: Kinbasket Lk | G24: 11 | I24: 30 | AG24: N
A25: 2012 | B25: Lorraine | C25: NFR | D25: NFR86 | E25: 86 | F25: Beaver River | G25: 79 | I25: 65 | R25: 1 | AG25: N
A26: 2012 | B26: Lorraine | C26: NFR | D26: NFR87 | E26: 87 | F26: Jumping Crk | G26: 72 | I26: 61 | J26: 1 | Y26: 1 | AG26: N
F27: Total | G27: =SUM(G2:G26) -> 453 | H27: =SUM(H2:H26) -> 1 | I27: =SUM(I2:I26) -> 354 | J27: =SUM(J2:J26) -> 11 | K27: =SUM(K2:K26) -> 2 | L27: =SUM(L2:L26) -> 0 | M27: =SUM(M2:M26) -> 5 | N27: =SUM(N2:N26) -> 1 | ... AF27: =SUM(AF2:AF26) -> 1
F28: Average | G28: =G27/24 -> 18.875 | H28: =H27/24 -> 0.041666667 | I28: =I27/24 -> 14.75 | J28: =J27/24 -> 0.45833333 | K28: =K27/24 -> 0.083333333 | L28: =L27/24 -> 0 | M28: =M27/24 -> 0.20833333 | N28: =N27/24 -> 0.041666667 | ... AF28: =AF27/24 -> 0.041666667
F29: Average Infested | G29: =G27/21 -> 21.571429 | H29: 2 | I29: =I27/25 -> 14.16

Sheet 2011_NFR
A1: Year | B1: Contract | C1: OldRegion | D1: PSSName | E1: Plot | F1: Location | G1: Western Hemlock Looper | H1: Black-headed budworm | I1: Sawflies | J1: Green-striped forest looper | K1: Western False Hemlock Looper | L1: Gray Spruce Looper | M1: Saddleback Looper | N1: Semiothisa s unipunctaria | O1: Cladara limitaria | P1: Gabriola dyari | Q1: Eupithicia olivacea | R1: Choristoneura occidentalis | S1: Stenoporpia pulmonaria satisfacta | T1: Orgyia sp | U1: Psychidae | V1: Eupithecia spp | W1: Acantholyda | X1: Callophrys rosneri | Y1: Nytobia limitaria | Z1: Protoboarmia p indicataria | AA1: Geometridae | AB1: Hypagyrtia piniata | AC1: Synaxis pallulata | AD1: Macaria signaria | AE1: DEFOLIATON ESTIMATE
A2: 2011 | B2: Art | C2: NFR | D2: NFR30 | E2: 30 | F2: Keen Crk (new location 09) | G2: 0 | H2: 0 | I2: 53 | J2: 0 | K2: 0 | L2: 0 | M2: 0 | N2: 0 | O2: 0 | P2: 0 | Q2: 0 | R2: 0 | S2: 0 | T2: 0 | U2: 0 | V2: 0 | W2: 0 | X2: 0 | Y2: 0 | Z2: 0 | AA2: 0 | AB2: 0 | AC2: 0 | AD2: 0 | AE2: NIl
A3: 2011 | B3: Art | C3: NFR | D3: NFR38 | E3: 38 | F3: Hills | G3: 2 | H3: 0 | I3: 26 | J3: 1 | K3: 1 | L3: 0 | M3: 4 | N3: 0 | O3: 0 | P3: 0 | Q3: 0 | R3: 1 | S3: 1 | T3: 1 | U3: 1 | V3: 1 | W3: 1 | X3: 1 | Y3: 1 | Z3: 1 | AA3: 1 | AB3: 1 | AC3: 1 | AD3: 0 | AE3: NIl
A4: 2011 | B4: Art | C4: NFR | D4: NFR58 | E4: 58 | F4: Halfway River | G4: 4 | H4: 1 | I4: 7 | J4: 0 | K4: 5 | L4: 0 | M4: 0 | N4: 0 | O4: 0 | P4: 0 | Q4: 0 | R4: 0 | S4: 0 | T4: 0 | U4: 0 | V4: 0 | W4: 0 | X4: 0 | Y4: 0 | Z4: 0 | AA4: 0 | AB4: 0 | AC4: 0 | AD4: 0 | AE4: NIl
A5: 2011 | B5: Art | C5: NFR | D5: NFR61 | E5: 61 | F5: Box Lake | G5: 1 | H5: 0 | I5: 18 | J5: 0 | K5: 0 | L5: 0 | M5: 4 | N5: 0 | O5: 0 | P5: 0 | Q5: 0 | R5: 0 | S5: 0 | T5: 0 | U5: 0 | V5: 0 | W5: 0 | X5: 0 | Y5: 0 | Z5: 0 | AA5: 0 | AB5: 0 | AC5: 0 | AD5: 0 | AE5: NIl
A6: 2011 | B6: Art | C6: NFR | D6: NFR62 | E6: 62 | F6: Kuskanax Crk | G6: 5 | H6: 3 | I6: 9 | J6: 1 | K6: 5 | L6: 0 | M6: 0 | N6: 1 | O6: 0 | P6: 0 | Q6: 0 | R6: 0 | S6: 0 | T6: 0 | U6: 0 | V6: 0 | W6: 0 | X6: 0 | Y6: 0 | Z6: 0 | AA6: 0 | AB6: 0 | AC6: 0 | AD6: 0 | AE6: NIl
A7: 2011 | B7: Art | C7: NFR | D7: NFR65 | E7: 65 | F7: Shelter Bay Ferry | G7: 3 | H7: 0 | I7: 3 | J7: 1 | K7: 0 | L7: 0 | M7: 0 | N7: 0 | O7: 0 | P7: 0 | Q7: 0 | R7: 0 | S7: 0 | T7: 0 | U7: 0 | V7: 0 | W7: 0 | X7: 0 | Y7: 0 | Z7: 0 | AA7: 0 | AB7: 0 | AC7: 0 | AD7: 0 | AE7: NIl
A8: 2011 | B8: Lorraine | C8: NFR | D8: NFR66 | E8: 66 | F8: Sutherland Falls | G8: 3 | H8: 0 | I8: 6 | J8: 1 | K8: 1 | L8: 0 | M8: 0 | N8: 0 | O8: 0 | P8: 0 | Q8: 0 | R8: 0 | S8: 0 | T8: 0 | U8: 0 | V8: 0 | W8: 0 | X8: 0 | Y8: 0 | Z8: 0 | AA8: 0 | AB8: 0 | AC8: 0 | AD8: 0 | AE8: NIl
A9: 2011 | B9: Lorraine | C9: NFR | D9: NFR69 | E9: 69 | F9: Quartz Crk | G9: 3 | H9: 0 | I9: 12 | J9: 0 | K9: 0 | L9: 0 | M9: 0 | N9: 0 | O9: 0 | P9: 0 | Q9: 0 | R9: 1 | S9: 0 | T9: 0 | U9: 0 | V9: 0 | W9: 0 | X9: 0 | Y9: 0 | Z9: 0 | AA9: 0 | AB9: 0 | AC9: 0 | AD9: 0 | AE9: NIl
A10: 2011 | B10: Art | C10: NFR | D10: NFR70 | E10: 70 | F10: Gerrad | G10: 1 | H10: 0 | I10: 46 | J10: 0 | K10: 0 | L10: 1 | M10: 0 | N10: 0 | O10: 0 | P10: 0 | Q10: 0 | R10: 0 | S10: 0 | T10: 0 | U10: 0 | V10: 0 | W10: 0 | X10: 0 | Y10: 0 | Z10: 0 | AA10: 0 | AB10: 0 | AC10: 0 | AD10: 0 | AE10: NIl
A11: 2011 | B11: Art | C11: NFR | D11: NFR71 | E11: 71 | F11: Trout Lake | G11: 45 | H11: 0 | I11: 16 | J11: 0 | K11: 0 | L11: 0 | M11: 0 | N11: 0 | O11: 0 | P11: 0 | Q11: 0 | R11: 0 | S11: 0 | T11: 0 | U11: 0 | V11: 0 | W11: 0 | X11: 0 | Y11: 0 | Z11: 0 | AA11: 0 | AB11: 0 | AC11: 0 | AD11: 0 | AE11: NIl
A12: 2011 | B12: Lorraine | C12: NFR | D12: NFR72 | E12: 72 | F12: Tangier FSR | G12: 38 | H12: 0 | I12: 55 | J12: 0 | K12: 0 | L12: 0 | M12: 0 | N12: 0 | O12: 0 | P12: 0 | Q12: 0 | R12: 0 | S12: 0 | T12: 0 | U12: 0 | V12: 0 | W12: 0 | X12: 0 | Y12: 0 | Z12: 0 | AA12: 0 | AB12: 0 | AC12: 2 | AD12: 0 | AE12: NIl
A13: 2011 | B13: Lorraine | C13: NFR | D13: NFR73 | E13: 73 | F13: Martha Crk | G13: 2 | H13: 0 | I13: 57 | J13: 0 | K13: 0 | L13: 0 | M13: 0 | N13: 0 | O13: 0 | P13: 0 | Q13: 0 | R13: 0 | S13: 0 | T13: 0 | U13: 0 | V13: 0 | W13: 0 | X13: 0 | Y13: 0 | Z13: 0 | AA13: 0 | AB13: 0 | AC13: 0 | AD13: 0 | AE13: NIl
... A25: 2011 | B25: Lorraine | C25: NFR | D25: NFR86 | E25: 86 | F25: Beaver River | G25: 107 | H25: 0 | I25: 31 | J25: 0 | K25: 0 | L25: 0 | M25: 0 | N25: 0 | O25: 0 | P25: 0 | Q25: 0 | R25: 0 | S25: 0 | T25: 0 | U25: 0 | V25: 0 | W25: 0 | X25: 0 | Y25: 0 | Z25: 0 | AA25: 0 | AB25: 0 | AC25: 0 | AD25: 0 | AE25: T
A26: 2011 | B26: Lorraine | C26: NFR | D26: NFR87 | E26: 87 | F26: Jumping Crk | G26: 3 | H26: 0 | I26: 67 | J26: 0 | K26: 0 | L26: 0 | M26: 0 | N26: 0 | O26: 0 | P26: 0 | Q26: 0 | R26: 0 | S26: 0 | T26: 0 | U26: 0 | V26: 0 | W26: 0 | X26: 0 | Y26: 0 | Z26: 0 | AA26: 0 | AB26: 0 | AC26: 0 | AD26: 0
F27: Total | G27: =SUM(G2:G26) -> 548 | H27: =SUM(H2:H26) -> 4 | I27: =SUM(I2:I26) -> 688 | J27: =SUM(J2:J26) -> 8 | K27: =SUM(K2:K26) -> 14 | L27: =SUM(L2:L26) -> 1 | M27: =SUM(M2:M26) -> 11 | N27: =SUM(N2:N26) -> 1 | ... AD27: =SUM(AD2:AD26) -> 1
F28: Average | G28: =G27/25 -> 21.92 | H28: =H27/25 -> 0.16 | I28: =I27/25 -> 27.52 | J28: =J27/25 -> 0.32 | K28: =K27/25 -> 0.56 | L28: =L27/25 -> 0.04 | M28: =M27/25 -> 0.44 | N28: =N27/25 -> 0.04 | ... AD28: =AD27/25 -> 0.04
F29: Average Infested | G29: =G27/21 -> 26.095238 | H29: 2 | I29: =I27/25 -> 27.52

Sheet 2010_NFR
D1: PRIMARY
A2: Contract | B2: Plot | C2: Location | D2: Western Hemlock Looper | E2: Black-headed budworm | F2: Sawflies | G2: Western False Hemlock Looper | H2: Gray Spruce Looper | I2: Saddleback Looper | J2: Nematocampa resistaria | K2: Eupithicia olivacea | L2: Eupithecia placidata | M2: Dasychira grisefacta | N2: Cladara limitaria | O2: Gabriola dyari | P2: Choristoneura occidentalis | Q2: Stenoporpia pulmonaria satisfacta | R2: DEFOLIATON ESTIMATE
A3: Art | B3: 30 | C3: Keen Crk (new location 09) | D3: 0 | E3: 0 | F3: 75 | G3: 0 | H3: 1 | I3: 0 | J3: 0 | K3: 0 | L3: 0 | M3: 0 | N3: 0 | O3: 0 | P3: 0 | Q3: 0 | R3: N
A4: Art | B4: 38 | C4: Hills | D4: 1 | E4: 0 | F4: 15 | G4: 0 | H4: 0 | I4: 0 | J4: 0 | K4: 0 | L4: 0 | M4: 0 | N4: 0 | O4: 0 | P4: 0 | Q4: 0 | R4: N
A5: Art | B5: 58 | C5: Halfway River | D5: 0 | E5: 0 | F5: 0 | G5: 0 | H5: 0 | I5: 0 | J5: 0 | K5: 1 | L5: 0 | M5: 0 | N5: 0 | O5: 0 | P5: 0 | Q5: 0 | R5: N
A6: Art | B6: 61 | C6: Box Lake | D6: 1 | E6: 0 | F6: 176 | G6: 0 | H6: 0 | I6: 1 | J6: 0 | K6: 0 | L6: 0 | M6: 0 | N6: 0 | O6: 0 | P6: 0 | Q6: 0 | R6: N
A7: Art | B7: 62 | C7: Kuskanax Crk | D7: 7 | E7: 0 | F7: 2 | G7: 3 | H7: 0 | I7: 0 | J7: 0 | K7: 0 | L7: 0 | M7: 0 | N7: 0 | O7: 0 | P7: 0 | Q7: 0 | R7: N
A8: Art | B8: 65 | C8: Shelter Bay Ferry | D8: 0 | E8: 0 | F8: 34 | G8: 0 | H8: 0 | I8: 0 | J8: 0 | K8: 0 | L8: 0 | M8: 0 | N8: 0 | O8: 0 | P8: 0 | Q8: 0 | R8: N
A9: Art | B9: 70 | C9: Gerrad | D9: 1 | E9: 0 | F9: 31 | G9: 0 | H9: 0 | I9: 0 | J9: 0 | K9: 0 | L9: 0 | M9: 0 | N9: 0 | O9: 0 | P9: 0 | Q9: 0 | R9: N
A10: Art | B10: 71 | C10: Trout Lake | D10: 0 | E10: 0 | F10: 116 | G10: 0 | H10: 0 | I10: 0 | J10: 0 | K10: 0 | L10: 0 | M10: 0 | N10: 1 | O10: 0 | P10: 0 | Q10: 0 | R10: N
A11: Art | B11: 79 | C11: Lardeau FSR | D11: 0 | E11: 0 | F11: 22 | G11: 0 | H11: 0 | I11: 0 | J11: 0 | K11: 0 | L11: 0 | M11: 0 | N11: 0 | O11: 0 | P11: 0 | Q11: 0 | R11: N
A12: Art | B12: 80 | C12: Meadow Crk | D12: 0 | E12: 0 | F12: 12 | G12: 0 | H12: 0 | I12: 0 | J12: 0 | K12: 0 | L12: 0 | M12: 0 | N12: 0 | O12: 0 | P12: 0 | Q12: 0 | R12: N
A13: Art | B13: 81 | C13: Schroeder Crk | D13: 0 | E13: 0 | F13: 2 | G13: 0 | H13: 0 | I13: 0 | J13: 0 | K13: 0 | L13: 1 | M13: 0 | N13: 0 | O13: 0 | P13: 0 | Q13: 0 | R13: N
A14: Art | B14: 82 | C14: Beaton | D14: 2 | E14: 0 | F14: 0 | G14: 0 | H14: 0 | I14: 0 | J14: 0 | K14: 0 | L14: 0 | M14: 0 | N14: 0 | O14: 0 | P14: 0 | Q14: 0 | R14: N
... A27: Lorraine | B27: 87 | C27: Jumping Crk | D27: 1 | E27: 0 | F27: 38 | G27: 0 | H27: 0 | I27: 0 | J27: 0 | K27: 0 | L27: 0 | M27: 0 | N27: 0 | O27: 0 | P27: 0 | Q27: 1 | R27: N
C28: Total | D28: =SUM(D3:D27) -> 59 | E28: =SUM(E3:E27) -> 0 | F28: =SUM(F3:F27) -> 899 | G28: =SUM(G3:G27) -> 4 | H28: =SUM(H3:H27) -> 1 | I28: =SUM(I3:I27) -> 2 | J28: =SUM(J3:J27) -> 1 | K28: =SUM(K3:K27) -> 1 | ... Q28: =SUM(Q3:Q27) -> 3
C29: Average | D29: =D28/25 -> 2.36 | E29: =E28/25 -> 0 | F29: =F28/25 -> 35.96 | G29: =G28/25 -> 0.16 | H29: =H28/25 -> 0.04 | I29: =I28/25 -> 0.08 | J29: =J28/25 -> 0.04 | K29: =K28/25 -> 0.04 | ... Q29: =Q28/25 -> 0.12
C30: Average Infested | D30: =D28/17 -> 3.4705882 | E30: =E28/2 -> 0 | F30: =F28/21 -> 42.809524 | G30: =G28/2 -> 2 | H30: =H28/1 -> 1 | I30: =I28/2 -> 1 | J30: =J28/1 -> 1 | K30: =K28/1 -> 1 | L30: =L28/1 -> 1 | M30: =M28/1 -> 1 | N30: =N28/2 -> 1 | O30: =O28/1 -> 1 | P30: =P28/1 -> 1 | Q30: =Q28/3 -> 1
C31: % Positive | D31: =17/25*100 -> 68

Sheet 2009
D1: PRIMARY | G1: SECONDARY | L1: OTHER DEFOLIATORS
A2: Contract | B2: Plot | C2: Location | D2: Western Hemlock Looper | E2: Black-headed budworm | F2: Sawflies | G2: Green-striped forest looper | H2: Western False Hemlock Looper | I2: Gray Spruce Looper | J2: Saddleback Looper | K2: Nematocampa filamentaria | L2: Semiothisa s. unipunctaria | M2: Eupethicia spp. | N2: Cosmia praecuta | O2: Dasychira grisefacta | P2: Cladara limitaria | Q2: Gabriola dyari | R2: Cosmia spp. | S2: DEFOLIATON ESTIMATE
A3: Art | B3: 30 | C3: Keen Crk (new location 09) | D3: 1 | E3: 0 | F3: 38 | G3: 0 | H3: 0 | I3: 0 | J3: 0 | K3: 0 | L3: 1 | M3: 1 | N3: 0 | O3: 0 | P3: 0 | Q3: 0 | R3: 0 | S3: N | U3: Art | V3: 30
A4: Art | B4: 38 | C4: Hills | D4: 1 | E4: 0 | F4: 1 | G4: 0 | H4: 5 | I4: 0 | J4: 0 | K4: 0 | L4: 0 | M4: 0 | N4: 0 | O4: 0 | P4: 0 | Q4: 0 | R4: 0 | S4: N | U4: Art | V4: 38
A5: Art | B5: 58 | C5: Halfway River | D5: 1 | E5: 0 | F5: 0 | G5: 0 | H5: 5 | I5: 0 | J5: 0 | K5: 0 | L5: 4 | M5: 1 | N5: 0 | O5: 0 | P5: 1 | Q5: 0 | R5: 0 | S5: N | U5: Art | V5: 58
A6: Art | B6: 61 | C6: Box Lake | D6: 1 | E6: 0 | F6: 4 | G6: 0 | H6: 0 | I6: 0 | J6: 0 | K6: 0 | L6: 1 | M6: 0 | N6: 0 | O6: 1 | P6: 0 | Q6: 0 | R6: 0 | S6: N | U6: Art | V6: 61
A7: Art | B7: 62 | C7: Kuskanax Crk | D7: 4 | E7: 0 | F7: 0 | G7: 0 | H7: 23 | I7: 0 | J7: 0 | K7: 0 | L7: 2 | M7: 0 | N7: 0 | O7: 0 | P7: 0 | Q7: 0 | R7: 0 | S7: N | U7: Art | V7: 62
A8: Art | B8: 65 | C8: Shelter Bay Ferry | D8: 1 | E8: 0 | F8: 0 | G8: 0 | H8: 0 | I8: 0 | J8: 0 | K8: 0 | L8: 0 | M8: 2 | N8: 0 | O8: 0 | P8: 0 | Q8: 0 | R8: 0 | S8: N | U8: Art | V8: 65
A9: Lorraine | B9: 66 | C9: Sutherland Falls | D9: 0 | E9: 0 | F9: 0 | G9: 0 | H9: 0 | I9: 0 | J9: 0 | K9: 0 | L9: 0 | M9: 0 | N9: 0 | O9: 1 | P9: 0 | Q9: 0 | R9: 0 | S9: N | U9: Art | V9: 70
A10: Lorraine | B10: 69 | C10: Quartz Crk | D10: 0 | E10: 1 | F10: 6 | G10: 0 | H10: 0 | I10: 0 | J10: 0 | K10: 0 | L10: 0 | M10: 0 | N10: 0 | O10: 0 | P10: 0 | Q10: 0 | R10: 0 | S10: N | U10: Art | V10: 71
A11: Art | B11: 70 | C11: Gerrad | D11: 1 | E11: 0 | F11: 2 | G11: 0 | H11: 0 | I11: 0 | J11: 0 | K11: 0 | L11: 0 | M11: 1 | N11: 0 | O11: 0 | P11: 0 | Q11: 0 | R11: 0 | S11: N | U11: Art | V11: 79
A12: Art | B12: 71 | C12: Trout Lake | D12: 1 | E12: 0 | F12: 38 | G12: 0 | H12: 0 | I12: 0 | J12: 0 | K12: 0 | L12: 0 | M12: 0 | N12: 0 | O12: 0 | P12: 1 | Q12: 0 | R12: 0 | S12: N | U12: Art | V12: 80
A13: Lorraine | B13: 72 | C13: Tangier FSR | D13: 0 | E13: 0 | F13: 8 | G13: 0 | H13: 0 | I13: 1 | J13: 0 | K13: 0 | L13: 0 | M13: 0 | N13: 0 | O13: 0 | P13: 0 | Q13: 0 | R13: 0 | S13: N | U13: Art | V13: 81
A14: Lorraine | B14: 73 | C14: Martha Crk | D14: 0 | E14: 0 | F14: 1 | G14: 0 | H14: 0 | I14: 0 | J14: 0 | K14: 0 | L14: 0 | M14: 1 | N14: 0 | O14: 0 | P14: 0 | Q14: 0 | R14: 0 | S14: N | U14: Art | V14: 82
A15: Lorraine | B15: 74 | C15: Goldstream River | D15: 1 | E15: 0 | F15: 58 | G15: 0 | H15: 0 | I15: 0 | J15: 0 | K15: 0 | L15: 0 | M15: 0 | N15: 0 | O15: 0 | P15: 0 | Q15: 0 | R15: 0 | S15: T
A16: Lorraine | B16: 75 | C16: Downie Crk | D16: 0 | E16: 0 | F16: 6 | G16: 0 | H16: 0 | I16: 0 | J16: 0 | K16: 0 | L16: 0 | M16: 0 | N16: 0 | O16: 0 | P16: 0 | Q16: 1 | R16: 0 | S16: N
A17: Lorraine | B17: 76 | C17: Bigmouth Crk | D17: 1 | E17: 0 | F17: 6 | G17: 0 | H17: 0 | I17: 0 | J17: 0 | K17: 0 | L17: 0 | M17: 0 | N17: 0 | O17: 1 | P17: 0 | Q17: 0 | R17: 0 | S17: N
A18: Lorraine | B18: 78 | C18: Carnes Crk | D18: 0 | E18: 0 | F18: 0 | G18: 0 | H18: 0 | I18: 0 | J18: 0 | K18: 0 | L18: 0 | M18: 0 | N18: 0 | O18: 0 | P18: 0 | Q18: 0 | R18: 0 | S18: N
A19: Art | B19: 79 | C19: Lardeau FSR | D19: 1 | E19: 0 | F19: 0 | G19: 0 | H19: 0 | I19: 0 | J19: 0 | K19: 0 | L19: 0 | M19: 0 | N19: 1 | O19: 0 | P19: 0 | Q19: 0 | R19: 1 | S19: N
A20: Art | B20: 80 | C20: Meadow Crk | D20: 2 | E20: 0 | F20: 1 | G20: 0 | H20: 0 | I20: 0 | J20: 0 | K20: 0 | L20: 0 | M20: 1 | N20: 0 | O20: 0 | P20: 1 | Q20: 0 | R20: 0 | S20: N
A21: Art | B21: 81 | C21: Schroeder Crk | D21: 0 | E21: 0 | F21: 0 | G21: 0 | H21: 0 | I21: 0 | J21: 0 | K21: 0 | L21: 0 | M21: 0 | N21: 0 | O21: 0 | P21: 0 | Q21: 0 | R21: 0 | S21: N
A22: Art | B22: 82 | C22: Beaton | D22: 0 | E22: 0 | F22: 0 | G22: 1 | H22: 0 | I22: 0 | J22: 0 | K22: 0 | L22: 12 | M22: 0 | N22: 0 | O22: 1 | P22: 0 | Q22: 0 | R22: 0 | S22: N
A23: Lorraine | B23: 83 | C23: Begbie Crk | D23: 0 | E23: 0 | F23: 2 | G23: 0 | H23: 0 | I23: 0 | J23: 0 | K23: 0 | L23: 0 | M23: 0 | N23: 0 | O23: 0 | P23: 0 | Q23: 0 | R23: 0 | S23: N
A24: Lorraine | B24: 84 | C24: Pitt Crk Rec Site | D24: 0 | E24: 0 | F24: 205 | G24: 0 | H24: 0 | I24: 0 | J24: 0 | K24: 1 | L24: 1 | M24: 0 | N24: 0 | O24: 0 | P24: 1 | Q24: 0 | R24: 0 | S24: T
A25: Lorraine | B25: 85 | C25: Kinbasket Lk | D25: 6 | E25: 0 | F25: 10 | G25: 0 | H25: 0 | I25: 0 | J25: 0 | K25: 1 | L25: 0 | M25: 0 | N25: 0 | O25: 0 | P25: 1 | Q25: 0 | R25: 0 | S25: N
A26: Lorraine | B26: 86 | C26: Beaver River | D26: 1 | E26: 1 | F26: 123 | G26: 1 | H26: 0 | I26: 0 | J26: 0 | K26: 0 | L26: 4 | M26: 0 | N26: 0 | O26: 1 | P26: 1 | Q26: 0 | R26: 0 | S26: T
A27: Lorraine | B27: 87 | C27: Jumping Crk | D27: 1 | E27: 0 | F27: 1 | G27: 1 | H27: 0 | I27: 0 | J27: 1 | K27: 0 | L27: 0 | M27: 0 | N27: 0 | O27: 0 | P27: 1 | Q27: 0 | R27: 0 | S27: N
C28: Total | D28: =SUM(D3:D27) -> 24 | E28: =SUM(E3:E27) -> 2 | F28: =SUM(F3:F27) -> 510 | G28: =SUM(G3:G27) -> 3 | H28: =SUM(H3:H27) -> 33 | I28: =SUM(I3:I27) -> 1 | J28: =SUM(J3:J27) -> 1 | K28: =SUM(K3:K27) -> 2 | ... R28: =SUM(R3:R27) -> 1
C29: Average | D29: =D28/25 -> 0.96 | E29: =E28/25 -> 0.08 | F29: =F28/25 -> 20.4 | G29: =G28/25 -> 0.12 | H29: =H28/25 -> 1.32 | I29: =I28/25 -> 0.04 | J29: =J28/25 -> 0.04 | K29: =K28/25 -> 0.08 | ... R29: =R28/25 -> 0.04
C30: Average Infested | D30: =D28/15 -> 1.6 | E30: =E28/2 -> 1 | F30: =F28/17 -> 30 | G30: =G28/3 -> 1 | H30: =H28/3 -> 11 | I30: =I28/1 -> 1 | J30: =J28/1 -> 1 | K30: =K28/2 -> 1 | L30: =L28/7 -> 3.5714286 | M30: =M28/6 -> 1.1666667 | N30: =N28/1 -> 1 | O30: =O28/5 -> 1 | P30: =P28/7 -> 1 | Q30: =Q28/1 -> 1 | R30: =R28/1 -> 1
C31: % Positive | D31: =14/25*100 -> 56

Sheet 2008
B1: Important Note: Beating Size 2M*3M = 6M2
D2: PRIMARY | G2: SECONDARY | M2: OTHER DEFOLIATORS
B3: Plot | C3: Location | D3: Western Hemlock Looper | E3: Black-headed budworm | F3: Sawflies | G3: Green-striped forest looper | H3: Western False Hemlock Looper | I3: Gray Spruce Looper | J3: Saddleback Looper | K3: Nematocampa filamentaria | L3: Choristonerua occidentalis | M3: Semiothisa s. unipunctaria | N3: Eupethicia spp. | O3: Feralia spp | P3: Pamphiliidae sp | Q3: Cosmia praecuta | R3: Dasychira grisefacta | S3: Cladara limitaria | T3: DEFOLIATON ESTIMATE
A4: Lorraine | B4: 69 | C4: Quartz Crk | D4: 0 | E4: 0 | F4: 26 | G4: 0 | H4: 0 | I4: 0 | J4: 0 | K4: 1 | L4: 1 | M4: 0 | N4: 0 | O4: 0 | P4: 0 | Q4: 0 | R4: 0 | S4: 0 | T4: N
A5: Lorraine | B5: 72 | C5: Tangier FSR | D5: 0 | E5: 0 | F5: 0 | G5: 0 | H5: 0 | I5: 0 | J5: 0 | K5: 0 | L5: 0 | M5: 0 | N5: 0 | O5: 0 | P5: 0 | Q5: 0 | R5: 0 | S5: 0 | T5: N
A6: Lorraine | B6: 86 | C6: Beaver River | D6: 1 | E6: 0 | F6: 154 | G6: 0 | H6: 0 | I6: 0 | J6: 0 | K6: 1 | L6: 0 | M6: 0 | N6: 0 | O6: 0 | P6: 0 | Q6: 0 | R6: 1 | S6: 0 | T6: T
A7: Lorraine | B7: 87 | C7: Jumping Crk | D7: 0 | E7: 1 | F7: 0 | G7: 0 | H7: 0 | I7: 0 | J7: 0 | K7: 0 | L7: 0 | M7: 0 | N7: 0 | O7: 0 | P7: 0 | Q7: 0 | R7: 0 | S7: 0 | T7: N
A8: Lorraine | B8: 73 | C8: Martha Crk | D8: 0 | E8: 0 | F8: 0 | G8: 0 | H8: 0 | I8: 0 | J8: 0 | K8: 0 | L8: 0 | M8: 0 | N8: 0 | O8: 0 | P8: 0 | Q8: 0 | R8: 0 | S8: 0 | T8: N
A9: Lorraine | B9: 74 | C9: Goldstream River | D9: 0 | E9: 0 | F9: 30 | G9: 2 | H9: 0 | I9: 0 | J9: 0 | K9: 2 | L9: 0 | M9: 0 | N9: 0 | O9: 0 | P9: 0 | Q9: 0 | R9: 0 | S9: 0 | T9: N
A10: Lorraine | B10: 75 | C10: Downie Crk | D10: 0 | E10: 0 | F10: 7 | G10: 0 | H10: 0 | I10: 0 | J10: 0 | K10: 1 | L10: 0 | M10: 0 | N10: 0 | O10: 0 | P10: 0 | Q10: 0 | R10: 0 | S10: 0 | T10: N
A11: Lorraine | B11: 76 | C11: Bigmouth Crk | D11: 0 | E11: 0 | F11: 16 | G11: 0 | H11: 0 | I11: 0 | J11: 0 | K11: 0 | L11: 0 | M11: 0 | N11: 0 | O11: 0 | P11: 0 | Q11: 0 | R11: 0 | S11: 0 | T11: N
A12: Lorraine | B12: 78 | C12: Carnes Crk | D12: 1 | E12: 0 | F12: 0 | G12: 0 | H12: 0 | I12: 0 | J12: 0 | K12: 0 | L12: 0 | M12: 0 | N12: 0 | O12: 0 | P12: 0 | Q12: 0 | R12: 0 | S12: 0 | T12: N
A13: Lorraine | B13: 84 | C13: Pitt Crk Rec Site | D13: 0 | E13: 1 | F13: 92 | G13: 0 | H13: 0 | I13: 0 | J13: 0 | K13: 1 | L13: 0 | M13: 0 | N13: 0 | O13: 0 | P13: 0 | Q13: 1 | R13: 0 | S13: 0 | T13: T
A14: Lorraine | B14: 85 | C14: Kinbasket Lk | D14: 0 | E14: 0 | F14: 0 | G14: 0 | H14: 0 | I14: 0 | J14: 0 | K14: 0 | L14: 0 | M14: 0 | N14: 0 | O14: 0 | P14: 0 | Q14: 0 | R14: 0 | S14: 1 | T14: N
A15: Art | B15: 30 | C15: Keen Crk | D15: 4 | E15: 0 | F15: 142 | G15: 0 | H15: 0 | I15: 0 | J15: 0 | K15: 0 | L15: 54 | M15: 0 | N15: 0 | O15: 0 | P15: 0 | Q15: 0 | R15: 0 | S15: 0 | T15: N
... A28: Art | B28: 82 | C28: Beaton | D28: 0 | E28: 0 | F28: 0 | G28: 0 | H28: 0 | I28: 0 | J28: 0 | K28: 0 | L28: 1 | M28: 0 | N28: 0 | O28: 1 | P28: 0 | Q28: 0 | R28: 0 | S28: 0 | T28: N
C29: Total | D29: =SUM(D4:D28) -> 8 | E29: =SUM(E4:E28) -> 4 | F29: =SUM(F4:F28) -> 499 | G29: =SUM(G4:G28) -> 3 | H29: =SUM(H4:H28) -> 12 | I29: =SUM(I4:I28) -> 0 | J29: =SUM(J4:J28) -> 1 | K29: =SUM(K4:K28) -> 6 | ... S29: =SUM(S4:S28) -> 2
C30: Average | D30: =D29/25 -> 0.32 | E30: =E29/25 -> 0.16 | F30: =F29/25 -> 19.96 | G30: =G29/25 -> 0.12 | H30: =H29/25 -> 0.48 | I30: =I29/25 -> 0 | J30: =J29/25 -> 0.04 | K30: =K29/25 -> 0.24 | ... S30: =S29/25 -> 0.08
C31: Average Infested | D31: =D29/5 -> 1.6 | E31: =E29/3 -> 1.3333333 | F31: =F29/14 -> 35.642857 | G31: =G29/3 -> 1 | H31: =H29/2 -> 6 | I31: =I29/3 -> 0 | J31: =J29/1 -> 1 | K31: =K29/5 -> 1.2 | L31: =L29/4 -> 14.75 | M31: =M29/3 -> 0 | N31: =N29/1 -> 1 | O31: =O29/3 -> 0.33333333 | P31: =P29/3 -> 0 | Q31: =Q29/1 -> 1 | R31: =R29/1 -> 1 | S31: =S29/2 -> 1
C32: % Positive | D32: =5/25*100 -> 20

Sheet 2007
B1: Important Note: Beating Size 2M*3M = 6M2
D2: PRIMARY | G2: SECONDARY | M2: OTHER DEFOLIATORS
B3: Plot | C3: Location | D3: Western Hemlock Looper | E3: Black-headed budworm | F3: Sawflies | G3: Green-striped forest looper | H3: Western False Hemlock Looper | I3: Gray Spruce Looper | J3: Saddleback Looper | K3: Nematocampa filamentaria | L3: Choristonerua occidentalis | M3: Semiothisa s. unipunctaria | N3: Eupethicia spp. | O3: Western Spruce Budworm | P3: Feralia spp | Q3: Pamphiliidae sp | R3: Cosmia praecuta | S3: Dasychira grisefacta | T3: DEFOLIATON ESTIMATE
A4: Lorraine | B4: 69 | C4: Quartz Crk | D4: 0 | E4: 1 | F4: 2 | G4: 0 | H4: 0 | I4: 0 | J4: 0 | K4: 2 | L4: 0 | M4: 0 | N4: 0 | O4: 0 | P4: 0 | Q4: 0 | R4: 0 | S4: 0 | T4: N
A5: Lorraine | B5: 72 | C5: Tangier FSR | D5: 0 | E5: 0 | F5: 0 | G5: 0 | H5: 0 | I5: 0 | J5: 1 | K5: 3 | L5: 0 | M5: 0 | N5: 0 | O5: 0 | P5: 0 | Q5: 0 | R5: 0 | S5: 0 | T5: N
A6: Lorraine | B6: 86 | C6: Beaver River | D6: 0 | E6: 0 | F6: 2 | G6: 0 | H6: 0 | I6: 0 | J6: 0 | K6: 0 | L6: 0 | M6: 0 | N6: 0 | O6: 0 | P6: 0 | Q6: 1 | R6: 0 | S6: 1 | T6: N
A7: Lorraine | B7: 87 | C7: Jumping Crk | D7: 0 | E7: 2 | F7: 0 | G7: 0 | H7: 0 | I7: 0 | J7: 0 | K7: 1 | L7: 0 | M7: 0 | N7: 0 | O7: 0 | P7: 0 | Q7: 1 | R7: 0 | S7: 0 | T7: N
A8: Lorraine | B8: 73 | C8: Martha Crk | D8: 0 | E8: 0 | F8: 0 | G8: 1 | H8: 0 | I8: 0 | J8: 0 | K8: 0 | L8: 0 | M8: 0 | N8: 0 | O8: 0 | P8: 0 | Q8: 0 | R8: 0 | S8: 0 | T8: N
A9: Lorraine | B9: 74 | C9: Goldstream River | D9: 1 | E9: 0 | F9: 2 | G9: 0 | H9: 0 | I9: 0 | J9: 0 | K9: 0 | L9: 0 | M9: 0 | N9: 0 | O9: 0 | P9: 0 | Q9: 0 | R9: 0 | S9: 0 | T9: N
A10: Lorraine | B10: 75 | C10: Downie Crk | D10: 0 | E10: 0 | F10: 0 | G10: 0 | H10: 0 | I10: 0 | J10: 1 | K10: 0 | L10: 0 | M10: 1 | N10: 0 | O10: 0 | P10: 0 | Q10: 0 | R10: 0 | S10: 0 | T10: N
A11: Lorraine | B11: 76 | C11: Bigmouth Crk | D11: 1 | E11: 0 | F11: 16 | G11: 0 | H11: 0 | I11: 0 | J11: 0 | K11: 0 | L11: 0 | M11: 0 | N11: 0 | O11: 0 | P11: 0 | Q11: 0 | R11: 0 | S11: 0 | T11: N
A12: Lorraine | B12: 78 | C12: Carnes Crk | D12: 0 | E12: 1 | F12: 0 | G12: 0 | H12: 0 | I12: 0 | J12: 0 | K12: 0 | L12: 0 | M12: 0 | N12: 0 | O12: 0 | P12: 0 | Q12: 0 | R12: 0 | S12: 0 | T12: N
A13: Lorraine | B13: 84 | C13: Pitt Crk Rec Site | D13: 0 | E13: 0 | F13: 18 | G13: 0 | H13: 0 | I13: 0 | J13: 0 | K13: 0 | L13: 0 | M13: 0 | N13: 0 | O13: 0 | P13: 0 | Q13: 0 | R13: 0 | S13: 0 | T13: N
A14: Lorraine | B14: 85 | C14: Kinbasket Lk | D14: 0 | E14: 0 | F14: 0 | G14: 1 | H14: 0 | I14: 0 | J14: 0 | K14: 0 | L14: 0 | M14: 0 | N14: 0 | O14: 0 | P14: 0 | Q14: 0 | R14: 0 | S14: 0 | T14: N
A15: Art | B15: 30 | C15: Keen Crk | D15: Negative | T15: N
A16: Art | B16: 38 | C16: Hills | D16: 0 | E16: 0 | F16: 0 | G16: 0 | H16: 0 | I16: 0 | J16: 0 | K16: 0 | L16: 0 | M16: 2 | N16: 0 | O16: 0 | P16: 0 | Q16: 0 | R16: 0 | S16: 0 | T16: N
A17: Art | B17: 58 | C17: Halfway River | D17: 0 | E17: 0 | F17: 0 | G17: 0 | H17: 0 | I17: 0 | J17: 0 | K17: 0 | L17: 0 | M17: 1 | N17: 0 | O17: 0 | P17: 0 | Q17: 0 | R17: 0 | S17: 0 | T17: N
A18: Art | B18: 61 | C18: Box Lake | D18: 0 | E18: 7 | F18: 0 | G18: 2 | H18: 1 | I18: 0 | J18: 0 | K18: 0 | L18: 0 | M18: 0 | N18: 0 | O18: 1 | P18: 0 | Q18: 0 | R18: 0 | S18: 0 | T18: N
A19: Art | B19: 62 | C19: Kuskanax Crk | D19: 0 | E19: 0 | F19: 0 | G19: 0 | H19: 0 | I19: 0 | J19: 0 | K19: 0 | L19: 0 | M19: 2 | N19: 0 | O19: 0 | P19: 0 | Q19: 0 | R19: 0 | S19: 0 | T19: N
A20: Art | B20: 65 | C20: Shelter Bay Ferry | D20: 0 | E20: 1 | F20: 0 | G20: 0 | H20: 0 | I20: 0 | J20: 0 | K20: 0 | L20: 0 | M20: 1 | N20: 0 | O20: 0 | P20: 0 | Q20: 0 | R20: 0 | S20: 0 | T20: N
A21: Lorraine | B21: 66 | C21: Sutherland Falls | D21: 0 | E21: 0 | F21: 0 | G21: 0 | H21: 0 | I21: 0 | J21: 0 | K21: 0 | L21: 0 | M21: 0 | N21: 1 | O21: 0 | P21: 0 | Q21: 0 | R21: 0 | S21: 0 | T21: N
A22: Lorraine | B22: 83 | C22: Begbie Crk | D22: 0 | E22: 0 | F22: 0 | G22: 0 | H22: 0 | I22: 0 | J22: 0 | K22: 0 | L22: 0 | M22: 1 | N22: 0 | O22: 0 | P22: 0 | Q22: 0 | R22: 0 | S22: 0 | T22: N
A23: Art | B23: 70 | C23: Gerrad | D23: 0 | E23: 0 | F23: 0 | G23: 0 | H23: 0 | I23: 0 | J23: 0 | K23: 1 | L23: 0 | M23: 1 | N23: 0 | O23: 0 | P23: 0 | Q23: 0 | R23: 0 | S23: 0 | T23: N
A24: Art | B24: 71 | C24: Trout Lake | D24: 0 | E24: 0 | F24: 23 | G24: 0 | H24: 0 | I24: 0 | J24: 0 | K24: 0 | L24: 0 | M24: 0 | N24: 0 | O24: 1 | P24: 0 | Q24: 0 | R24: 0 | S24: 0 | T24: N
A25: Art | B25: 79 | C25: Lardeau FSR | D25: Negative | T25: N
A26: Art | B26: 80 | C26: Meadow Crk | D26: 0 | E26: 0 | F26: 1 | G26: 0 | H26: 0 | I26: 0 | J26: 0 | K26: 0 | L26: 0 | M26: 0 | N26: 0 | O26: 0 | P26: 0 | Q26: 0 | R26: 0 | S26: 0 | T26: N
A27: Art | B27: 81 | C27: Schroeder Crk | D27: 0 | E27: 1 | F27: 0 | G27: 0 | H27: 0 | I27: 0 | J27: 0 | K27: 0 | L27: 0 | M27: 0 | N27: 0 | O27: 0 | P27: 0 | Q27: 0 | R27: 0 | S27: 0 | T27: N
A28: Art | B28: 82 | C28: Beaton | D28: 0 | E28: 3 | F28: 0 | G28: 0 | H28: 0 | I28: 0 | J28: 0 | K28: 0 | L28: 0 | M28: 0 | N28: 0 | O28: 0 | P28: 0 | Q28: 0 | R28: 0 | S28: 0 | T28: N
C29: Total | D29: =SUM(D4:D28) -> 2 | E29: =SUM(E4:E28) -> 16 | F29: =SUM(F4:F28) -> 64 | G29: =SUM(G4:G28) -> 4 | H29: =SUM(H4:H28) -> 1 | I29: 0 | J29: =SUM(J4:J28) -> 2 | K29: =SUM(K4:K28) -> 7 | L29: 0 | M29: =SUM(M4:M28) -> 9 | N29: =SUM(N4:N28) -> 1 | O29: =SUM(O4:O28) -> 2 | P29: 0 | Q29: =SUM(Q4:Q28) -> 2 | R29: =SUM(R4:R28) -> 0 | S29: =SUM(S4:S28) -> 1
C30: Average | D30: =D29/25 -> 0.08 | E30: =E29/25 -> 0.64 | F30: =F29/25 -> 2.56 | G30: =G29/25 -> 0.16 | H30: =H29/25 -> 0.04 | J30: =J29/25 -> 0.08 | K30: =K29/25 -> 0.28 | M30: =M29/25 -> 0.36 | N30: =N29/25 -> 0.04 | O30: =O29/25 -> 0.08 | Q30: =Q29/25 -> 0.08 | S30: =S29/25 -> 0.04
C31: Average Infested | D31: =2/2 -> 1 | E31: =16/7 -> 2.2857143 | F31: =64/7 -> 9.1428571 | G31: =4/3 -> 1.3333333 | H31: 1 | J31: 1 | K31: =7/4 -> 1.75 | M31: =9/7 -> 1.2857143 | N31: 1 | O31: =2/2 -> 1 | Q31: 1 | S31: 1
C32: % Positive | D32: =2/25*100 -> 8

Sheet 2006_Forrest
B1: Original Data: Beating Size 1.4M*1.5M = 2.1M2 | S1: Adjusted to 2M*3M beating sheet size.
A3: Contract | B3: Plot | C3: Location | D3: Western Hemlock Looper | E3: Black-headed budworm | F3: Sawflies | G3: Green-striped forest looper | H3: Western False Hemlock Looper | I3: Gray Spruce Looper | J3: Saddleback Looper | K3: Nematocampa filamentaria | L3: Choristonerua occidentalis | M3: Semiothisa s. unipunctaria | N3: Feralia spp | O3: Orgyia sp | P3: DEFOLIATON ESTIMATE | R3: Contract | S3: Plot | T3: Location | U3: Western Hemlock Looper | V3: Black-headed budworm | W3: Sawflies | X3: Green-striped forest looper | Y3: Western False Hemlock Looper | Z3: Gray Spruce Looper | AA3: Saddleback Looper | AB3: Nematocampa filamentaria | AC3: Choristonerua occidentalis | AD3: Semiothisa s. unipunctaria | AE3: Feralia spp | AF3: Orgyia sp | AG3: DEFOLIATON ESTIMATE
A4: Art | B4: 30 | C4: Keen Crk | D4: =0 -> 0 | E4: 0 | F4: 0 | G4: 0 | H4: 0 | I4: 0 | J4: 0 | K4: 0 | L4: 0 | M4: 0 | N4: 0 | O4: 0 | P4: N | R4: Art | S4: 30 | T4: Keen Crk | U4: =D4/0.35 -> 0 | V4: =E4/0.35 -> 0 | W4: =F4/0.35 -> 0 | X4: =G4/0.35 -> 0 | Y4: =H4/0.35 -> 0 | Z4: =I4/0.35 -> 0 | AA4: =J4/0.35 -> 0 | AB4: =K4/0.35 -> 0 | ... AF4: =O4/0.35 -> 0 | AG4: N
A5: Art | B5: 38 | C5: Hills | D5: 3 | E5: 5 | F5: 2 | G5: 1 | H5: 0 | I5: 0 | J5: 0 | K5: 0 | L5: 0 | M5: 0 | N5: 0 | O5: 0 | P5: N | R5: Art | S5: 38 | T5: Hills | U5: =D5/0.35 -> 8.5714286 | V5: =E5/0.35 -> 14.285714 | W5: =F5/0.35 -> 5.7142857 | X5: =G5/0.35 -> 2.8571429 | Y5: =H5/0.35 -> 0 | Z5: =I5/0.35 -> 0 | AA5: =J5/0.35 -> 0 | AB5: =K5/0.35 -> 0 | ... AF5: =O5/0.35 -> 0 | AG5: N
A6: Art | B6: 58 | C6: Halfway River | D6: 0 | E6: 0 | F6: 0 | G6: 0 | H6: 0 | I6: 0 | J6: 0 | K6: 0 | L6: 0 | M6: 0 | N6: 0 | O6: 0 | P6: N | R6: Art | S6: 58 | T6: Halfway River | U6: =D6/0.35 -> 0 | V6: =E6/0.35 -> 0 | W6: =F6/0.35 -> 0 | X6: =G6/0.35 -> 0 | Y6: =H6/0.35 -> 0 | Z6: =I6/0.35 -> 0 | AA6: =J6/0.35 -> 0 | AB6: =K6/0.35 -> 0 | ... AF6: =O6/0.35 -> 0 | AG6: N
A7: Art | B7: 61 | C7: Box Lake | D7: 0 | E7: 0 | F7: 3 | G7: 1 | H7: 0 | I7: 0 | J7: 0 | K7: 0 | L7: 0 | M7: 0 | N7: 0 | O7: 0 | P7: N | R7: Art | S7: 61 | T7: Box Lake | U7: =D7/0.35 -> 0 | V7: =E7/0.35 -> 0 | W7: =F7/0.35 -> 8.5714286 | X7: =G7/0.35 -> 2.8571429 | Y7: =H7/0.35 -> 0 | Z7: =I7/0.35 -> 0 | AA7: =J7/0.35 -> 0 | AB7: =K7/0.35 -> 0 | ... AF7: =O7/0.35 -> 0 | AG7: N
A8: Art | B8: 62 | C8: Kuskanax Crk | D8: 0 | E8: 2 | F8: 0 | G8: 2 | H8: 0 | I8: 0 | J8: 0 | K8: 1 | L8: 0 | M8: 0 | N8: 0 | O8: 0 | P8: N | R8: Art | S8: 62 | T8: Kuskanax Crk | U8: =D8/0.35 -> 0 | V8: =E8/0.35 -> 5.7142857 | W8: =F8/0.35 -> 0 | X8: =G8/0.35 -> 5.7142857 | Y8: =H8/0.35 -> 0 | Z8: =I8/0.35 -> 0 | AA8: =J8/0.35 -> 0 | AB8: =K8/0.35 -> 2.8571429 | ... AF8: =O8/0.35 -> 0 | AG8: N
A9: Art | B9: 65 | C9: Shelter Bay Ferry | D9: 0 | E9: 0 | F9: 0 | G9: 0 | H9: 0 | I9: 0 | J9: 0 | K9: 0 | L9: 0 | M9: 0 | N9: 0 | O9: 0 | P9: N | R9: Art | S9: 65 | T9: Shelter Bay Ferry | U9: =D9/0.35 -> 0 | V9: =E9/0.35 -> 0 | W9: =F9/0.35 -> 0 | X9: =G9/0.35 -> 0 | Y9: =H9/0.35 -> 0 | Z9: =I9/0.35 -> 0 | AA9: =J9/0.35 -> 0 | AB9: =K9/0.35 -> 0 | ... AF9: =O9/0.35 -> 0 | AG9: N
A10: Lorraine | B10: 66 | C10: Sutherland Falls | D10: 0 | E10: 2 | F10: 0 | G10: 0 | H10: 0 | I10: 0 | J10: 0 | K10: 0 | L10: 0 | M10: 0 | N10: 0 | O10: 0 | P10: N | R10: Lorraine | S10: 66 | T10: Sutherland Falls | U10: =D10/0.35 -> 0 | V10: =E10/0.35 -> 5.7142857 | W10: =F10/0.35 -> 0 | X10: =G10/0.35 -> 0 | Y10: =H10/0.35 -> 0 | Z10: =I10/0.35 -> 0 | AA10: =J10/0.35 -> 0 | AB10: =K10/0.35 -> 0 | ... AF10: =O10/0.35 -> 0 | AG10: N
A11: Lorraine | B11: 69 | C11: Quartz Crk | D11: 0 | E11: 0 | F11: 0 | G11: 0 | H11: 0 | I11: 0 | J11: 0 | K11: 0 | L11: 0 | M11: 0 | N11: 0 | O11: 0 | P11: N | R11: Lorraine | S11: 69 | T11: Quartz Crk | U11: =D11/0.35 -> 0 | V11: =E11/0.35 -> 0 | W11: =F11/0.35 -> 0 | X11: =G11/0.35 -> 0 | Y11: =H11/0.35 -> 0 | Z11: =I11/0.35 -> 0 | AA11: =J11/0.35 -> 0 | AB11: =K11/0.35 -> 0 | ... AF11: =O11/0.35 -> 0 | AG11: N
A12: Art | B12: 70 | C12: Gerrad | D12: 0 | E12: 0 | F12: 0 | G12: 0 | H12: 0 | I12: 0 | J12: 0 | K12: 0 | L12: 0 | M12: 0 | N12: 0 | O12: 0 | P12: N | R12: Art | S12: 70 | T12: Gerrad | U12: =D12/0.35 -> 0 | V12: =E12/0.35 -> 0 | W12: =F12/0.35 -> 0 | X12: =G12/0.35 -> 0 | Y12: =H12/0.35 -> 0 | Z12: =I12/0.35 -> 0 | AA12: =J12/0.35 -> 0 | AB12: =K12/0.35 -> 0 | ... AF12: =O12/0.35 -> 0 | AG12: N
A13: Art | B13: 71 | C13: Trout Lake | D13: 1 | E13: 0 | F13: 2 | G13: 0 | H13: 0 | I13: 0 | J13: 0 | K13: 0 | L13: 0 | M13: 0 | N13: 0 | O13: 0 | P13: N | R13: Art | S13: 71 | T13: Trout Lake | U13: =D13/0.35 -> 2.8571429 | V13: =E13/0.35 -> 0 | W13: =F13/0.35 -> 5.7142857 | X13: =G13/0.35 -> 0 | Y13: =H13/0.35 -> 0 | Z13: =I13/0.35 -> 0 | AA13: =J13/0.35 -> 0 | AB13: =K13/0.35 -> 0 | ... AF13: =O13/0.35 -> 0 | AG13: N
A14: Lorraine | B14: 72 | C14: Tangier FSR | D14: 0 | E14: 0 | F14: 0 | G14: 0 | H14: 0 | I14: 0 | J14: 0 | K14: 0 | L14: 0 | M14: 0 | N14: 0 | O14: 0 | P14: N | R14: Lorraine | S14: 72 | T14: Tangier FSR | U14: =D14/0.35 -> 0 | V14: =E14/0.35 -> 0 | W14: =F14/0.35 -> 0 | X14: =G14/0.35 -> 0 | Y14: =H14/0.35 -> 0 | Z14: =I14/0.35 -> 0 | AA14: =J14/0.35 -> 0 | AB14: =K14/0.35 -> 0 | ... AF14: =O14/0.35 -> 0 | AG14: N
A15: Lorraine | B15: 73 | C15: Martha Crk | D15: 0 | E15: 0 | F15: 0 | G15: 0 | H15: 0 | I15: 0 | J15: 0 | K15: 0 | L15: 0 | M15: 0 | N15: 0 | O15: 0 | P15: N | R15: Lorraine | S15: 73 | T15: Martha Crk | U15: =D15/0.35 -> 0 | V15: =E15/0.35 -> 0 | W15: =F15/0.35 -> 0 | X15: =G15/0.35 -> 0 | Y15: =H15/0.35 -> 0 | Z15: =I15/0.35 -> 0 | AA15: =J15/0.35 -> 0 | AB15: =K15/0.35 -> 0 | ... AF15: =O15/0.35 -> 0 | AG15: N
A16: Lorraine | B16: 74 | C16: Goldstream River | D16: 0 | E16: 0 | F16: 1 | G16: 1 | H16: 0 | I16: 0 | J16: 0 | K16: 0 | L16: 0 | M16: 0 | N16: 0 | O16: 0 | P16: N | R16: Lorraine | S16: 74 | T16: Goldstream River | U16: =D16/0.35 -> 0 | V16: =E16/0.35 -> 0 | W16: =F16/0.35 -> 2.8571429 | X16: =G16/0.35 -> 2.8571429 | Y16: =H16/0.35 -> 0 | Z16: =I16/0.35 -> 0 | AA16: =J16/0.35 -> 0 | AB16: =K16/0.35 -> 0 | ... AF16: =O16/0.35 -> 0 | AG16: N
... A28: Lorraine | B28: 87 | C28: Jumping Crk | D28: 0 | E28: 25 | F28: 3 | G28: 0 | H28: 0 | I28: 0 | J28: 0 | K28: 0 | L28: 0 | M28: 0 | N28: 0 | O28: 0 | P28: N | R28: Lorraine | S28: 87 | T28: Jumping Crk | U28: =D28/0.35 -> 0 | V28: =E28/0.35 -> 71.428571 | W28: =F28/0.35 -> 8.5714286 | X28: =G28/0.35 -> 0 | Y28: =H28/0.35 -> 0 | Z28: =I28/0.35 -> 0 | AA28: =J28/0.35 -> 0 | AB28: =K28/0.35 -> 0 | ... AF28: =O28/0.35 -> 0 | AG28: N
C29: Total | D29: =SUM(D4:D28) -> 4 | E29: =SUM(E4:E28) -> 40 | F29: =SUM(F4:F28) -> 14 | G29: =SUM(G4:G28) -> 6 | K29: =SUM(K4:K28) -> 1 | T29: Total | U29: =SUM(U4:U28) -> 11.428571 | V29: =SUM(V4:V28) -> 114.28571 | W29: =SUM(W4:W28) -> 40 | X29: =SUM(X4:X28) -> 17.142857 | AB29: =SUM(AB4:AB28) -> 2.8571429
C30: Average | D30: =D29/25 -> 0.16 | E30: =E29/25 -> 1.6 | F30: =F29/25 -> 0.56 | G30: =G29/25 -> 0.24 | K30: =K29/25 -> 0.04 | T30: Average | U30: =U29/25 -> 0.45714286 | V30: =V29/25 -> 4.5714286 | W30: =W29/25 -> 1.6 | X30: =X29/25 -> 0.68571429 | AB30: =AB29/25 -> 0.11428571
C31: Average Infested | D31: =4/2 -> 2 | E31: =40/5 -> 8 | F31: =14/6 -> 2.3333333 | G31: =6/5 -> 1.2 | K31: =1/1 -> 1 | T31: Average Infested | U31: =U29/2 -> 5.7142857 | V31: =V29/5 -> 22.857143 | W31: =W29/6 -> 6.6666667 | X31: =X29/5 -> 3.4285714 | AB31: =AB29/1 -> 2.8571429

Sheet 2005_Forrest
B1: Original Data: Beating sheet Size 1.4M*1.5M = 2.1M2 | S1: Adjusted to 2M*3M beating sheet size.
A3: Contract | B3: Plot | C3: Location | D3: Western Hemlock Looper | E3: Black-headed budworm | F3: Sawflies | G3: Green-striped forest looper | H3: Western False Hemlock Looper | I3: Gray Spruce Looper | J3: Saddleback Looper | K3: Nematocampa filamentaria | L3: Choristonerua occidentalis | M3: Semiothisa s. unipunctaria | N3: Feralia spp | O3: Orgyia sp | P3: DEFOLIATON ESTIMATE | R3: Contract | S3: Plot | T3: Location | U3: Western Hemlock Looper | V3: Black-headed budworm | W3: Sawflies | X3: Green-striped forest looper | Y3: Western False Hemlock Looper | Z3: Gray Spruce Looper | AA3: Saddleback Looper | AB3: Nematocampa filamentaria | AC3: Choristonerua occidentalis | AD3: Semiothisa s. unipunctaria | AE3: Feralia spp | AF3: Orgyia sp | AG3: DEFOLIATON ESTIMATE
A4: Art | B4: 30 | C4: Keen Crk | D4: 0 | E4: 0 | F4: 1 | G4: 0 | H4: 0 | I4: 0 | J4: 0 | K4: 0 | L4: 0 | M4: 0 | N4: 0 | O4: 0 | P4: N | R4: Art | S4: 30 | T4: Keen Crk | U4: =D4/0.35 -> 0 | V4: =E4/0.35 -> 0 | W4: =F4/0.35 -> 2.8571429 | X4: =G4/0.35 -> 0 | Y4: =H4/0.35 -> 0 | Z4: =I4/0.35 -> 0 | AA4: =J4/0.35 -> 0 | AB4: =K4/0.35 -> 0 | ... AF4: =O4/0.35 -> 0 | AG4: N
A5: Art | B5: 38 | C5: Hills | D5: 0 | E5: 0 | F5: 2 | G5: 0 | H5: 0 | I5: 0 | J5: 0 | K5: 1 | L5: 0 | M5: 0 | N5: 0 | O5: 0 | P5: N | R5: Art | S5: 38 | T5: Hills | U5: =D5/0.35 -> 0 | V5: =E5/0.35 -> 0 | W5: =F5/0.35 -> 5.7142857 | X5: =G5/0.35 -> 0 | Y5: =H5/0.35 -> 0 | Z5: =I5/0.35 -> 0 | AA5: =J5/0.35 -> 0 | AB5: =K5/0.35 -> 2.8571429 | ... AF5: =O5/0.35 -> 0 | AG5: N
A6: Art | B6: 58 | C6: Halfway River | D6: 0 | E6: 5 | F6: 0 | G6: 2 | H6: 0 | I6: 0 | J6: 0 | K6: 0 | L6: 0 | M6: 0 | N6: 0 | O6: 0 | P6: N | R6: Art | S6: 58 | T6: Halfway River | U6: =D6/0.35 -> 0 | V6: =E6/0.35 -> 14.285714 | W6: =F6/0.35 -> 0 | X6: =G6/0.35 -> 5.7142857 | Y6: =H6/0.35 -> 0 | Z6: =I6/0.35 -> 0 | AA6: =J6/0.35 -> 0 | AB6: =K6/0.35 -> 0 | ... AF6: =O6/0.35 -> 0 | AG6: N
A7: Art | B7: 61 | C7: Box Lake | D7: 0 | E7: 0 | F7: 7 | G7: 0 | H7: 0 | I7: 0 | J7: 0 | K7: 4 | L7: 0 | M7: 0 | N7: 0 | O7: 0 | P7: N | R7: Art | S7: 61 | T7: Box Lake | U7: =D7/0.35 -> 0 | V7: =E7/0.35 -> 0 | W7: =F7/0.35 -> 20 | X7: =G7/0.35 -> 0 | Y7: =H7/0.35 -> 0 | Z7: =I7/0.35 -> 0 | AA7: =J7/0.35 -> 0 | AB7: =K7/0.35 -> 11.428571 | ... AF7: =O7/0.35 -> 0 | AG7: N
A8: Art | B8: 62 | C8: Kuskanax Crk | D8: 0 | E8: 11 | F8: 0 | G8: 1 | H8: 0 | I8: 0 | J8: 0 | K8: 0 | L8: 0 | M8: 0 | N8: 0 | O8: 0 | P8: N | R8: Art | S8: 62 | T8: Kuskanax Crk | U8: =D8/0.35 -> 0 | V8: =E8/0.35 -> 31.428571 | W8: =F8/0.35 -> 0 | X8: =G8/0.35 -> 2.8571429 | Y8: =H8/0.35 -> 0 | Z8: =I8/0.35 -> 0 | AA8: =J8/0.35 -> 0 | AB8: =K8/0.35 -> 0 | ... AF8: =O8/0.35 -> 0 | AG8: N
A9: Art | B9: 65 | C9: Shelter Bay Ferry | D9: 0 | E9: 2 | F9: 2 | G9: 0 | H9: 0 | I9: 0 | J9: 0 | K9: 0 | L9: 0 | M9: 0 | N9: 0 | O9: 0 | P9: N | R9: Art | S9: 65 | T9: Shelter Bay Ferry | U9: =D9/0.35 -> 0 | V9: =E9/0.35 -> 5.7142857 | W9: =F9/0.35 -> 5.7142857 | X9: =G9/0.35 -> 0 | Y9: =H9/0.35 -> 0 | Z9: =I9/0.35 -> 0 | AA9: =J9/0.35 -> 0 | AB9: =K9/0.35 -> 0 | ... AF9: =O9/0.35 -> 0 | AG9: N
A10: Lorraine | B10: 66 | C10: Sutherland Falls | D10: 0 | E10: 0 | F10: 1 | G10: 1 | H10: 0 | I10: 0 | J10: 0 | K10: 1 | L10: 0 | M10: 0 | N10: 0 | O10: 0 | P10: N | R10: Lorraine | S10: 66 | T10: Sutherland Falls | U10: =D10/0.35 -> 0 | V10: =E10/0.35 -> 0 | W10: =F10/0.35 -> 2.8571429 | X10: =G10/0.35 -> 2.8571429 | Y10: =H10/0.35 -> 0 | Z10: =I10/0.35 -> 0 | AA10: =J10/0.35 -> 0 | AB10: =K10/0.35 -> 2.8571429 | ... AF10: =O10/0.35 -> 0 | AG10: N
A11: Lorraine | B11: 69 | C11: Quartz Crk | D11: 0 | E11: 0 | F11: 0 | G11: 0 | H11: 0 | I11: 0 | J11: 0 | K11: 1 | L11: 0 | M11: 0 | N11: 0 | O11: 0 | P11: N | R11: Lorraine | S11: 69 | T11: Quartz Crk | U11: =D11/0.35 -> 0 | V11: =E11/0.35 -> 0 | W11: =F11/0.35 -> 0 | X11: =G11/0.35 -> 0 | Y11: =H11/0.35 -> 0 | Z11: =I11/0.35 -> 0 | AA11: =J11/0.35 -> 0 | AB11: =K11/0.35 -> 2.8571429 | ... AF11: =O11/0.35 -> 0 | AG11: N
A12: Art | B12: 70 | C12: Gerrad | D12: 0 | E12: 0 | F12: 0 | G12: 0 | H12: 0 | I12: 0 | J12: 0 | K12: 0 | L12: 0 | M12: 0 | N12: 0 | O12: 0 | P12: N | R12: Art | S12: 70 | T12: Gerrad | U12: =D12/0.35 -> 0 | V12: =E12/0.35 -> 0 | W12: =F12/0.35 -> 0 | X12: =G12/0.35 -> 0 | Y12: =H12/0.35 -> 0 | Z12: =I12/0.35 -> 0 | AA12: =J12/0.35 -> 0 | AB12: =K12/0.35 -> 0 | ... AF12: =O12/0.35 -> 0 | AG12: N
A13: Art | B13: 71 | C13: Trout Lake | D13: 0 | E13: 0 | F13: 0 | G13: 0 | H13: 0 | I13: 0 | J13: 0 | K13: 0 | L13: 0 | M13: 0 | N13: 0 | O13: 0 | P13: N | R13: Art | S13: 71 | T13: Trout Lake | U13: =D13/0.35 -> 0 | V13: =E13/0.35 -> 0 | W13: =F13/0.35 -> 0 | X13: =G13/0.35 -> 0 | Y13: =H13/0.35 -> 0 | Z13: =I13/0.35 -> 0 | AA13: =J13/0.35 -> 0 | AB13: =K13/0.35 -> 0 | ... AF13: =O13/0.35 -> 0 | AG13: N
A14: Lorraine | B14: 72 | C14: Tangier FSR | D14: 0 | E14: 1 | F14: 0 | G14: 0 | H14: 0 | I14: 0 | J14: 1 | K14: 13 | L14: 0 | M14: 0 | N14: 0 | O14: 0 | P14: N | R14: Lorraine | S14: 72 | T14: Tangier FSR | U14: =D14/0.35 -> 0 | V14: =E14/0.35 -> 2.8571429 | W14: =F14/0.35 -> 0 | X14: =G14/0.35 -> 0 | Y14: =H14/0.35 -> 0 | Z14: =I14/0.35 -> 0 | AA14: =J14/0.35 -> 2.8571429 | AB14: =K14/0.35 -> 37.142857 | ... AF14: =O14/0.35 -> 0 | AG14: N
A15: Lorraine | B15: 73 | C15: Martha Crk | D15: 0 | E15: 0 | F15: 0 | G15: 0 | H15: 0 | I15: 0 | J15: 4 | K15: 10 | L15: 0 | M15: 0 | N15: 0 | O15: 0 | P15: N | R15: Lorraine | S15: 73 | T15: Martha Crk | U15: =D15/0.35 -> 0 | V15: =E15/0.35 -> 0 | W15: =F15/0.35 -> 0 | X15: =G15/0.35 -> 0 | Y15: =H15/0.35 -> 0 | Z15: =I15/0.35 -> 0 | AA15: =J15/0.35 -> 11.428571 | AB15: =K15/0.35 -> 28.571429 | ... AF15: =O15/0.35 -> 0 | AG15: N
... A28: Lorraine | B28: 87 | C28: Jumping Crk | D28: 0 | E28: 42 | F28: 0 | G28: 0 | H28: 0 | I28: 0 | J28: 0 | K28: 0 | L28: 0 | M28: 0 | N28: 0 | O28: 0 | P28: N | R28: Lorraine | S28: 87 | T28: Jumping Crk | U28: =D28/0.35 -> 0 | V28: =E28/0.35 -> 120 | W28: =F28/0.35 -> 0 | X28: =G28/0.35 -> 0 | Y28: =H28/0.35 -> 0 | Z28: =I28/0.35 -> 0 | AA28: =J28/0.35 -> 0 | AB28: =K28/0.35 -> 0 | ... AF28: =O28/0.35 -> 0 | AG28: N
C29: Total | D29: =SUM(D4:D28) -> 1 | E29: =SUM(E4:E28) -> 87 | F29: =SUM(F4:F28) -> 38 | G29: =SUM(G4:G28) -> 7 | J29: =SUM(J4:J28) -> 5 | K29: =SUM(K4:K28) -> 33 | T29: Total | U29: 3 | V29: 248 | W29: =SUM(W4:W28) -> 108.57143 | X29: =SUM(X4:X28) -> 20 | AA29: =SUM(AA4:AA28) -> 14.285714 | AB29: =SUM(AB4:AB28) -> 94.285714
C30: Average | D30: =D29/25 -> 0.04 | E30: =E29/25 -> 3.48 | F30: =F29/25 -> 1.52 | G30: =G29/25 -> 0.28 | J30: =J29/25 -> 0.2 | K30: =K29/25 -> 1.32 | T30: Average | U30: =U29/25 -> 0.12 | V30: =V29/25 -> 9.92 | W30: =W29/25 -> 4.3428571 | X30: =X29/25 -> 0.8 | AA30: =AA29/25 -> 0.57142857 | AB30: =AB29/25 -> 3.7714286
C31: Average Infested | D31: 1 | E31: =89/9 -> 9.8888889 | F31: =38/10 -> 3.8 | G31: =7/5 -> 1.4 | J31: =5/2 -> 2.5 | K31: =33/8 -> 4.125 | T31: Average Infested | U31: 1 | V31: =V29/9 -> 27.555556 | W31: =W29/10 -> 10.857143 | X31: =X29/5 -> 4 | AA31: =AA29/2 -> 7.1428571 | AB31: =AB29/8 -> 11.785714

Sheet 2004_Forrest
B1: Original Data: Beating Sheet Size 1.4M*1.5M = 2.1M2 | S1: Adjusted to 2M*3M beating sheet size.
A4: Contract | B4: Plot | C4: Location | D4: Western Hemlock Looper | E4: Black-headed budworm | F4: Sawflies | G4: Green-striped forest looper | H4: Western False Hemlock Looper | I4: Gray Spruce Looper | J4: Saddleback Looper | K4: Nematocampa filamentaria | L4: Choristonerua occidentalis | M4: Semiothisa s. unipunctaria | N4: Feralia spp | O4: Orgyia sp | P4: DEFOLIATON ESTIMATE | R4: Contract | S4: Plot | T4: Location | U4: Western Hemlock Looper | V4: Black-headed budworm | W4: Sawflies | X4: Green-striped forest looper | Y4: Western False Hemlock Looper | Z4: Gray Spruce Looper | AA4: Saddleback Looper | AB4: Nematocampa filamentaria | AC4: Choristonerua occidentalis | AD4: Semiothisa s. unipunctaria | AE4: Feralia spp | AF4: Orgyia sp | AG4: DEFOLIATON ESTIMATE
A5: Art | B5: 30 | C5: Keen Crk | D5: 0 | E5: 0 | F5: 0 | G5: 0 | H5: 0 | I5: 0 | J5: 0 | K5: 0 | L5: 0 | M5: 0 | N5: 0 | O5: 0 | P5: N | R5: Art | S5: 30 | T5: Keen Crk | U5: =D5/0.35 -> 0 | V5: =E5/0.35 -> 0 | W5: =F5/0.35 -> 0 | X5: =G5/0.35 -> 0 | Y5: =H5/0.35 -> 0 | Z5: =I5/0.35 -> 0 | AA5: =J5/0.35 -> 0 | AB5: =K5/0.35 -> 0 | ... AF5: =O5/0.35 -> 0 | AG5: N
A6: Art | B6: 38 | C6: Hills | D6: 0 | E6: 0 | F6: 1 | G6: 2 | H6: 0 | I6: 0 | J6: 0 | K6: 0 | L6: 0 | M6: 0 | N6: 0 | O6: 0 | P6: N | R6: Art | S6: 38 | T6: Hills | U6: =D6/0.35 -> 0 | V6: =E6/0.35 -> 0 | W6: =F6/0.35 -> 2.8571429 | X6: =G6/0.35 -> 5.7142857 | Y6: =H6/0.35 -> 0 | Z6: =I6/0.35 -> 0 | AA6: =J6/0.35 -> 0 | AB6: =K6/0.35 -> 0 | ... AF6: =O6/0.35 -> 0 | AG6: N
A7: Art | B7: 58 | C7: Halfway River | D7: 0 | E7: 0 | F7: 0 | G7: 1 | H7: 0 | I7: 0 | J7: 0 | K7: 0 | L7: 0 | M7: 0 | N7: 0 | O7: 0 | P7: N | R7: Art | S7: 58 | T7: Halfway River | U7: =D7/0.35 -> 0 | V7: =E7/0.35 -> 0 | W7: =F7/0.35 -> 0 | X7: =G7/0.35 -> 2.8571429 | Y7: =H7/0.35 -> 0 | Z7: =I7/0.35 -> 0 | AA7: =J7/0.35 -> 0 | AB7: =K7/0.35 -> 0 | ... AF7: =O7/0.35 -> 0 | AG7: N
A8: Art | B8: 61 | C8: Box Lake | D8: 0 | E8: 0 | F8: 0 | G8: 0 | H8: 0 | I8: 0 | J8: 0 | K8: 0 | L8: 0 | M8: 0 | N8: 0 | O8: 0 | P8: N | R8: Art | S8: 61 | T8: Box Lake | U8: =D8/0.35 -> 0 | V8: =E8/0.35 -> 0 | W8: =F8/0.35 -> 0 | X8: =G8/0.35 -> 0 | Y8: =H8/0.35 -> 0 | Z8: =I8/0.35 -> 0 | AA8: =J8/0.35 -> 0 | AB8: =K8/0.35 -> 0 | ... AF8: =O8/0.35 -> 0 | AG8: N
A9: Art | B9: 62 | C9: Kuskanax Crk | D9: 1 | E9: 0 | F9: 0 | G9: 0 | H9: 1 | I9: 0 | J9: 0 | K9: 0 | L9: 0 | M9: 0 | N9: 0 | O9: 0 | P9: N | R9: Art | S9: 62 | T9: Kuskanax Crk | U9: =D9/0.35 -> 2.8571429 | V9: =E9/0.35 -> 0 | W9: =F9/0.35 -> 0 | X9: =G9/0.35 -> 0 | Y9: =H9/0.35 -> 2.8571429 | Z9: =I9/0.35 -> 0 | AA9: =J9/0.35 -> 0 | AB9: =K9/0.35 -> 0 | ... AF9: =O9/0.35 -> 0 | AG9: N
A10: Art | B10: 65 | C10: Shelter Bay Ferry | D10: 1 | E10: 0 | F10: 0 | G10: 2 | H10: 0 | I10: 0 | J10: 0 | K10: 0 | L10: 0 | M10: 0 | N10: 0 | O10: 0 | P10: N | R10: Art | S10: 65 | T10: Shelter Bay Ferry | U10: =D10/0.35 -> 2.8571429 | V10: =E10/0.35 -> 0 | W10: =F10/0.35 -> 0 | X10: =G10/0.35 -> 5.7142857 | Y10: =H10/0.35 -> 0 | Z10: =I10/0.35 -> 0 | AA10: =J10/0.35 -> 0 | AB10: =K10/0.35 -> 0 | ... AF10: =O10/0.35 -> 0 | AG10: N
A11: Lorraine | B11: 66 | C11: Sutherland Falls | D11: 11 | E11: 0 | F11: 6 | G11: 2 | H11: 0 | I11: 0 | J11: 0 | K11: 1 | L11: 0 | M11: 0 | N11: 0 | O11: 0 | P11: N | R11: Lorraine | S11: 66 | T11: Sutherland Falls | U11: =D11/0.35 -> 31.428571 | V11: =E11/0.35 -> 0 | W11: =F11/0.35 -> 17.142857 | X11: =G11/0.35 -> 5.7142857 | Y11: =H11/0.35 -> 0 | Z11: =I11/0.35 -> 0 | AA11: =J11/0.35 -> 0 | AB11: =K11/0.35 -> 2.8571429 | ... AF11: =O11/0.35 -> 0 | AG11: N
A12: Lorraine | B12: 69 | C12: Quartz Crk | D12: 0 | E12: 0 | F12: 2 | G12: 0 | H12: 0 | I12: 0 | J12: 0 | K12: 0 | L12: 0 | M12: 0 | N12: 0 | O12: 0 | P12: N | R12: Lorraine | S12: 69 | T12: Quartz Crk | U12: =D12/0.35 -> 0 | V12: =E12/0.35 -> 0 | W12: =F12/0.35 -> 5.7142857 | X12: =G12/0.35 -> 0 | Y12: =H12/0.35 -> 0 | Z12: =I12/0.35 -> 0 | AA12: =J12/0.35 -> 0 | AB12: =K12/0.35 -> 0 | ... AF12: =O12/0.35 -> 0 | AG12: N
A13: Art | B13: 70 | C13: Gerrad | D13: 0 | E13: 0 | F13: 0 | G13: 0 | H13: 0 | I13: 0 | J13: 0 | K13: 0 | L13: 0 | M13: 0 | N13: 0 | O13: 0 | P13: N | R13: Art | S13: 70 | T13: Gerrad | U13: =D13/0.35 -> 0 | V13: =E13/0.35 -> 0 | W13: =F13/0.35 -> 0 | X13: =G13/0.35 -> 0 | Y13: =H13/0.35 -> 0 | Z13: =I13/0.35 -> 0 | AA13: =J13/0.35 -> 0 | AB13: =K13/0.35 -> 0 | ... AF13: =O13/0.35 -> 0 | AG13: N
A14: Art | B14: 71 | C14: Trout Lake | D14: 1 | E14: 0 | F14: 0 | G14: 0 | H14: 0 | I14: 0 | J14: 1 | K14: 0 | L14: 0 | M14: 0 | N14: 0 | O14: 0 | P14: N | R14: Art | S14: 71 | T14: Trout Lake | U14: =D14/0.35 -> 2.8571429 | V14: =E14/0.35 -> 0 | W14: =F14/0.35 -> 0 | X14: =G14/0.35 -> 0 | Y14: =H14/0.35 -> 0 | Z14: =I14/0.35 -> 0 | AA14: =J14/0.35 -> 2.8571429 | AB14: =K14/0.35 -> 0 | ... AF14: =O14/0.35 -> 0 | AG14: N
A15: Lorraine | B15: 72 | C15: Tangier FSR | D15: 36 | E15: 0 | F15: 23 | G15: 0 | H15: 0 | I15: 0 | J15: 2 | K15: 0 | L15: 0 | M15: 0 | N15: 0 | O15: 0 | P15: N | R15: Lorraine | S15: 72 | T15: Tangier FSR | U15: =D15/0.35 -> 102.85714 | V15: =E15/0.35 -> 0 | W15: =F15/0.35 -> 65.714286 | X15: =G15/0.35 -> 0 | Y15: =H15/0.35 -> 0 | Z15: =I15/0.35 -> 0 | AA15: =J15/0.35 -> 5.7142857 | AB15: =K15/0.35 -> 0 | ... AF15: =O15/0.35 -> 0 | AG15: N
A16: Lorraine | B16: 73 | C16: Martha Crk | D16: 34 | E16: 0 | F16: 0 | G16: 7 | H16: 0 | I16: 0 | J16: 3 | K16: 3 | L16: 0 | M16: 0 | N16: 0 | O16: 0 | P16: N | R16: Lorraine | S16: 73 | T16: Martha Crk | U16: =D16/0.35 -> 97.142857 | V16: =E16/0.35 -> 0 | W16: =F16/0.35 -> 0 | X16: =G16/0.35 -> 20 | Y16: =H16/0.35 -> 0 | Z16: =I16/0.35 -> 0 | AA16: =J16/0.35 -> 8.5714286 | AB16: =K16/0.35 -> 8.5714286 | ... AF16: =O16/0.35 -> 0 | AG16: N
... A29: Lorraine | B29: 87 | C29: Jumping Crk | D29: 23 | E29: 0 | F29: 29 | G29: 0 | H29: 0 | I29: 0 | J29: 0 | K29: 1 | L29: 0 | M29: 0 | N29: 0 | O29: 0 | P29: N | R29: Lorraine | S29: 87 | T29: Jumping Crk | U29: =D29/0.35 -> 65.714286 | V29: =E29/0.35 -> 0 | W29: =F29/0.35 -> 82.857143 | X29: =G29/0.35 -> 0 | Y29: =H29/0.35 -> 0 | Z29: =I29/0.35 -> 0 | AA29: =J29/0.35 -> 0 | AB29: =K29/0.35 -> 2.8571429 | ... AF29: =O29/0.35 -> 0 | AG29: N
C30: Total | D30: =SUM(D5:D29) -> 143 | E30: =SUM(E5:E29) -> 0 | F30: =SUM(F5:F29) -> 152 | G30: =SUM(G5:G29) -> 20 | H30: =SUM(H5:H29) -> 1 | I30: =SUM(I5:I29) -> 0 | J30: =SUM(J5:J29) -> 9 | K30: =SUM(K5:K29) -> 7 | ... O30: =SUM(O5:O29) -> 0 | T30: Total | U30: =SUM(U5:U29) -> 408.57143 | V30: =SUM(V5:V29) -> 0 | W30: =SUM(W5:W29) -> 434.28571 | X30: =SUM(X5:X29) -> 57.142857 | Y30: =SUM(Y5:Y29) -> 2.8571429 | Z30: =SUM(Z5:Z29) -> 0 | AA30: =SUM(AA5:AA29) -> 25.714286 | AB30: =SUM(AB5:AB29) -> 20 | ... AF30: =SUM(AF5:AF29) -> 0
C31: Average | D31: =D30/25 -> 5.72 | E31: 0 | F31: =F30/25 -> 6.08 | G31: =G30/25 -> 0.8 | J31: =J30/25 -> 0.36 | K31: =K30/25 -> 0.28 | T31: Average | U31: =U30/25 -> 16.342857 | V31: 0 | W31: =W30/25 -> 17.371429 | X31: =X30/25 -> 2.2857143 | AA31: =AA30/25 -> 1.0285714 | AB31: =AB30/25 -> 0.8
C32: Average Infested | D32: =D30/12 -> 11.916667 | E32: 0 | F32: =152/12 -> 12.666667 | G32: =20/8 -> 2.5 | H32: 1 | J32: =9/5 -> 1.8 | K32: =7/3 -> 2.3333333 | T32: Average Infested | U32: =U30/12 -> 34.047619 | V32: 0 | W32: =W30/12 -> 36.190476 | X32: =X30/8 -> 7.1428571 | Y32: 1 | AA32: =AA30/5 -> 5.1428571 | AB32: =AB30/3 -> 6.6666667

Sheet 2003
B1: Important Note: Beating Size 2M*3M = 6M2
A3: Contract | B3: Plot | C3: Location | D3: Western Hemlock Looper | E3: Black-headed budworm | F3: Sawflies | G3: Green-striped forest looper | H3: Western False Hemlock Looper | I3: Gray Spruce Looper | J3: Saddleback Looper | K3: Nematocampa filamentaria | L3: Choristonerua occidentalis | M3: Semiothisa s. unipunctaria | N3: Feralia spp | O3: Orgyia sp | P3: DEFOLIATON ESTIMATE
A4: Lorraine | B4: 69 | C4: Quartz Crk | D4: 7 | E4: 0 | F4: 10 | G4: 0 | H4: 0 | I4: 0 | J4: 0 | K4: 0 | L4: 0 | M4: 0 | N4: 0 | O4: 0 | P4: N
A5: Lorraine | B5: 72 | C5: Tangier FSR | D5: 31 | E5: 6 | F5: 0 | G5: 0 | H5: 0 | I5: 1 | J5: 1 | K5: 0 | L5: 0 | M5: 0 | N5: 0 | O5: 0 | P5: N
A6: Lorraine | B6: 86 | C6: Beaver River | D6: 46 | E6: 127 | F6: 21 | G6: 1 | H6: 0 | I6: 0 | J6: 1 | K6: 0 | L6: 0 | M6: 0 | N6: 0 | O6: 1 | P6: T
A7: Lorraine | B7: 87 | C7: Jumping Crk | D7: 9 | E7: 2 | F7: 1 | G7: 0 | H7: 0 | I7: 0 | J7: 0 | K7: 0 | L7: 0 | M7: 0 | N7: 0 | O7: 0 | P7: N
A8: Lorraine | B8: 73 | C8: Martha Crk | D8: 313 | E8: 18 | F8: 13 | G8: 2 | H8: 1 | I8: 0 | J8: 0 | K8: 0 | L8: 0 | M8: 0 | N8: 0 | O8: 0 | P8: L
A9: Lorraine | B9: 74 | C9: Goldstream River | D9: 87 | E9: 0 | F9: 0 | G9: 0 | H9: 1 | I9: 0 | J9: 2 | K9: 0 | L9: 0 | M9: 0 | N9: 0 | O9: 0 | P9: S
A10: Lorraine | B10: 75 | C10: Downie Crk | D10: 39 | E10: 0 | F10: 69 | G10: 1 | H10: 0 | I10: 0 | J10: 0 | K10: 0 | L10: 0 | M10: 0 | N10: 0 | O10: 0 | P10: N
A11: Lorraine | B11: 76 | C11: Bigmouth Crk | D11: 59 | E11: 8 | F11: 7 | G11: 1 | H11: 0 | I11: 0 | J11: 0 | K11: 0 | L11: 0 | M11: 0 | N11: 0 | O11: 0 | P11: T
A12: Lorraine | B12: 78 | C12: Carnes Crk | D12: 84 | E12: 17 | F12: 0 | G12: 0 | H12: 0 | I12: 0 | J12: 0 | K12: 2 | L12: 0 | M12: 1 | N12: 0 | O12: 0 | P12: N
A13: Lorraine | B13: 84 | C13: Pitt Crk Rec Site | D13: 90 | E13: 0 | F13: 80 | G13: 0 | H13: 0 | I13: 0 | J13: 0 | K13: 0 | L13: 0 | M13: 0 | N13: 0 | O13: 0 | P13: L
A14: Lorraine | B14: 85 | C14: Kinbasket Lk | D14: 1 | E14: 0 | F14: 0 | G14: 0 | H14: 0 | I14: 0 | J14: 0 | K14: 0 | L14: 0 | M14: 0 | N14: 0 | O14: 0 | P14: N
A15: Art | B15: 30 | C15: Keen Crk | D15: 3 | E15: 23 | F15: 60 | G15: 0 | H15: 0 | I15: 0 | J15: 0 | K15: 1 | L15: 0 | M15: 0 | N15: 0 | O15: 1 | P15: N
... A28: Art | B28: 82 | C28: Beaton | D28: 19 | E28: 3 | F28: 1 | G28: 2 | H28: 1 | I28: 1 | J28: 1 | K28: 0 | L28: 0 | M28: 0 | N28: 1 | O28: 0 | P28: N
B29: Total | C29: Total | D29: =SUM(D4:D28) -> 893 | E29: =SUM(E4:E28) -> 502 | F29: =SUM(F4:F28) -> 489 | G29: =SUM(G4:G28) -> 16 | H29: =SUM(H4:H28) -> 3 | I29: =SUM(I4:I28) -> 3 | J29: =SUM(J4:J28) -> 8 | K29: =SUM(K4:K28) -> 7 | ... O29: =SUM(O4:O28) -> 2
C30: Average | D30: =AVERAGE(D4:D28) -> 35.72 | E30: =AVERAGE(E4:E28) -> 20.08 | F30: =AVERAGE(F4:F28) -> 19.56 | G30: =AVERAGE(G4:G28) -> 0.64 | H30: =AVERAGE(H4:H28) -> 0.12 | I30: =AVERAGE(I4:I28) -> 0.12 | J30: =AVERAGE(J4:J28) -> 0.32 | K30: =AVERAGE(K4:K28) -> 0.28 | ... N30: =AVERAGE(N4:N28) -> 0.08 | O30: 0
C31: Average Infested | D31: 46 | E31: 27 | F31: 54 | G31: 1 | H31: 0 | I31: 0 | J31: 1 | K31: 2 | L31: 0 | M31: 1 | N31: 1 | O31: 1

Sheet 2002
B1: Important Note: Beating Size 2M*3M = 6M2
A3: Contract | B3: Plot | C3: Location | D3: Western Hemlock Looper | E3: Black-headed budworm | F3: Sawflies | G3: Green-striped forest looper | H3: Western False Hemlock Looper | I3: Gray Spruce Looper | J3: Saddleback Looper | K3: Semiothisa s. unipunctaria | L3: Feralia spp | M3: Psychidae | N3: Eupithecia spp. | O3: Acantholyda | P3: Callophrys rosneri | Q3: DEFOLIATON ESTIMATE
A4: Lorraine | B4: 69 | C4: Quartz Crk | D4: 2 | E4: 7 | F4: 3 | G4: 0 | H4: 0 | I4: 0 | J4: 0 | K4: 0 | L4: 0 | M4: 0 | N4: 0 | O4: 0 | P4: 0 | Q4: N
A5: Lorraine | B5: 72 | C5: Tangier FSR | D5: 21 | E5: 2 | F5: 4 | G5: 4 | H5: 0 | I5: 1 | J5: 1 | K5: 0 | L5: 0 | M5: 0 | N5: 0 | O5: 0 | P5: 0 | Q5: N
A6: Lorraine | B6: 86 | C6: Beaver River | D6: 62 | E6: 69 | F6: 10 | G6: 0 | H6: 0 | I6: 2 | J6: 0 | K6: 0 | L6: 0 | M6: 0 | N6: 0 | O6: 0 | P6: 0 | Q6: T
A7: Lorraine | B7: 87 | C7: Jumping Crk | D7: 3 | E7: 7 | F7: 2 | G7: 1 | H7: 0 | I7: 0 | J7: 0 | K7: 0 | L7: 0 | M7: 0 | N7: 0 | O7: 0 | P7: 0 | Q7: N
A8: Lorraine | B8: 73 | C8: Martha Crk | D8: 83 | E8: 1 | F8: 4 | G8: 1 | H8: 2 | I8: 0 | J8: 1 | K8: 0 | L8: 0 | M8: 0 | N8: 0 | O8: 0 | P8: 0 | Q8: T
A9: Lorraine | B9: 74 | C9: Goldstream River | D9: 879 | E9: 0 | F9: 14 | G9: 1 | H9: 0 | I9: 0 | J9: 0 | K9: 0 | L9: 1 | M9: 0 | N9: 0 | O9: 0 | P9: 0 | Q9: M
A10: Lorraine | B10: 75 | C10: Downie Crk | D10: 67 | E10: 0 | F10: 0 | G10: 1 | H10: 0 | I10: 0 | J10: 0 | K10: 0 | L10: 0 | M10: 0 | N10: 0 | O10: 0 | P10: 0 | Q10: L
A11: Lorraine | B11: 76 | C11: Bigmouth Crk | D11: 202 | E11: 0 | F11: 0 | G11: 0 | H11: 0 | I11: 0 | J11: 2 | K11: 1 | L11: 0 | M11: 0 | N11: 0 | O11: 0 | P11: 0 | Q11: T
A12: Lorraine | B12: 78 | C12: Carnes Crk | D12: 47 | E12: 0 | F12: 0 | G12: 1 | H12: 3 | I12: 0 | J12: 0 | K12: 1 | L12: 0 | M12: 0 | N12: 0 | O12: 0 | P12: 0 | Q12: N
A13: Lorraine | B13: 84 | C13: Pitt Crk Rec Site | D13: 544 | E13: 2 | F13: 7 | G13: 0 | H13: 0 | I13: 0 | J13: 0 | K13: 0 | L13: 1 | M13: 0 | N13: 0 | O13: 0 | P13: 0 | Q13: L
A14: Lorraine | B14: 85 | C14: Kinbasket Lk | D14: 9 | E14: 0 | F14: 3 | G14: 0 | H14: 0 | I14: 0 | J14: 0 | K14: 0 | L14: 0 | M14: 0 | N14: 0 | O14: 0 | P14: 0 | Q14: N
A15: Art | B15: 30 | C15: Keen Crk | D15: 13 | E15: 48 | F15: 110 | G15: 0 | H15: 0 | I15: 0 | J15: 0 | K15: 8 | L15: 0 | M15: 0 | N15: 1 | O15: 1 | P15: 0 | Q15: N
... A28: Art | B28: 82 | C28: Beaton | D28: 2 | E28: 0 | F28: 1 | G28: 0 | H28: 0 | I28: 1 | J28: 0 | K28: 7 | L28: 0 | M28: 0 | N28: 0 | O28: 0 | P28: 0 | Q28: N
B29: Total | C29: Total | D29: =SUM(D4:D28) -> 2020 | E29: =SUM(E4:E28) -> 181 | F29: =SUM(F4:F28) -> 211 | G29: =SUM(G4:G28) -> 17 | H29: =SUM(H4:H28) -> 7 | I29: =SUM(I4:I28) -> 14 | J29: =SUM(J4:J28) -> 9 | K29: =SUM(K4:K28) -> 122 | ... P29: =SUM(P4:P28) -> 1
C30: Average | D30: =AVERAGE(D4:D28) -> 80.8 | E30: =AVERAGE(E4:E28) -> 7.24 | F30: =AVERAGE(F4:F28) -> 8.44 | G30: =AVERAGE(G4:G28) -> 0.68 | H30: =AVERAGE(H4:H28) -> 0.28 | I30: =AVERAGE(I4:I28) -> 0.56 | J30: =AVERAGE(J4:J28) -> 0.36 | K30: =AVERAGE(K4:K28) -> 4.88 | L30: =AVERAGE(L4:L28) -> 0.2 | M30: 0 | N30: 0 | O30: 0 | P30: 0
C31: Average Infested | D31: 112 | E31: 14 | F31: 19 | G31: 2 | H31: 2.1 | I31: 2 | J31: 1 | K31: 10 | L31: 1 | M31: 1 | N31: 1 | O31: 1 | P31: 1

Sheet 2001
B1: Important Note: Beating Size 2M*3M = 6M2 square
A3: Contract | B3: Plot | C3: Location | D3: Western Hemlock Looper | E3: Black-headed budworm | F3: Sawflies | G3: Green-striped forest looper | H3: Western False Hemlock Looper | I3: Gray Spruce Looper | J3: Saddleback Looper | K3: Nytobia limitaria | L3: Protoboarmia p. indicataria | M3: Semiothisa s. unipunctaria | N3: Feralia spp | O3: Nematocampa spp | P3: Choristoneura occidentalis | Q3: Orgyia spp | R3: Geometridae | S3: Hypagyrtia piniata | T3: Eupithecia spp. | U3: Stenoponpia p. satisfacta | V3: DEFOLIATON ESTIMATE
A4: Lorraine | B4: 69 | C4: Quartz Crk | D4: 0 | E4: 1 | F4: 50 | G4: 0 | H4: 0 | I4: 0 | J4: 0 | K4: 1 | L4: 0 | M4: 0 | N4: 0 | O4: 0 | P4: 0 | Q4: 0 | R4: 0 | S4: 0 | T4: 0 | U4: 0 | V4: N
A5: Lorraine | B5: 72 | C5: Tangier FSR | D5: 4 | E5: 0 | F5: 63 | G5: 0 | H5: 0 | I5: 0 | J5: 0 | K5: 0 | L5: 0 | M5: 0 | N5: 0 | O5: 0 | P5: 0 | Q5: 0 | R5: 0 | S5: 0 | T5: 0 | U5: 0 | V5: N
A6: Lorraine | B6: 86 | C6: Beaver River | D6: 17 | E6: 8 | F6: 129 | G6: 0 | H6: 0 | I6: 0 | J6: 1 | K6: 0 | L6: 0 | M6: 1 | N6: 0 | O6: 1 | P6: 0 | Q6: 0 | R6: 0 | S6: 0 | T6: 0 | U6: 0 | V6: T
A7: Lorraine | B7: 87 | C7: Jumping Crk | D7: 0 | E7: 2 | F7: 76 | G7: 0 | H7: 0 | I7: 1 | J7: 0 | K7: 0 | L7: 0 | M7: 0 | N7: 1 | O7: 0 | P7: 0 | Q7: 0 | R7: 0 | S7: 0 | T7: 0 | U7: 0 | V7: N
A8: Lorraine | B8: 73 | C8: Martha Crk | D8: 10 | E8: 0 | F8: 0 | G8: 0 | H8: 2 | I8: 0 | J8: 0 | K8: 0 | L8: 0 | M8: 1 | N8: 1 | O8: 1 | P8: 0 | Q8: 0 | R8: 0 | S8: 0 | T8: 0 | U8: 0 | V8: N
A9: Lorraine | B9: 74 | C9: Goldstream River | D9: 68 | E9: 0 | F9: 138 | G9: 0 | H9: 0 | I9: 0 | J9: 0 | K9: 0 | L9: 0 | M9: 0 | N9: 0 | O9: 0 | P9: 0 | Q9: 0 | R9: 0 | S9: 0 | T9: 0 | U9: 0 | V9: T
A10: Lorraine | B10: 75 | C10: Downie Crk | D10: 37 | E10: 1 | F10: 102 | G10: 0 | H10: 0 | I10: 0 | J10: 0 | K10: 0 | L10: 0 | M10: 0 | N10: 0 | O10: 0 | P10: 0 | Q10: 0 | R10: 0 | S10: 0 | T10: 0 | U10: 0 | V10: T
A11: Lorraine | B11: 76 | C11: Bigmouth Crk | D11: 142 | E11: 0 | F11: 13 | G11: 0 | H11: 0 | I11: 0 | J11: 0 | K11: 0 | L11: 1 | M11: 0 | N11: 0 | O11: 0 | P11: 0 | Q11: 0 | R11: 0 | S11: 0 | T11: 0 | U11: 0 | V11: T
A12: Lorraine | B12: 78 | C12: Carnes Crk | D12: 2 | E12: 0 | F12: 0 | G12: 0 | H12: 2 | I12: 0 | J12: 0 | K12: 0 | L12: 0 | M12: 0 | N12: 0 | O12: 0 | P12: 0 | Q12: 0 | R12: 0 | S12: 0 | T12: 0 | U12: 0 | V12: N
A13: Lorraine | B13: 84 | C13: Pitt Crk Rec Site | D13: 204 | E13: 0 | F13: 35 | G13: 0 | H13: 0 | I13: 0 | J13: 1 | K13: 0 | L13: 0 | M13: 1 | N13: 0 | O13: 0 | P13: 0 | Q13: 1 | R13: 0 | S13: 0 | T13: 0 | U13: 3 | V13: T
A14: Lorraine | B14: 85 | C14: Kinbasket Lk | D14: 9 | E14: 3 | F14: 12 | G14: 0 | H14: 0 | I14: 0 | J14: 0 | K14: 0 | L14: 0 | M14: 0 | N14: 0 | O14: 0 | P14: 0 | Q14: 0 | R14: 0 | S14: 0 | T14: 0 | U14: 0 | V14: N
A15: Art | B15: 30 | C15: Keen Crk | D15: 43 | E15: 24 | F15: 812 | G15: 0 | H15: 0 | I15: 0 | J15: 1 | K15: 1 | L15: 0 | M15: 0 | N15: 0 | O15: 2 | P15: 1 | Q15: 1 | R15: 0 | S15: 0 | T15: 0 | U15: 0 | V15: L
... A28: Art | B28: 82 | C28: Beaton | D28: 7 | E28: 0 | F28: 0 | G28: 3 | H28: 0 | I28: 0 | J28: 0 | K28: 0 | L28: 0 | M28: 50 | N28: 0 | O28: 0 | P28: 0 | Q28: 0 | R28: 0 | S28: 0 | T28: 1 | U28: 0 | V28: N
C29: Total | D29: =SUM(D4:D28) -> 580 | E29: =SUM(E4:E28) -> 47 | F29: =SUM(F4:F28) -> 1527 | G29: =SUM(G4:G28) -> 19 | H29: =SUM(H4:H28) -> 19 | I29: =SUM(I4:I28) -> 46 | J29: =SUM(J4:J28) -> 4 | K29: =SUM(K4:K28) -> 2 | ... U29: =SUM(U4:U28) -> 3
C30: Average | D30: =AVERAGE(D4:D28) -> 23.2 | E30: =AVERAGE(E4:E28) -> 1.88 | F30: =AVERAGE(F4:F28) -> 61.08 | G30: =AVERAGE(G4:G28) -> 0.76 | H30: =AVERAGE(H4:H28) -> 0.76 | I30: =AVERAGE(I4:I28) -> 1.84 | J30: =AVERAGE(J4:J28) -> 0.16 | K30: =AVERAGE(K4:K28) -> 0.08 | ... R30: =AVERAGE(R4:R28) -> 0.92 | S30: 0 | T30: 0 | U30: =AVERAGE(U4:U28) -> 0.12
C31: Average Infested | D31: 32 | E31: 5 | F31: 89.8 | G31: 5 | H31: 2.1 | I31: 15 | J31: 1 | K31: 1 | L31: 1 | M31: 12 | N31: 1 | O31: 1.3 | P31: 1 | Q31: 1 | R31: 13 | S31: 2 | T31: 2 | U31: 1
C32: Major Defoliator

Sheet 2000
B1: Important Note: Beating Size 2M*3M = 6M2
A3: Contract | B3: Plot | C3: Location | D3: Western Hemlock Looper | E3: Black-headed budworm | F3: Sawflies | G3: Green-striped forest looper | H3: Western False Hemlock Looper | I3: Gray Spruce Looper | J3: Saddleback Looper | K3: Synaxis pallulata | L3: Nytobia limitaria | M3: Protoboarmia p. indicataria | N3: Semiothisa s. unipunctaria | O3: Feralia spp | P3: Kleidocerys sp. | Q3: Choristoneura occidentalis | R3: Orgyia spp | S3: DEFOLIATON ESTIMATE
A4: Lorraine | B4: 69 | C4: Quartz Crk | D4: 1 | E4: 0 | F4: 32 | G4: 0 | H4: 0 | I4: 0 | J4: 0 | K4: 0 | L4: 0 | M4: 0 | N4: 0 | O4: 0 | P4: 0 | Q4: 0 | R4: 0 | S4: T
A5: Lorraine | B5: 72 | C5: Tangier FSR | D5: 0 | E5: 2 | F5: 0 | G5: 0 | H5: 0 | I5: 0 | J5: 0 | K5: 0 | L5: 0 | M5: 0 | N5: 0 | O5: 0 | P5: 0 | Q5: 0 | R5: 0 | S5: N
A6: Lorraine | B6: 86 | C6: Beaver River | D6: 1 | E6: 2 | F6: 26 | G6: 0 | H6: 0 | I6: 1 | J6: 0 | K6: 0 | L6: 0 | M6: 0 | N6: 0 | O6: 0 | P6: 0 | Q6: 0 | R6: 1 | S6: T
A7: Lorraine | B7: 87 | C7: Jumping Crk | D7: 1 | E7: 3 | F7: 8 | G7: 0 | H7: 0 | I7: 0 | J7: 0 | K7: 0 | L7: 0 | M7: 0 | N7: 0 | O7: 0 | P7: 0 | Q7: 0 | R7: 0 | S7: N
A8: Lorraine | B8: 73 | C8: Martha Crk | D8: 1 | E8: 0 | F8: 0 | G8: 0 | H8: 0 | I8: 0 | J8: 0 | K8: 0 | L8: 0 | M8: 0 | N8: 0 | O8: 0 | P8: 0 | Q8: 0 | R8: 0 | S8: N
A9: Lorraine | B9: 74 | C9: Goldstream River | D9: 0 | E9: 0 | F9: 32 | G9: 0 | H9: 0 | I9: 0 | J9: 0 | K9: 0 | L9: 0 | M9: 0 | N9: 0 | O9: 0 | P9: 0 | Q9: 0 | R9: 0 | S9: N
A10: Lorraine | B10: 75 | C10: Downie Crk | D10: 1 | E10: 0 | F10: 10 | G10: 0 | H10: 0 | I10: 0 | J10: 0 | K10: 0 | L10: 0 | M10: 0 | N10: 0 | O10: 0 | P10: 0 | Q10: 0 | R10: 0 | S10: N
A11: Lorraine | B11: 76 | C11: Bigmouth Crk | D11: 0 | E11: 0 | F11: 1 | G11: 0 | H11: 0 | I11: 0 | J11: 0 | K11: 0 | L11: 0 | M11: 0 | N11: 0 | O11: 0 | P11: 0 | Q11: 0 | R11: 0 | S11: N
A12: Lorraine | B12: 78 | C12: Carnes Crk | D12: 0 | E12: 0 | F12: 2 | G12: 0 | H12: 0 | I12: 0 | J12: 0 | K12: 0 | L12: 0 | M12: 0 | N12: 0 | O12: 0 | P12: 0 | Q12: 0 | R12: 0 | S12: N
A13: Lorraine | B13: 84 | C13: Pitt Crk Rec Site | D13: 3 | E13: 0 | F13: 13 | G13: 0 | H13: 0 | I13: 0 | J13: 0 | K13: 0 | L13: 0 | M13: 0 | N13: 0 | O13: 2 | P13: 0 | Q13: 0 | R13: 0 | S13: N
A14: Lorraine | B14: 85 | C14: Kinbasket Lk | D14: 0 | E14: 0 | F14: 3 | G14: 0 | H14: 0 | I14: 0 | J14: 0 | K14: 0 | L14: 0 | M14: 0 | N14: 0 | O14: 0 | P14: 0 | Q14: 0 | R14: 0 | S14: N
A15: Art | B15: 30 | C15: Keen Crk | D15: 3 | E15: 0 | F15: 51 | G15: 1 | H15: 0 | I15: 0 | J15: 0 | K15: 1 | L15: 0 | M15: 0 | N15: 0 | O15: 0 | P15: 0 | Q15: 0 | R15: 0 | S15: N
... A28: Art | B28: 82 | C28: Beaton | D28: 1 | E28: 0 | F28: 0 | G28: 0 | H28: 0 | I28: 0 | J28: 0 | K28: 0 | L28: 0 | M28: 0 | N28: 2 | O28: 1 | P28: 0 | Q28: 0 | R28: 0 | S28: N
C29: Total | D29: =SUM(D4:D28) -> 16 | E29: =SUM(E4:E28) -> 8 | F29: =SUM(F4:F28) -> 225 | G29: =SUM(G4:G28) -> 1 | H29: =SUM(H4:H28) -> 1 | I29: =SUM(I4:I28) -> 8 | J29: =SUM(J4:J28) -> 1 | K29: =SUM(K4:K28) -> 1 | ... R29: =SUM(R4:R28) -> 1
C30: Average | D30: =AVERAGE(D4:D28) -> 0.64 | E30: =AVERAGE(E4:E28) -> 0.32 | F30: =AVERAGE(F4:F28) -> 9 | G30: =AVERAGE(G4:G28) -> 0.04 | H30: =AVERAGE(H4:H28) -> 0.04 | I30: =AVERAGE(I4:I28) -> 0.32 | J30: =AVERAGE(J4:J28) -> 0.04 | K30: =AVERAGE(K4:K28) -> 0.04 | ... R30: =AVERAGE(R4:R28) -> 0.04
C31: Average Infested | D31: 2 | E31: 8 | F31: 11 | G31: 0 | H31: 1 | I31: 2 | J31: 1 | K31: 1 | L31: 1 | M31: 5 | N31: 2 | O31: 1 | P31: 1 | Q31: 0 | R31: 1
C32: % Positive | D32: =9/25*100 -> 36
