Workbook

Sheet Table2
A1: PSP | B1: TSA | C1: Location | D1: 2013 | E1: 2014 | F1: 2015 | G1: 2016 | H1: 2017 | I1: 2018 | J1: 2019
A2: 66 | B2: DRE | C2: Sutherland Falls | D2: 39.666667 | E2: 20.5 | F2: 2 | G2: 1 | H2: n/a | I2: 72 | J2: 235
A3: 83 | B3: DRE | C3: Begbie Crk | D3: 170.5 | E3: 23 | F3: 10.833333 | G3: 0 | H3: 49.6 | I3: 97 | J3: 658
A4: 72 | B4: DRE | C4: Tangier FSR | D4: 109.66667 | E4: 22.666667 | F4: 19.2 | G4: 0.6 | H4: 18.6 | I4: 98 | J4: 56
A5: 87 | B5: DRE | C5: Jumping Crk | D5: 36 | E5: 4 | F5: 2.8333333 | G5: 4.8 | H5: 41.166667 | I5: n/a
A6: 73 | B6: DRE | C6: Martha Crk | D6: 104.83333 | E6: 31.2 | F6: 2.6666667 | G6: 2.8 | H6: 22.833333 | I6: 86 | J6: 33
A7: 78 | B7: DRE | C7: Carnes Crk | D7: 65.666667 | E7: 6.8333333 | F7: 5 | G7: 2.8 | H7: 15.2 | I7: 8 | J7: 257
A8: 75 | B8: DRE | C8: Downie Crk | D8: 85.5 | E8: 23.6 | F8: 8.8 | G8: 8.8 | H8: 8.6 | I8: 35 | J8: 246
A9: 74 | B9: DRE | C9: Goldstream River | D9: 137.33333 | E9: 23.166667 | F9: 2 | G9: 2.5 | H9: 42 | I9: 55 | J9: 257
A10: 76 | B10: DRE | C10: Bigmouth Crk | D10: 37.666667 | E10: 1.8333333 | F10: 2.4 | G10: 1 | H10: 26.166667 | I10: 55 | J10: 88
A11: 84 | B11: DRE | C11: Pitt Crk Rec Site | D11: 12.666667 | E11: 5.5 | F11: 4.1666667 | G11: 1.7 | H11: 49.833333 | I11: 25 | J11: 342
A12: 85 | B12: DRE | C12: Kinbasket Lk | D12: 83.166667 | E12: 4 | F12: 8.5 | G12: 1.8 | H12: 19.6 | I12: 145 | J12: 518
C13: Average | D13: =AVERAGE(D2:D12) -> 80.242424 | E13: =AVERAGE(E2:E12) -> 15.118182 | F13: =AVERAGE(F2:F12) -> 6.2181818 | G13: =AVERAGE(G2:G12) -> 2.5272727 | H13: =AVERAGE(H3:H12) -> 29.36 | I13: =AVERAGE(I2:I12) -> 67.6 | J13: =AVERAGE(J2:J12) -> 269

Sheet Yearly_Adult_average
A1: PSP | B1: Location | C1: 2007 | D1: 2008 | E1: 2009 | F1: 2010 | G1: 2011 | H1: 2012 | I1: 2013 | J1: 2014 | K1: 2015 | L1: 2016 | M1: 2017 | N1: 2018 | O1: 2019
A2: 66 | B2: Sutherland Falls | C2: 1.2 | D2: 28.833333 | E2: 30.333333 | F2: 221.33333 | G2: 328.33333 | H2: 222.16667 | I2: 39.666667 | J2: 20.5 | K2: 2 | L2: 1 | M2: n/a | N2: 72 | O2: 235
A3: 83 | B3: Begbie Crk | C3: 1.1666667 | D3: 24.5 | E3: 55 | F3: 550.5 | G3: 634.5 | H3: 557.33333 | I3: 170.5 | J3: 23 | K3: 10.833333 | L3: 0 | M3: 49.6 | N3: 97 | O3: 658
A4: 72 | B4: Tangier FSR | C4: 1.2 | D4: 22.166667 | E4: 75.333333 | F4: 383.5 | G4: 283.66667 | H4: 390.33333 | I4: 109.66667 | J4: 22.666667 | K4: 19.2 | L4: 0.6 | M4: 18.6 | N4: 98 | O4: 56
A5: 87 | B5: Jumping Crk | C5: 1 | D5: 27.333333 | E5: 30 | F5: 196.2 | H5: 200.83333 | I5: 36 | J5: 4 | K5: 2.8333333 | L5: 4.8 | M5: 41.166667 | N5: n/a
A6: 73 | B6: Martha Crk | C6: 0.83333333 | D6: 8 | E6: 6 | F6: 259 | G6: 227.83333 | H6: 280.83333 | I6: 104.83333 | J6: 31.2 | K6: 2.6666667 | L6: 2.8 | M6: 22.833333 | N6: 86 | O6: 33
A7: 78 | B7: Carnes Crk | C7: 1.1666667 | D7: 16.166667 | E7: 30.5 | F7: 312.5 | G7: 372.66667 | H7: 517.83333 | I7: 65.666667 | J7: 6.8333333 | K7: 5 | L7: 2.8 | M7: 15.2 | N7: 8 | O7: 257
A8: 75 | B8: Downie Crk | C8: 1 | D8: 29.5 | E8: 60.166667 | F8: 371.66667 | G8: 1135.1667 | H8: 743.16667 | I8: 85.5 | J8: 23.6 | K8: 8.8 | L8: 8.8 | M8: 8.6 | N8: 35 | O8: 246
A9: 74 | B9: Goldstream River | C9: 2.8333333 | D9: 4 | E9: 80.5 | F9: 302.5 | G9: 689 | H9: 597 | I9: 137.33333 | J9: 23.166667 | K9: 2 | L9: 2.5 | M9: 42 | N9: 55 | O9: 257
A10: 76 | B10: Bigmouth Crk | C10: 0.66666667 | D10: 9.3333333 | E10: 29.5 | F10: 318.4 | G10: 769 | H10: 644.66667 | I10: 37.666667 | J10: 1.8333333 | K10: 2.4 | L10: 1 | M10: 26.166667 | N10: 55 | O10: 88
A11: 84 | B11: Pitt Crk Rec Site | C11: 1.8333333 | D11: 15.666667 | E11: 130.2 | F11: 431.16667 | G11: 1274.3333 | H11: 865.16667 | I11: 12.666667 | J11: 5.5 | K11: 4.1666667 | L11: 1.7 | M11: 49.833333 | N11: 25 | O11: 342
A12: 85 | B12: Kinbasket Lk | C12: 7.5 | D12: 89.166667 | E12: 237.2 | F12: 468 | G12: 1532.6 | H12: 304 | I12: 83.166667 | J12: 4 | K12: 8.5 | L12: 1.8 | M12: 19.6 | N12: 145 | O12: 518
B13: Average | C13: =AVERAGE(C2:C12) -> 1.8545455 | D13: =AVERAGE(D2:D12) -> 24.969697 | E13: =AVERAGE(E2:E12) -> 69.521212 | F13: =AVERAGE(F2:F12) -> 346.79697 | G13: 724 | H13: =AVERAGE(H2:H12) -> 483.93939 | I13: =AVERAGE(I2:I12) -> 80.242424 | J13: =AVERAGE(J2:J12) -> 15.118182 | K13: =AVERAGE(K2:K12) -> 6.2181818 | L13: =AVERAGE(L2:L12) -> 2.5272727 | M13: =AVERAGE(M3:M12) -> 29.36 | N13: =AVERAGE(N2:N12) -> 67.6 | O13: =AVERAGE(O2:O12) -> 269

Sheet TrapResults19
A2: Plot | B2: Location | C2: 1 | D2: 2 | E2: 3 | F2: 4 | G2: 5 | H2: 6 | I2: Total | J2: Average | M2: Plot | N2: Location | O2: 1 | P2: 2 | Q2: 3 | R2: 4 | S2: 5 | T2: 6 | U2: Total | V2: Average
A3: 66 | B3: Sutherland Falls | C3: 540 | D3: 75 | E3: 421 | F3: 35 | G3: 278 | H3: 63 | I3: =SUM(C3:H3) -> 1412 | J3: =AVERAGE(C3:H3) -> 235.33333 | M3: 66 | N3: Sutherland Falls | O3: 131 | P3: 48 | Q3: 36 | R3: 28 | S3: 53 | T3: 135 | U3: =SUM(O3:T3) -> 431 | V3: =U3/6 -> 71.833333
A4: 72 | B4: Tangier FSR | C4: 28 | D4: 52 | E4: 37 | F4: 92 | G4: 38 | H4: 88 | I4: =SUM(C4:H4) -> 335 | J4: =AVERAGE(C4:H4) -> 55.833333 | M4: 72 | N4: Tangier FSR | O4: 81 | P4: 51 | Q4: 127 | R4: 94 | S4: 202 | T4: 34 | U4: =SUM(O4:T4) -> 589 | V4: =U4/6 -> 98.166667 | W4: 49.6
A5: 73 | B5: Martha Creek | C5: 38 | D5: 8 | E5: 41 | F5: 56 | G5: 22 | H5: 32 | I5: =SUM(C5:H5) -> 197 | J5: =AVERAGE(C5:H5) -> 32.833333 | M5: 73 | N5: Martha Creek | O5: 102 | P5: 157 | Q5: 15 | R5: down | S5: 70 | T5: down | U5: =SUM(O5:T5) -> 344 | V5: =U5/4 -> 86 | W5: 18.6
A6: 74 | B6: Goldstream River | C6: 178 | D6: 324 | E6: 269 | F6: 187 | G6: 342 | H6: 243 | I6: =SUM(C6:H6) -> 1543 | J6: =AVERAGE(C6:H6) -> 257.16667 | M6: 74 | N6: Goldstream River | O6: 67 | P6: 24 | Q6: 5 | R6: 99 | S6: 77 | T6: 58 | U6: =SUM(O6:T6) -> 330 | V6: =U6/6 -> 55 | W6: 41.166667
A7: 75 | B7: Downie Creek | C7: 428 | D7: 158 | E7: 82 | F7: 134 | G7: 428 | H7: down | I7: =SUM(C7:H7) -> 1230 | J7: =AVERAGE(C7:H7) -> 246 | M7: 75 | N7: Downie Creek | O7: 35 | P7: 12 | Q7: 68 | R7: 28 | S7: 31 | T7: down | U7: =SUM(O7:T7) -> 174 | V7: =U7/5 -> 34.8 | W7: 22.833333
A8: 76 | B8: Bigmouth Creek | C8: 30 | D8: 96 | E8: 148 | F8: 54 | G8: 114 | H8: down | I8: =SUM(C8:H8) -> 442 | J8: =AVERAGE(C8:H8) -> 88.4 | M8: 76 | N8: Bigmouth Creek | O8: 18 | P8: 2 | Q8: 26 | R8: 13 | S8: 20 | T8: 71 | U8: =SUM(O8:T8) -> 150 | V8: =U8/6 -> 25 | W8: 15.2
A9: 78 | B9: Carnes Creek | C9: 427 | D9: 178 | E9: 52 | F9: 75 | G9: 741 | H9: 71 | I9: =SUM(C9:H9) -> 1544 | J9: =AVERAGE(C9:H9) -> 257.33333 | M9: 78 | N9: Carnes Creek | O9: 5 | P9: 16 | Q9: 4 | R9: 7 | S9: 13 | T9: 1 | U9: =SUM(O9:T9) -> 46 | V9: =U9/6 -> 7.6666667 | W9: 8.6
A10: 83 | B10: Begbie Creek | C10: 506 | D10: 1371 | E10: 64 | F10: 700 | G10: 650 | H10: down | I10: =SUM(C10:H10) -> 3291 | J10: =AVERAGE(C10:H10) -> 658.2 | M10: 83 | N10: Begbie Creek | O10: 32 | P10: 6 | Q10: 76 | R10: 42 | S10: 76 | T10: 351 | U10: =SUM(O10:T10) -> 583 | V10: =U10/6 -> 97.166667 | W10: 42
A11: 84 | B11: Pitt Crk Rec Site | C11: 558 | D11: 412 | E11: 448 | F11: 57 | G11: 235 | H11: down | I11: =SUM(C11:H11) -> 1710 | J11: =AVERAGE(C11:H11) -> 342 | M11: 84 | N11: Pitt Crk Rec Site | O11: 23 | P11: 77 | Q11: 121 | R11: 102 | S11: 18 | T11: 17 | U11: =SUM(O11:T11) -> 358 | V11: =U11/6 -> 59.666667 | W11: 26.166667
A12: 85 | B12: Kinbasket Lake | C12: 442 | D12: 739 | E12: 67 | F12: 57 | G12: 1438 | H12: 367 | I12: =SUM(C12:H12) -> 3110 | J12: =AVERAGE(C12:H12) -> 518.33333 | M12: 85 | N12: Kinbasket Lake | O12: 121 | P12: 131 | Q12: 340 | R12: 135 | S12: missing | T12: down | U12: =SUM(O12:T12) -> 727 | V12: =U12/5 -> 145.4 | W12: 49.833333
A13: 87 | B13: Jumping Creek | C13: Now a gravel pit - site will have to be relocated | J13: =AVERAGE(J3:J12) -> 269.14333 | M13: 87 | N13: Jumping Creek | O13: Road Closed - Bridge Out | V13: =AVERAGE(V3:V12) -> 68.07 | W13: 19.6
B14: Total | I14: =SUM(I3:I13) -> 14814 | N14: Total | U14: =SUM(U3:U13) -> 3732

Sheet TrapResults18
A2: Plot | B2: Location | C2: 1 | D2: 2 | E2: 3 | F2: 4 | G2: 5 | H2: 6 | I2: Total | J2: Average
A3: 66 | B3: Sutherland Falls | C3: 131 | D3: 48 | E3: 36 | F3: 28 | G3: 53 | H3: 135 | I3: =SUM(C3:H3) -> 431 | J3: =I3/6 -> 71.833333
A4: 72 | B4: Tangier FSR | C4: 81 | D4: 51 | E4: 127 | F4: 94 | G4: 202 | H4: 34 | I4: =SUM(C4:H4) -> 589 | J4: =I4/6 -> 98.166667 | K4: 49.6
A5: 73 | B5: Martha Creek | C5: 102 | D5: 157 | E5: 15 | F5: down | G5: 70 | H5: down | I5: =SUM(C5:H5) -> 344 | J5: =I5/4 -> 86 | K5: 18.6
A6: 74 | B6: Goldstream River | C6: 67 | D6: 24 | E6: 5 | F6: 99 | G6: 77 | H6: 58 | I6: =SUM(C6:H6) -> 330 | J6: =I6/6 -> 55 | K6: 41.166667
A7: 75 | B7: Downie Creek | C7: 35 | D7: 12 | E7: 68 | F7: 28 | G7: 31 | H7: down | I7: =SUM(C7:H7) -> 174 | J7: =I7/5 -> 34.8 | K7: 22.833333
A8: 76 | B8: Bigmouth Creek | C8: 18 | D8: 2 | E8: 26 | F8: 13 | G8: 20 | H8: 71 | I8: =SUM(C8:H8) -> 150 | J8: =I8/6 -> 25 | K8: 15.2
A9: 78 | B9: Carnes Creek | C9: 5 | D9: 16 | E9: 4 | F9: 7 | G9: 13 | H9: 1 | I9: =SUM(C9:H9) -> 46 | J9: =I9/6 -> 7.6666667 | K9: 8.6
A10: 83 | B10: Begbie Creek | C10: 32 | D10: 6 | E10: 76 | F10: 42 | G10: 76 | H10: 351 | I10: =SUM(C10:H10) -> 583 | J10: =I10/6 -> 97.166667 | K10: 42
A11: 84 | B11: Pitt Crk Rec Site | C11: 23 | D11: 77 | E11: 121 | F11: 102 | G11: 18 | H11: 17 | I11: =SUM(C11:H11) -> 358 | J11: =I11/6 -> 59.666667 | K11: 26.166667
A12: 85 | B12: Kinbasket Lake | C12: 121 | D12: 131 | E12: 340 | F12: 135 | G12: missing | H12: down | I12: =SUM(C12:H12) -> 727 | J12: =I12/5 -> 145.4 | K12: 49.833333
A13: 87 | B13: Jumping Creek | C13: Road Closed - Bridge Out | J13: =AVERAGE(J3:J12) -> 68.07 | K13: 19.6
B14: Total | I14: =SUM(I3:I13) -> 3732

Sheet TrapResults17
A2: Plot | B2: Location | C2: 1 | D2: 2 | E2: 3 | F2: 4 | G2: 5 | H2: 6 | I2: Total | J2: Average
A3: 66 | B3: Sutherland Falls | C3: Not able to retreive - construction - campsite closed
A4: 72 | B4: Tangier FSR | C4: 10 | D4: 25 | E4: 25 | F4: 130 | G4: 58 | H4: down | I4: =SUM(C4:H4) -> 248 | J4: =I4/5 -> 49.6
A5: 73 | B5: Martha Creek | C5: 41 | D5: 22 | E5: 8 | F5: 18 | G5: 4 | H5: down | I5: =SUM(C5:H5) -> 93 | J5: =I5/5 -> 18.6
A6: 74 | B6: Goldstream River | C6: 37 | D6: 23 | E6: 44 | F6: 65 | G6: 37 | H6: 41 | I6: =SUM(C6:H6) -> 247 | J6: =I6/6 -> 41.166667
A7: 75 | B7: Downie Creek | C7: 20 | D7: 15 | E7: 39 | F7: 14 | G7: 21 | H7: 28 | I7: =SUM(C7:H7) -> 137 | J7: =I7/6 -> 22.833333
A8: 76 | B8: Bigmouth Creek | C8: 20 | D8: 18 | E8: 9 | F8: 21 | G8: 8 | H8: down | I8: =SUM(C8:H8) -> 76 | J8: =I8/5 -> 15.2
A9: 78 | B9: Carnes Creek | C9: 14 | D9: 13 | E9: 0 | F9: 3 | G9: 13 | H9: down | I9: =SUM(C9:H9) -> 43 | J9: =I9/5 -> 8.6
A10: 83 | B10: Begbie Creek | C10: 8 | D10: 31 | E10: 128 | F10: 19 | G10: 38 | H10: 28 | I10: =SUM(C10:H10) -> 252 | J10: =I10/6 -> 42
A11: 84 | B11: Pitt Crk Rec Site | C11: 21 | D11: 20 | E11: 10 | F11: 25 | G11: 18 | H11: 63 | I11: =SUM(C11:H11) -> 157 | J11: =I11/6 -> 26.166667
A12: 85 | B12: Kinbasket Lake | C12: 130 | D12: 53 | E12: 32 | F12: 20 | G12: 41 | H12: 23 | I12: =SUM(C12:H12) -> 299 | J12: =I12/6 -> 49.833333
A13: 87 | B13: Jumping Creek | C13: 8 | D13: 23 | E13: 28 | F13: 18 | G13: 21 | H13: down | I13: =SUM(C13:H13) -> 98 | J13: =I13/5 -> 19.6
B14: Total | I14: =SUM(I3:I13) -> 1650

Sheet TrapResults16
A2: Plot | B2: Location | C2: 1 | D2: 2 | E2: 3 | F2: 4 | G2: 5 | H2: 6 | I2: Total | J2: Average
A3: 66 | B3: Sutherland Falls | C3: 3 | D3: 2 | E3: 1 | F3: 0 | G3: 0 | H3: 0 | I3: =SUM(C3:H3) -> 6 | J3: =AVERAGE(C3:H3) -> 1
A4: 72 | B4: Tangier FSR | C4: 0 | D4: 0 | E4: 0 | F4: 1 | G4: 2 | H4: down | I4: =SUM(C4:H4) -> 3 | J4: =AVERAGE(C4:G4) -> 0.6
A5: 73 | B5: Martha Creek | C5: 2 | D5: 3 | E5: 4 | F5: 5 | G5: 0 | H5: down | I5: =SUM(C5:H5) -> 14 | J5: =AVERAGE(C5:G5) -> 2.8
A6: 74 | B6: Goldstream River | C6: 9 | D6: 4 | E6: 1 | F6: 0 | G6: 0 | H6: 1 | I6: =SUM(C6:H6) -> 15 | J6: =AVERAGE(C6:H6) -> 2.5
A7: 75 | B7: Downie Creek | C7: 1 | D7: 2 | E7: 4 | F7: 5 | G7: 15 | H7: 26 | I7: =SUM(C7:H7) -> 53 | J7: =AVERAGE(C7:H7) -> 8.8333333
A8: 76 | B8: Bigmouth Creek | C8: 2 | D8: 1 | E8: 3 | F8: 0 | G8: 0 | H8: 0 | I8: =SUM(C8:H8) -> 6 | J8: =AVERAGE(C8:H8) -> 1
A9: 78 | B9: Carnes Creek | C9: 1 | D9: 2 | E9: 2 | F9: 4 | G9: 8 | H9: 0 | I9: =SUM(C9:H9) -> 17 | J9: =AVERAGE(C9:H9) -> 2.8333333
A10: 83 | B10: Begbie Creek | C10: 0 | D10: 0 | E10: 0 | F10: 0 | G10: 0 | H10: 0 | I10: =SUM(C10:H10) -> 0 | J10: =AVERAGE(C10:H10) -> 0
A11: 84 | B11: Pitt Crk Rec Site | C11: 3 | D11: 3 | E11: 2 | F11: 2 | G11: 0 | H11: 0 | I11: =SUM(C11:H11) -> 10 | J11: =AVERAGE(C11:H11) -> 1.6666667
A12: 85 | B12: Kinbasket Lake | C12: 1 | D12: 1 | E12: 1 | F12: 7 | G12: 1 | H12: 0 | I12: =SUM(C12:H12) -> 11 | J12: =AVERAGE(C12:H12) -> 1.8333333
A13: 87 | B13: Jumping Creek | C13: 1 | D13: 2 | E13: 5 | F13: 8 | G13: 13 | H13: 0 | I13: =SUM(C13:H13) -> 29 | J13: =AVERAGE(C13:H13) -> 4.8333333
B14: Total | I14: =SUM(I3:I13) -> 164

Sheet TrapResults15
A2: Plot | B2: Location | C2: 1 | D2: 2 | E2: 3 | F2: 4 | G2: 5 | H2: 6 | I2: Total | J2: Average
A3: 66 | B3: Sutherland Falls | C3: 2 | D3: 2 | E3: 2 | F3: 3 | G3: 2 | H3: 1 | I3: =SUM(C3:H3) -> 12 | J3: =AVERAGE(C3:H3) -> 2
A4: 72 | B4: Tangier FSR | C4: 7 | D4: 0 | E4: x | F4: x | G4: 12 | H4: 58 | I4: =SUM(C4:H4) -> 77 | J4: 19.2
A5: 73 | B5: Martha Creek | C5: 1 | D5: 2 | E5: 2 | F5: 3 | G5: 4 | H5: 4 | I5: =SUM(C5:H5) -> 16 | J5: =AVERAGE(C5:H5) -> 2.6666667
A6: 74 | B6: Goldstream River | C6: 1 | D6: 0 | E6: 2 | F6: 3 | G6: 5 | H6: 1 | I6: =SUM(C6:H6) -> 12 | J6: =AVERAGE(C6:H6) -> 2
A7: 75 | B7: Downie Creek | C7: 1 | D7: 4 | E7: 7 | F7: 16 | G7: 16 | H7: x | I7: =SUM(C7:H7) -> 44 | J7: =AVERAGE(C7:H7) -> 8.8
A8: 76 | B8: Bigmouth Creek | C8: 0 | D8: 0 | E8: 1 | F8: 3 | G8: 8 | H8: x | I8: =SUM(C8:H8) -> 12 | J8: =AVERAGE(C8:H8) -> 2.4
A9: 78 | B9: Carnes Creek | C9: 0 | D9: 11 | E9: 4 | F9: 7 | G9: 6 | H9: 2 | I9: =SUM(C9:H9) -> 30 | J9: =AVERAGE(C9:H9) -> 5
A10: 83 | B10: Begbie Creek | C10: 6 | D10: 2 | E10: 21 | F10: 17 | G10: 7 | H10: 12 | I10: =SUM(C10:H10) -> 65 | J10: =AVERAGE(C10:H10) -> 10.833333
A11: 84 | B11: Pitt Crk Rec Site | C11: 1 | D11: 1 | E11: 5 | F11: 8 | G11: 10 | H11: 0 | I11: =SUM(C11:H11) -> 25 | J11: =AVERAGE(C11:H11) -> 4.1666667
A12: 85 | B12: Kinbasket Lake | C12: 18 | D12: 7 | E12: 12 | F12: 3 | G12: 1 | H12: 10 | I12: =SUM(C12:H12) -> 51 | J12: =AVERAGE(C12:H12) -> 8.5
A13: 87 | B13: Jumping Creek | C13: 12 | D13: 3 | E13: 2 | F13: 0 | G13: 0 | H13: 0 | I13: =SUM(C13:H13) -> 17 | J13: =AVERAGE(C13:H13) -> 2.8333333
I14: =SUM(I3:I13) -> 361 | J14: =AVERAGE(J3:J13) -> 6.2181818

Sheet TrapResults14
C1: Trap Counts
A2: Plot | B2: Location | C2: 1 | D2: 2 | E2: 3 | F2: 4 | G2: 5 | H2: 6 | I2: Total | J2: Average
A3: 66 | B3: Sutherland Falls | C3: 13 | D3: 37 | E3: 17 | F3: 26 | G3: 15 | H3: 15 | I3: =SUM(C3:H3) -> 123 | J3: =AVERAGE(C3:H3) -> 20.5
A4: 72 | B4: Tangier FSR | C4: 3 | D4: 30 | E4: 18 | F4: 52 | G4: 12 | H4: x | I4: =SUM(C4:H4) -> 115 | J4: =AVERAGE(C4:H4) -> 23
A5: 73 | B5: Martha Creek | C5: 14 | D5: 10 | E5: 10 | F5: 41 | G5: 46 | H5: 15 | I5: =SUM(C5:H5) -> 136 | J5: =AVERAGE(C5:H5) -> 22.666667
A6: 74 | B6: Goldstream River | C6: 2 | D6: 1 | E6: 8 | F6: 6 | G6: 3 | H6: 4 | I6: =SUM(C6:H6) -> 24 | J6: =AVERAGE(C6:H6) -> 4
A7: 75 | B7: Downie Creek | C7: 35 | D7: 35 | E7: 25 | F7: 48 | G7: 13 | H7: x | I7: =SUM(C7:H7) -> 156 | J7: =AVERAGE(C7:H7) -> 31.2
A8: 76 | B8: Bigmouth Creek | C8: 6 | D8: 4 | E8: 10 | F8: 11 | G8: 3 | H8: 7 | I8: =SUM(C8:H8) -> 41 | J8: =AVERAGE(C8:H8) -> 6.8333333
A9: 78 | B9: Carnes Creek | C9: 27 | D9: 40 | E9: 17 | F9: 17 | G9: 17 | H9: x | I9: =SUM(C9:H9) -> 118 | J9: =AVERAGE(C9:H9) -> 23.6
A10: 83 | B10: Begbie Creek | C10: 12 | D10: 28 | E10: 17 | F10: 16 | G10: 40 | H10: 26 | I10: =SUM(C10:H10) -> 139 | J10: =AVERAGE(C10:H10) -> 23.166667
A11: 84 | B11: Pitt Crk Rec Site | C11: 2 | D11: 1 | E11: 1 | F11: 1 | G11: 1 | H11: 5 | I11: =SUM(C11:H11) -> 11 | J11: =AVERAGE(C11:H11) -> 1.8333333
A12: 85 | B12: Kinbasket Lake | C12: 0 | D12: 5 | E12: 10 | F12: 11 | G12: 4 | H12: 3 | I12: =SUM(C12:H12) -> 33 | J12: =AVERAGE(C12:H12) -> 5.5
A13: 87 | B13: Jumping Creek | C13: 0 | D13: 3 | E13: 6 | F13: 0 | G13: 11 | H13: x | I13: =SUM(C13:H13) -> 20 | J13: =AVERAGE(C13:H13) -> 4
I14: =SUM(I3:I13) -> 916 | J14: =SUM(J3:J13) -> 166.3
A16: Plot | B16: Location | C16: 1 | D16: 2 | E16: 3 | F16: 4 | G16: 5 | H16: 6 | I16: Total | J16: Average
A17: 66 | B17: Sutherland Falls | C17: 2 | D17: 2 | E17: 2 | F17: 3 | G17: 2 | H17: 1 | I17: =SUM(C17:H17) -> 12 | J17: =AVERAGE(C17:H17) -> 2
A18: 72 | B18: Tangier FSR | C18: 7 | D18: 0 | E18: x | F18: x | G18: 12 | H18: 58 | I18: =SUM(C18:H18) -> 77 | J18: 19.2
A19: 73 | B19: Martha Creek | C19: 1 | D19: 2 | E19: 2 | F19: 3 | G19: 4 | H19: 4 | I19: =SUM(C19:H19) -> 16 | J19: =AVERAGE(C19:H19) -> 2.6666667
A20: 74 | B20: Goldstream River | C20: 1 | D20: 0 | E20: 2 | F20: 3 | G20: 5 | H20: 1 | I20: =SUM(C20:H20) -> 12 | J20: =AVERAGE(C20:H20) -> 2
A21: 75 | B21: Downie Creek | C21: 1 | D21: 4 | E21: 7 | F21: 16 | G21: 16 | H21: x | I21: =SUM(C21:H21) -> 44 | J21: =AVERAGE(C21:H21) -> 8.8
A22: 76 | B22: Bigmouth Creek | C22: 0 | D22: 0 | E22: 1 | F22: 3 | G22: 8 | H22: x | I22: =SUM(C22:H22) -> 12 | J22: =AVERAGE(C22:H22) -> 2.4
A23: 78 | B23: Carnes Creek | C23: 0 | D23: 11 | E23: 4 | F23: 7 | G23: 6 | H23: 2 | I23: =SUM(C23:H23) -> 30 | J23: =AVERAGE(C23:H23) -> 5
A24: 83 | B24: Begbie Creek | C24: 6 | D24: 2 | E24: 21 | F24: 17 | G24: 7 | H24: 12 | I24: =SUM(C24:H24) -> 65 | J24: =AVERAGE(C24:H24) -> 10.833333
A25: 84 | B25: Pitt Crk Rec Site | C25: 1 | D25: 1 | E25: 5 | F25: 8 | G25: 10 | H25: 0 | I25: =SUM(C25:H25) -> 25 | J25: =AVERAGE(C25:H25) -> 4.1666667
A26: 85 | B26: Kinbasket Lake | C26: 18 | D26: 7 | E26: 12 | F26: 3 | G26: 1 | H26: 10 | I26: =SUM(C26:H26) -> 51 | J26: =AVERAGE(C26:H26) -> 8.5
A27: 87 | B27: Jumping Creek | C27: 12 | D27: 3 | E27: 2 | F27: 0 | G27: 0 | H27: 0 | I27: =SUM(C27:H27) -> 17 | J27: =AVERAGE(C27:H27) -> 2.8333333
I28: =SUM(I17:I27) -> 361

Sheet TrapResults12
C1: Trap Counts
A2: Plot | B2: Location | C2: 1 | D2: 2 | E2: 3 | F2: 4 | G2: 5 | H2: 6 | I2: Total | J2: Average
A3: 66 | B3: Sutherland Falls | C3: 295 | D3: 160 | E3: 113 | F3: 276 | G3: 255 | H3: 234 | I3: 1333 | J3: 222.16667
A4: 72 | B4: Tangier FSR | C4: 282 | D4: 244 | E4: 233 | F4: 502 | G4: 695 | H4: 386 | I4: 2342 | J4: 390.33333
A5: 73 | B5: Martha Creek | C5: 205 | D5: 137 | E5: 468 | F5: 206 | G5: 381 | H5: 288 | I5: 1685 | J5: 280.83333
A6: 74 | B6: Goldstream River | C6: 470 | D6: 472 | E6: 649 | F6: 1142 | G6: 356 | H6: 493 | I6: 3582 | J6: 597
A7: 75 | B7: Downie Creek | C7: 638 | D7: 1123 | E7: 622 | F7: 438 | G7: 655 | H7: 983 | I7: 4459 | J7: 743.16667
A8: 76 | B8: Bigmouth Creek | C8: 245 | D8: 391 | E8: 837 | F8: 1252 | G8: 826 | H8: 317 | I8: 3868 | J8: 644.66667
A9: 78 | B9: Carnes Creek | C9: 573 | D9: 456 | E9: 621 | F9: 340 | G9: 515 | H9: 602 | I9: 3107 | J9: 517.83333
A10: 83 | B10: Begbie Creek | C10: 574 | D10: 242 | E10: 429 | F10: 970 | G10: 718 | H10: 411 | I10: 3344 | J10: 557.33333
A11: 84 | B11: Pitt Crk Rec Site | C11: 818 | D11: 787 | E11: 1242 | F11: 225 | G11: 1090 | H11: 1029 | I11: 5191 | J11: 865.16667
A12: 85 | B12: Kinbasket Lake | C12: 869 | D12: 412 | E12: 100 | F12: 134 | G12: 122 | H12: 187 | I12: 1824 | J12: 304
A13: 87 | B13: Jumping Creek | C13: 590 | D13: 64 | E13: 164 | F13: 91 | G13: 66 | H13: 230 | I13: 1205 | J13: 200.83333

Sheet TrapResults11
C1: Trap Counts
A2: Plot | B2: Location | C2: 1 | D2: 2 | E2: 3 | F2: 4 | G2: 5 | H2: 6 | I2: Total | J2: Average
A3: 66 | B3: Sutherland Falls | C3: 219 | D3: 210 | E3: 156 | F3: 236 | G3: 640 | H3: 509 | I3: =SUM(C3:H3) -> 1970 | J3: =I3/6 -> 328.33333
A4: 72 | B4: Tangier FSR | C4: 173 | D4: 152 | E4: 750 | F4: 175 | G4: 282 | H4: 170 | I4: =SUM(C4:H4) -> 1702 | J4: =I4/6 -> 283.66667
A5: 73 | B5: Martha Creek | C5: 485 | D5: 148 | E5: 129 | F5: 216 | G5: 276 | H5: 113 | I5: =SUM(C5:H5) -> 1367 | J5: =I5/6 -> 227.83333
A6: 74 | B6: Goldstream River | C6: 564 | D6: 747 | E6: 446 | F6: 544 | G6: 953 | H6: 880 | I6: =SUM(C6:H6) -> 4134 | J6: =I6/6 -> 689
A7: 75 | B7: Downie Creek | C7: 899 | D7: 745 | E7: 1574 | F7: 555 | G7: 2058 | H7: 980 | I7: =SUM(C7:H7) -> 6811 | J7: =I7/6 -> 1135.1667
A8: 76 | B8: Bigmouth Creek | C8: 944 | D8: 930 | E8: 1039 | F8: 1140 | G8: 301 | H8: 260 | I8: =SUM(C8:H8) -> 4614 | J8: =I8/6 -> 769
A9: 78 | B9: Carnes Creek | C9: 287 | D9: 365 | E9: 283 | F9: 436 | G9: 415 | H9: 450 | I9: =SUM(C9:H9) -> 2236 | J9: =I9/6 -> 372.66667
A10: 83 | B10: Begbie Creek | C10: 405 | D10: 283 | E10: 300 | F10: 1016 | G10: 823 | H10: 980 | I10: =SUM(C10:H10) -> 3807 | J10: =I10/6 -> 634.5
A11: 84 | B11: Pitt Crk Rec Site | C11: 1215 | D11: 2085 | E11: 1327 | F11: 749 | G11: 1966 | H11: 304 | I11: =SUM(C11:H11) -> 7646 | J11: =I11/6 -> 1274.3333
A12: 85 | B12: Kinbasket Lake | C12: 803 | D12: 1570 | E12: 1254 | F12: 2044 | G12: 1992 | I12: =SUM(C12:H12) -> 7663 | J12: =I12/5 -> 1532.6
A13: 87 | B13: Jumping Creek | C13: BEAR - consider moving site

Sheet TrapResult10
C1: Trap Counts
A2: Plot | B2: Location | C2: 1 | D2: 2 | E2: 3 | F2: 4 | G2: 5 | H2: 6 | I2: Total | J2: Average
A3: 66 | B3: Sutherland Falls | C3: 242 | D3: 128 | E3: 211 | F3: 271 | G3: 291 | H3: 185 | I3: =SUM(C3:H3) -> 1328 | J3: =AVERAGE(C3:H3) -> 221.33333
A4: 72 | B4: Tangier FSR | C4: 185 | D4: 512 | E4: 112 | F4: 508 | G4: 341 | H4: 643 | I4: =SUM(C4:H4) -> 2301 | J4: =AVERAGE(C4:H4) -> 383.5
A5: 73 | B5: Martha Creek | C5: 201 | D5: 462 | E5: 152 | F5: 362 | G5: 118 | H5: / | I5: =SUM(C5:H5) -> 1295 | J5: =AVERAGE(C5:H5) -> 259
A6: 74 | B6: Goldstream River | C6: 277 | D6: 427 | E6: 321 | F6: 187 | G6: 401 | H6: 202 | I6: =SUM(C6:H6) -> 1815 | J6: =AVERAGE(C6:H6) -> 302.5
A7: 75 | B7: Downie Creek | C7: 342 | D7: 556 | E7: 370 | F7: 228 | G7: 508 | H7: 226 | I7: =SUM(C7:H7) -> 2230 | J7: =AVERAGE(C7:H7) -> 371.66667
A8: 76 | B8: Bigmouth Creek | C8: 512 | D8: 230 | E8: 185 | F8: 410 | G8: 255 | H8: / | I8: =SUM(C8:H8) -> 1592 | J8: =AVERAGE(C8:H8) -> 318.4
A9: 78 | B9: Carnes Creek | C9: 238 | D9: 374 | E9: 338 | F9: 282 | G9: 211 | H9: 432 | I9: =SUM(C9:H9) -> 1875 | J9: =AVERAGE(C9:H9) -> 312.5
A10: 83 | B10: Begbie Creek | C10: 415 | D10: 648 | E10: 490 | F10: 398 | G10: 1132 | H10: 220 | I10: =SUM(C10:H10) -> 3303 | J10: =AVERAGE(C10:H10) -> 550.5
A11: 84 | B11: Pitt Crk Rec Site | C11: 742 | D11: 883 | E11: 193 | F11: 133 | G11: 118 | H11: 518 | I11: =SUM(C11:H11) -> 2587 | J11: =AVERAGE(C11:H11) -> 431.16667
A12: 85 | B12: Kinbasket Lake | C12: 611 | D12: 572 | E12: 283 | F12: 222 | G12: 652 | H12: / | I12: =SUM(C12:H12) -> 2340 | J12: =AVERAGE(C12:H12) -> 468
A13: 87 | B13: Jumping Creek | C13: 209 | D13: 405 | E13: 128 | F13: 125 | G13: 114 | H13: / | I13: =SUM(C13:H13) -> 981 | J13: =AVERAGE(C13:H13) -> 196.2

Sheet TrapResults09
C1: Trap Number
A2: Plot | B2: Location | C2: 1 | D2: 2 | E2: 3 | F2: 4 | G2: 5 | H2: 6 | I2: Total | J2: Average
A3: 66 | B3: Sutherland Falls | C3: 28 | D3: 25 | E3: 28 | F3: 23 | G3: 16 | H3: 62 | I3: =SUM(C3:H3) -> 182 | J3: =I3/6 -> 30.333333
A4: 72 | B4: Tangier FSR | C4: 4 | D4: 39 | E4: 81 | F4: 24 | G4: 245 | H4: 59 | I4: =SUM(C4:H4) -> 452 | J4: =I4/6 -> 75.333333
A5: 73 | B5: Martha Crk | C5: 2 | D5: 6 | E5: 1 | F5: 15 | G5: bear | H5: windthrow | I5: =SUM(C5:H5) -> 24 | J5: =I5/4 -> 6
A6: 74 | B6: Goldstream River | C6: 183 | D6: 39 | E6: 81 | F6: 21 | G6: 6 | H6: 153 | I6: =SUM(C6:H6) -> 483 | J6: =I6/6 -> 80.5
A7: 75 | B7: Downie Crk | C7: 85 | D7: 36 | E7: 86 | F7: 54 | G7: 53 | H7: 47 | I7: =SUM(C7:H7) -> 361 | J7: =I7/6 -> 60.166667
A8: 76 | B8: Bigmouth Crk | C8: 25 | D8: 18 | E8: 105 | F8: 9 | G8: 5 | H8: 15 | I8: =SUM(C8:H8) -> 177 | J8: =I8/6 -> 29.5
A9: 78 | B9: Carnes Crk | C9: 40 | D9: 47 | E9: 23 | F9: 10 | G9: 37 | H9: 26 | I9: =SUM(C9:H9) -> 183 | J9: =I9/6 -> 30.5
A10: 83 | B10: Begbie Crk | C10: 38 | D10: 64 | E10: 80 | F10: 36 | G10: 57 | H10: down | I10: =SUM(C10:H10) -> 275 | J10: =I10/5 -> 55
A11: 84 | B11: Pitt Crk Rec Site | C11: 174 | D11: 214 | E11: 158 | F11: 35 | G11: 70 | H11: bear | I11: =SUM(C11:H11) -> 651 | J11: =I11/5 -> 130.2
A12: 85 | B12: Kinbasket Lk | C12: 210 | D12: 237 | E12: 194 | F12: 242 | G12: 303 | H12: bear | I12: =SUM(C12:H12) -> 1186 | J12: =I12/5 -> 237.2
A13: 87 | B13: Jumping Crk | C13: 34 | D13: 26 | E13: down | F13: down | G13: down | H13: down | I13: =SUM(C13:H13) -> 60 | J13: =I13/2 -> 30
I14: =SUM(I3:I13) -> 4034 | J14: =SUM(J3:J13)/11 -> 69.521212 | L14: =SUM(J3:J13) -> 764.73333
L15: =764/11 -> 69.454545

Sheet TrapResults08 
C1: Trap Number
A2: Plot | B2: Location | C2: 1 | D2: 2 | E2: 3 | F2: 4 | G2: 5 | H2: 6 | I2: Total | J2: Average
A3: 66 | B3: Sutherland Falls | C3: 31 | D3: 52 | E3: 20 | F3: 26 | G3: 13 | H3: 31 | I3: =SUM(C3:H3) -> 173 | J3: =I3/6 -> 28.833333
A4: 72 | B4: Tangier FSR | C4: 7 | D4: 54 | E4: 42 | F4: 13 | G4: 10 | H4: 7 | I4: =SUM(C4:H4) -> 133 | J4: =I4/6 -> 22.166667
A5: 73 | B5: Martha Crk | C5: 13 | D5: 4 | E5: 0 | F5: 22 | G5: 6 | H5: 3 | I5: =SUM(C5:H5) -> 48 | J5: =I5/6 -> 8
A6: 74 | B6: Goldstream River | C6: 4 | D6: 7 | E6: 4 | F6: 2 | G6: 3 | H6: 4 | I6: =SUM(C6:H6) -> 24 | J6: =I6/6 -> 4
A7: 75 | B7: Downie Crk | C7: 8 | D7: 13 | E7: 36 | F7: 8 | G7: 62 | H7: 50 | I7: =SUM(C7:H7) -> 177 | J7: =I7/6 -> 29.5
A8: 76 | B8: Bigmouth Crk | C8: 17 | D8: 10 | E8: 3 | F8: 4 | G8: 19 | H8: 3 | I8: =SUM(C8:H8) -> 56 | J8: =I8/6 -> 9.3333333
A9: 78 | B9: Carnes Crk | C9: 10 | D9: 4 | E9: 13 | F9: 11 | G9: 37 | H9: 22 | I9: =SUM(C9:H9) -> 97 | J9: =I9/6 -> 16.166667
A10: 83 | B10: Begbie Crk | C10: 1 | D10: 42 | E10: 11 | F10: 52 | G10: 22 | H10: 19 | I10: =SUM(C10:H10) -> 147 | J10: =I10/6 -> 24.5
A11: 84 | B11: Pitt Crk Rec Site | C11: 10 | D11: 17 | E11: 9 | F11: 44 | G11: 11 | H11: 3 | I11: =SUM(C11:H11) -> 94 | J11: =I11/6 -> 15.666667
A12: 85 | B12: Kinbasket Lk | C12: 66 | D12: 69 | E12: 15 | F12: 157 | G12: 63 | H12: 165 | I12: =SUM(C12:H12) -> 535 | J12: =I12/6 -> 89.166667
A13: 87 | B13: Jumping Crk | C13: 1 | D13: 57 | E13: 9 | F13: 2 | G13: 53 | H13: 42 | I13: =SUM(C13:H13) -> 164 | J13: =I13/6 -> 27.333333
I14: =SUM(I3:I13) -> 1648 | J14: =SUM(J3:J13)/11 -> 24.969697

Sheet TrapResults07
C1: Trap Number
A2: Plot | B2: Location | C2: 1 | D2: 2 | E2: 3 | F2: 4 | G2: 5 | H2: 6 | I2: Total | J2: Average
A3: 66 | B3: Sutherland Falls | C3: 2 | D3: 1 | E3: 2 | F3: 0 | G3: down | H3: 1 | I3: 6 | J3: =I3/5 -> 1.2
A4: 72 | B4: Tangier FSR | C4: 0 | D4: 1 | E4: 4 | F4: 2 | G4: 0 | H4: 0 | I4: 7 | J4: 1.2
A5: 73 | B5: Martha Crk | C5: 0 | D5: 1 | E5: 2 | F5: 0 | G5: 2 | H5: 0 | I5: =SUM(C5:H5) -> 5 | J5: =I5/6 -> 0.83333333
A6: 74 | B6: Goldstream River | C6: 3 | D6: 2 | E6: 0 | F6: 2 | G6: 5 | H6: 5 | I6: =SUM(C6:H6) -> 17 | J6: =I6/6 -> 2.8333333
A7: 75 | B7: Downie Crk | C7: 0 | D7: 3 | E7: 3 | F7: 0 | G7: 0 | H7: 0 | I7: =SUM(C7:H7) -> 6 | J7: =I7/6 -> 1
A8: 76 | B8: Bigmouth Crk | C8: 1 | D8: 2 | E8: 0 | F8: 0 | G8: 1 | H8: 0 | I8: =SUM(C8:H8) -> 4 | J8: =I8/6 -> 0.66666667
A9: 78 | B9: Carnes Crk | C9: 3 | D9: 4 | E9: 0 | F9: 0 | G9: 0 | H9: 0 | I9: =SUM(C9:H9) -> 7 | J9: =I9/6 -> 1.1666667
A10: 83 | B10: Begbie Crk | C10: 0 | D10: 2 | E10: 1 | F10: 3 | G10: 1 | H10: 0 | I10: =SUM(C10:H10) -> 7 | J10: =I10/6 -> 1.1666667
A11: 84 | B11: Pitt Crk Rec Site | C11: 7 | D11: 0 | E11: 3 | F11: 1 | G11: 0 | H11: 0 | I11: =SUM(C11:H11) -> 11 | J11: =I11/6 -> 1.8333333
A12: 85 | B12: Kinbasket Lk | C12: 8 | D12: 9 | E12: 12 | F12: 3 | G12: 10 | H12: 3 | I12: =SUM(C12:H12) -> 45 | J12: =I12/6 -> 7.5
A13: 87 | B13: Jumping Crk | C13: 0 | D13: 1 | E13: 4 | F13: 1 | G13: 0 | H13: 0 | I13: =SUM(C13:H13) -> 6 | J13: =I13/6 -> 1
I14: =SUM(I3:I13) -> 121 | J14: =SUM(J3:J13)/11 -> 1.8545455

Sheet LarvalTrends
A1: Geographic | B1: PSS | C1: Locatoin | D1: 2000 | E1: 2001 | F1: 2002 | G1: 2003 | H1: 2004 | I1: 2005 | J1: 2006 | K1: 2007 | L1: 2008 | M1: 2009 | N1: 2010 | O1: 2011 | P1: 2012 | Q1: 2013 | R1: 2014 | S1: 2015 | T1: 2016 | U1: 2017
A2: RevSouth | B2: 30 | C2: Keen Crk (new location 09) | D2: 1 | E2: 0 | F2: 2 | G2: 7 | H2: 0 | I2: 0 | J2: 0 | K2: 0 | L2: 0 | M2: 1 | N2: 0 | O2: 0 | P2: 0 | Q2: 0 | R2: 0 | S2: 0 | T2: 0 | U2: 0
A3: RevSouth | B3: 38 | C3: Hills | D3: 0 | E3: 4 | F3: 21 | G3: 31 | H3: 0 | I3: 0 | J3: 8.5714286 | K3: 0 | L3: 0 | M3: 1 | N3: 1 | O3: 2 | P3: 0 | Q3: 0 | R3: 0 | S3: 0 | T3: 0 | U3: 0
A4: RevSouth | B4: 58 | C4: Halfway River | D4: 1 | E4: 17 | F4: 62 | G4: 46 | H4: 0 | I4: 0 | J4: 0 | K4: 0 | L4: 1 | M4: 1 | N4: 0 | O4: 4 | P4: 0 | Q4: 0 | R4: 0 | S4: 0 | T4: 0 | U4: 0
A5: RevSouth | B5: 61 | C5: Box Lake | D5: 1 | E5: 0 | F5: 3 | G5: 9 | H5: 0 | I5: 0 | J5: 0 | K5: 0 | L5: 0 | M5: 1 | N5: 1 | O5: 1 | P5: 0 | Q5: 0 | R5: 0 | S5: 0 | T5: 0 | U5: 0
A6: RevSouth | B6: 62 | C6: Kuskanax Crk | D6: 1 | E6: 10 | F6: 83 | G6: 313 | H6: 2.8571429 | I6: 0 | J6: 0 | K6: 0 | L6: 0 | M6: 4 | N6: 7 | O6: 5 | P6: 0 | Q6: 0 | R6: 0 | S6: 0 | T6: 0 | U6: 0
A7: RevSouth | B7: 65 | C7: Shelter Bay Ferry | D7: 0 | E7: 68 | F7: 879 | G7: 87 | H7: 2.8571429 | I7: 0 | J7: 0 | K7: 1 | L7: 0 | M7: 1 | N7: 0 | O7: 3 | P7: 2 | Q7: 0 | R7: 0 | S7: 0 | T7: 0 | U7: 0
A8: RevSouth | B8: 66 | C8: Sutherland Falls | D8: 1 | E8: 37 | F8: 67 | G8: 39 | H8: 31.428571 | I8: 0 | J8: 0 | K8: 0 | L8: 0 | M8: 0 | N8: 1 | O8: 3 | P8: 12 | Q8: 3 | R8: 0 | S8: 0 | T8: 0 | U8: 0
A9: RevSouth | B9: 70 | C9: Gerrad | D9: 0 | E9: 2 | F9: 47 | G9: 84 | H9: 0 | I9: 0 | J9: 0 | K9: 0 | L9: 1 | M9: 1 | N9: 0 | O9: 1 | P9: 0 | Q9: 0 | R9: 0 | S9: 0 | T9: 0 | U9: 0
A10: RevSouth | B10: 71 | C10: Trout Lake | D10: 3 | E10: 204 | F10: 544 | G10: 90 | H10: 2.8571429 | I10: 0 | J10: 2.8571429 | K10: 0 | L10: 0 | M10: 1 | N10: 0 | O10: 45 | P10: 0 | Q10: 0 | R10: 1 | S10: 0 | T10: 0 | U10: 0
A11: RevSouth | B11: 79 | C11: Lardeau FSR | D11: 0 | E11: 1 | F11: 0 | G11: 1 | H11: 0 | I11: 0 | J11: 0 | K11: 0 | L11: 0 | M11: 1 | N11: 0 | O11: 0 | P11: 0 | Q11: 0 | R11: 0 | S11: 0 | T11: 1 | U11: 0
A12: RevSouth | B12: 80 | C12: Meadow Crk | D12: 0 | E12: 6 | F12: 15 | G12: 47 | H12: 0 | I12: 0 | J12: 0 | K12: 0 | L12: 1 | M12: 2 | N12: 0 | O12: 0 | P12: 0 | Q12: 0 | R12: 0 | S12: 0 | T12: 0 | U12: 0
A13: RevSouth | B13: 81 | C13: Schroeder Crk | D13: 2 | E13: 5 | F13: 6 | G13: 14 | H13: 0 | I13: 0 | J13: 0 | K13: 0 | L13: 0 | M13: 0 | N13: 2 | O13: 0 | P13: 0 | Q13: 0 | R13: 0 | S13: 0 | T13: 0 | U13: 0
A14: RevSouth | B14: 82 | C14: Beaton | D14: 0 | E14: 10 | F14: 1 | G14: 1 | H14: 11.428571 | I14: 0 | J14: 0 | K14: 0 | L14: 0 | M14: 0 | N14: 2 | O14: 9 | P14: 8 | Q14: 0 | R14: 0 | S14: 0 | T14: 0 | U14: 0
D15: =AVERAGE(D2:D14) -> 0.76923077 | E15: =AVERAGE(E2:E14) -> 28 | F15: =AVERAGE(F2:F14) -> 133.07692 | G15: =AVERAGE(G2:G14) -> 59.153846 | H15: =AVERAGE(H2:H14) -> 3.956044 | I15: =AVERAGE(I2:I14) -> 0 | J15: =AVERAGE(J2:J14) -> 0.87912088 | K15: =AVERAGE(K2:K14) -> 0.076923077 | ... O15: =AVERAGE(O2:O14) -> 5.6153846 | P15: =22/12 -> 1.8333333 | Q15: =3/12 -> 0.25 | R15: =1/12 -> 0.083333333 | S15: 0 | T15: =AVERAGE(T2:T14) -> 0.076923077 | U15: 0
A16: Rev N and E | B16: 69 | C16: Quartz Crk | D16: 0 | E16: 142 | F16: 202 | G16: 59 | H16: 0 | I16: 0 | J16: 0 | K16: 1 | L16: 0 | M16: 0 | N16: 1 | O16: 3 | P16: 1 | Q16: 0 | R16: 0 | S16: 0 | T16: 0 | U16: 0
A17: Rev N and E | B17: 72 | C17: Tangier FSR | D17: 0 | E17: 9 | F17: 9 | G17: 1 | H17: 102.85714 | I17: 0 | J17: 0 | K17: 0 | L17: 0 | M17: 0 | N17: 10 | O17: 38 | P17: 46 | Q17: =9+5+8 -> 22 | R17: 0 | S17: 0 | T17: 0 | U17: 0
A18: Rev N and E | B18: 73 | C18: Martha Crk | D18: 3 | E18: 43 | F18: 13 | G18: 3 | H18: 97.142857 | I18: 0 | J18: 0 | K18: Negative | L18: 4 | M18: 0 | N18: 1 | O18: 2 | P18: 31 | Q18: =1+7+13 -> 21 | R18: 0 | S18: 0 | T18: 0 | U18: 0
A19: Rev N and E | B19: 74 | C19: Goldstream River | D19: 0 | E19: 1 | F19: 0 | G19: 0 | H19: 0 | I19: 2.8571429 | J19: 0 | K19: 0 | L19: 0 | M19: 1 | N19: 2 | O19: 27 | P19: 15 | Q19: =2+1+1 -> 4 | R19: 0 | S19: 0 | T19: 0 | U19: 0
A20: Rev N and E | B20: 75 | C20: Downie Crk | D20: 0 | E20: 0 | F20: 0 | G20: 1 | H20: 0 | I20: 0 | J20: 0 | K20: 0 | L20: 0 | M20: 0 | N20: 0 | O20: 7 | P20: 19 | Q20: =1+11+4 -> 16 | R20: 0 | S20: 0 | T20: 0 | U20: 0
A21: Rev N and E | B21: 76 | C21: Bigmouth Crk | D21: 0 | E21: 0 | F21: 0 | G21: 0 | H21: 2.8571429 | I21: 0 | J21: 0 | K21: 0 | L21: 0 | M21: 1 | N21: 5 | O21: 65 | P21: 68 | Q21: 1 | R21: 0 | S21: 0 | T21: 0 | U21: 0
A22: Rev N and E | B22: 78 | C22: Carnes Crk | D22: 0 | E22: 0 | F22: 0 | G22: 1 | H22: 0 | I22: 0 | J22: 0 | K22: 0 | L22: 1 | M22: 0 | N22: 7 | O22: 14 | P22: 19 | Q22: =2+0+2 -> 4 | R22: 0 | S22: 1 | T22: 0 | U22: 0
A23: Rev N and E | B23: 83 | C23: Begbie Crk | D23: 0 | E23: 8 | F23: 63 | G23: 40 | H23: 71.428571 | I23: 0 | J23: 0 | K23: 0 | L23: 0 | M23: 0 | N23: 1 | O23: 32 | P23: 17 | Q23: =3+2+7 -> 12 | R23: 0 | S23: 0 | T23: 0 | U23: 0
A24: Rev N and E | B24: 84 | C24: Pitt Crk Rec Site | D24: 0 | E24: 0 | F24: 0 | G24: 0 | H24: 14.285714 | I24: 0 | J24: 0 | K24: Negative | L24: 0 | M24: 0 | N24: 1 | O24: 105 | P24: 53 | Q24: =1+0+11 -> 12 | R24: 0 | S24: 0 | T24: 0 | U24: 0
A25: Rev N and E | B25: 85 | C25: Kinbasket Lk | D25: 2 | E25: 5 | F25: 0 | G25: 0 | H25: 2.8571429 | I25: 0 | J25: 0 | K25: 0 | L25: 0 | M25: 6 | N25: 5 | O25: 72 | P25: 11 | Q25: =0+0+1 -> 1 | R25: 0 | S25: 0 | T25: 0 | U25: 0
A26: Rev N and E | B26: 86 | C26: Beaver River | D26: 0 | E26: 1 | F26: 1 | G26: 0 | H26: 0 | I26: 0 | J26: 0 | K26: 0 | L26: 0 | M26: 1 | N26: 11 | O26: 107 | P26: 79 | Q26: =9+12+5 -> 26 | R26: 1 | S26: 0 | T26: 0 | U26: 0
A27: Rev N and E | B27: 87 | C27: Jumping Crk | D27: 1 | E27: 7 | F27: 2 | G27: 19 | H27: 65.714286 | I27: 0 | J27: 0 | K27: 0 | L27: 0 | M27: 1 | N27: 1 | O27: 3 | P27: 72 | Q27: =9+7+6 -> 22 | R27: 1 | S27: 1 | T27: 0 | U27: 0
D28: 0.5 | E28: 18 | F28: 24 | G28: 10 | H28: 29.7 | I28: 0.23 | J28: 0 | K28: 0.1 | L28: 0.42 | M28: 0.83 | N28: =AVERAGE(N16:N27) -> 3.75 | O28: 39.5 | P28: =AVERAGE(P16:P27) -> 35.916667 | Q28: =AVERAGE(Q16:Q27) -> 11.75 | R28: =AVERAGE(R16:R27) -> 0.16666667 | S28: =AVERAGE(S16:S27) -> 0.16666667 | T28: 0 | U28: 0

Sheet Yearly_LarvalAvg
B1: 2000 | C1: 2001 | D1: 2002 | E1: 2003 | F1: 2004 | G1: 2005 | H1: 2006 | I1: 2007 | J1: 2008 | K1: 2009 | L1: 2010 | M1: 2011 | N1: 2012 | O1: 2013 | P1: 2014 | Q1: 2015 | R1: 2016 | S1: 2017
A2: Western hemlock looper | B2: ='2000'!D30 -> 0.64 | C2: ='2001'!D30 -> 23.2 | D2: ='2002'!D30 -> 80.8 | E2: ='2003'!D30 -> 35.72 | F2: ='2004_Forrest'!D31/0.35 -> 16.342857 | G2: ='2005_Forrest'!D30/0.35 -> 0.11428571 | H2: ='2006_Forrest'!D30/0.35 -> 0.45714286 | I2: ='2007'!D30 -> 0.08 | J2: 0.3 | K2: 1 | L2: 2.4 | M2: 21.9 | N2: 18.9 | O2: 6 | P2: 0.1 | Q2: 2 | R2: 1 | S2: 0
A3: Western blackheaded budworm | B3: ='2000'!E30 -> 0.32 | C3: ='2001'!D31 -> 32 | D3: ='2002'!E30 -> 7.24 | E3: ='2003'!E30 -> 20.08 | F3: ='2004_Forrest'!E31/0.35 -> 0 | G3: ='2005_Forrest'!E30/0.35 -> 9.9428571 | H3: ='2006_Forrest'!E30/0.35 -> 4.5714286 | I3: ='2007'!E30 -> 0.64 | J3: 0.2 | K3: 0.1 | L3: 0 | M3: 0.2 | N3: 0.04 | O3: 2.5 | P3: 4.6 | Q3: 12 | R3: 0 | S3: 0
A4: Sawflies | B4: ='2000'!F30 -> 9 | C4: ='2001'!F30 -> 61.08 | D4: ='2002'!F30 -> 8.44 | E4: ='2003'!F30 -> 19.56 | F4: ='2004_Forrest'!F31/0.35 -> 17.371429 | G4: ='2005_Forrest'!F30/0.35 -> 4.3428571 | H4: ='2006_Forrest'!F30/0.35 -> 1.6 | I4: 2.6 | J4: 20 | K4: 20.4 | L4: 36 | M4: 27.5 | N4: 14.2 | O4: 17.8 | P4: 1.2 | Q4: 1 | R4: 0 | S4: 10
C7: Counts adjusted to equate to 2M*3M beating sheet

Sheet 2019_NFR
A1: Year | B1: Contract | C1: PSSName | D1: Plot | E1: Location | F1: Western Hemlock Looper | G1: Black-headed budworm | H1: Sawflies | I1: Green-striped forest looper | J1: Western False Hemlock Looper | K1: Gray Spruce Looper | L1: Saddleback Looper | M1: Filament Bearer | N1: Semiothisa s unipunctaria | O1: Cladara limitaria | P1: Gabriola dyari | Q1: Eupithicia olivacea | R1: Choristoneura occidentalis | S1: Stenoporpia pulmonaria satisfacta | T1: Orgyia sp | U1: Psychidae | V1: Eupithecia spp | W1: Acantholyda | X1: Callophrys rosneri | Y1: Feralia jocosa | Z1: Nytobia limitaria | AA1: Protoboarmia p indicataria | AB1: Geometridae | AC1: Noctuidae | AD1: Hypagyrtia piniata | AE1: Synaxis pallulata | AF1: Macaria signaria | AG1: Stenoporpia excelsaria | AH1: Tolype dayi | AI1: Zeiraphera canadensis | AJ1: DEFOLIATON ESTIMATE
A2: 2012 | B2: Art | C2: NFR30 | D2: 30 | E2: Keen Crk (new location 09) | F2: 6 | H2: 60 | I2: 2 | L2: 4 | M2: 3 | Y2: 1 | AJ2: Nil
A3: 2012 | B3: Art | C3: NFR38 | D3: 38 | E3: Hills | F3: 6 | I3: 4 | J3: 6 | L3: 4 | AJ3: Nil
A4: 2012 | B4: Art | C4: NFR58 | D4: 58 | E4: Halfway River | F4: 4 | J4: 1 | AJ4: Nil
A5: 2012 | B5: Art | C5: NFR61 | D5: 61 | E5: Box Lake | F5: 8 | H5: 77 | I5: 3 | J5: 2 | L5: 40 | M5: 25 | AH5: 1 | AJ5: T-L
A6: 2012 | B6: Art | C6: NFR62 | D6: 62 | E6: Kuskanax Crk | F6: 3 | I6: 5 | AJ6: Nil
A7: 2012 | B7: Art | C7: NFR65 | D7: 65 | E7: Shelter Bay Ferry | F7: 2 | AJ7: Nil
A8: 2012 | B8: Lorraine | C8: NFR66 | D8: 66 | E8: Sutherland Falls | F8: 2 | AJ8: Nil
A9: 2012 | B9: Lorraine | C9: NFR69 | D9: 69 | E9: Quartz Crk | F9: 1 | H9: 6 | I9: 1 | AJ9: Nil
A10: 2012 | B10: Art | C10: NFR70 | D10: 70 | E10: Gerrad | F10: 8 | H10: 27 | M10: 1 | V10: 1 | AG10: 1 | AJ10: Nil
C11: NFR71 | D11: 71 | E11: Trout Lake | F11: 5 | AJ11: Nil
A12: 2012 | B12: Lorraine | C12: NFR72 | D12: 72 | E12: Tangier FSR | F12: 6 | H12: 12 | M12: 3 | AJ12: Nil
A13: 2012 | B13: Lorraine | C13: NFR73 | D13: 73 | E13: Martha Crk | F13: 4 | H13: 3 | J13: 1 | AJ13: Nil
A14: 2012 | B14: Lorraine | C14: NFR74 | D14: 74 | E14: Goldstream River | F14: 2 | H14: 3 | AJ14: Nil
A15: 2012 | B15: Lorraine | C15: NFR75 | D15: 75 | E15: Downie Crk | F15: 3 | H15: 10 | AJ15: Nil
A16: 2012 | B16: Lorraine | C16: NFR76 | D16: 76 | E16: Bigmouth Crk | F16: 9 | H16: 2 | AJ16: Nil
A17: 2012 | B17: Lorraine | C17: NFR78 | D17: 78 | E17: Carnes Crk | F17: 0 | AJ17: Nil
A18: 2012 | B18: Art | C18: NFR79 | D18: 79 | E18: Lardeau FSR | F18: 7 | I18: 3 | AJ18: Nil
A19: 2012 | B19: Art | C19: NFR80 | D19: 80 | E19: Meadow Crk | F19: 2 | AJ19: Nil
A20: 2012 | B20: Art | C20: NFR81 | D20: 81 | E20: Schroeder Crk | F20: 2 | H20: 15 | AJ20: Nil
A21: 2012 | B21: Art | C21: NFR82 | D21: 82 | E21: Beaton | F21: 3 | I21: 1 | J21: 1 | AJ21: Nil
A22: 2012 | B22: Lorraine | C22: NFR83 | D22: 83 | E22: Begbie Crk | F22: 2 | I22: 1 | L22: 1 | M22: 13 | AJ22: Nil
A23: 2012 | B23: Lorraine | C23: NFR84 | D23: 84 | E23: Pitt Crk Rec Site | F23: 6 | H23: 35 | AJ23: Nil
A24: 2012 | B24: Lorraine | C24: NFR85 | D24: 85 | E24: Kinbasket Lk | F24: 4 | H24: 38 | AJ24: Nil
A25: 2012 | B25: Lorraine | C25: NFR86 | D25: 86 | E25: Beaver River | F25: 0 | H25: 42 | AJ25: T
A26: 2012 | B26: Lorraine | C26: NFR87 | D26: 87 | E26: Jumping Crk | F26: 5 | H26: 9 | M26: 1 | AJ26: Nil
E27: Total | F27: =SUM(F2:F26) -> 100 | G27: =SUM(G2:G26) -> 0 | H27: =SUM(H2:H26) -> 339 | I27: =SUM(I2:I26) -> 20 | J27: =SUM(J2:J26) -> 11 | K27: =SUM(K2:K26) -> 0 | L27: =SUM(L2:L26) -> 49 | M27: =SUM(M2:M26) -> 46 | ... AI27: =SUM(AI2:AI26) -> 0 | AJ27: =SUM(F27:AI27) -> 569

Sheet 2018_NFR
A1: PSSName | B1: Plot | C1: Location | D1: Western Hemlock Looper | E1: Black-headed budworm | F1: Sawflies | G1: Green-striped forest looper | H1: Western False Hemlock Looper | I1: Gray Spruce Looper | J1: Saddleback Looper | K1: Semiothisa s unipunctaria | L1: Cladara limitaria | M1: Gabriola dyari | N1: Eupithicia olivacea | O1: Choristoneura occidentalis | P1: Stenoporpia pulmonaria satisfacta | Q1: Orgyia sp | R1: Psychidae | S1: Eupithecia spp | T1: Acantholyda | U1: Callophrys rosneri | V1: Feralia jocosa | W1: Nytobia limitaria | X1: Nematocampa resistaria | Y1: Protoboarmia p indicataria | Z1: Geometridae | AA1: Noctuidae | AB1: Hypagyrtia piniata | AC1: Synaxis pallulata | AD1: Macaria signaria | AE1: Zeiraphera canadensis | AF1: DEFOLIATON ESTIMATE
A2: NFR30 | B2: 30 | C2: Keen Crk (new location 09) | D2: 1 | F2: 1 | J2: 3 | V2: 1 | AF2: Nil
A3: NFR38 | B3: 38 | C3: Hills | D3: 3 | F3: 1 | J3: 1 | X3: 2 | AF3: Nil
A4: NFR58 | B4: 58 | C4: Halfway River | D4: 2 | G4: 1 | AF4: Nil
A5: NFR61 | B5: 61 | C5: Box Lake | D5: 3 | F5: 56 | J5: 11 | L5: 1 | AF5: Nil
A6: NFR62 | B6: 62 | C6: Kuskanax Crk | D6: 4 | H6: 1 | J6: 3 | L6: 2 | S6: 1 | AF6: Nil
A7: NFR65 | B7: 65 | C7: Shelter Bay Ferry | D7: 1 | G7: 1 | AF7: Nil
A8: NFR66 | B8: 66 | C8: Sutherland Falls | D8: 1 | AF8: Nil
A9: NFR69 | B9: 69 | C9: Quartz Crk | F9: 6 | AF9: Nil
A10: NFR70 | B10: 70 | C10: Gerrad | G10: 1 | AF10: Nil
A11: NFR71 | B11: 71 | C11: Trout Lake | D11: 4 | F11: 4 | AF11: Nil
A12: NFR72 | B12: 72 | C12: Tangier FSR | AF12: Nil
A13: NFR73 | B13: 73 | C13: Martha Crk | D13: 1 | AF13: Nil
A14: NFR74 | B14: 74 | C14: Goldstream River | D14: 6 | F14: 3 | AF14: Nil
A15: NFR75 | B15: 75 | C15: Downie Crk | F15: 22 | AF15: Nil
A16: NFR76 | B16: 76 | C16: Bigmouth Crk | AF16: Nil
A17: NFR78 | B17: 78 | C17: Carnes Crk | AF17: Nil
A18: NFR79 | B18: 79 | C18: Lardeau FSR | D18: 1 | AF18: Nil
A19: NFR80 | B19: 80 | C19: Meadow Crk | O19: 1 | AF19: Nil
A20: NFR81 | B20: 81 | C20: Schroeder Crk | AF20: Nil
A21: NFR82 | B21: 82 | C21: Beaton | D21: 1 | K21: 2 | L21: 2 | AF21: Nil
A22: NFR83 | B22: 83 | C22: Begbie Crk | F22: 7 | AF22: Nil
A23: NFR84 | B23: 84 | C23: Pitt Crk Rec Site | F23: 3 | AF23: Nil
A24: NFR85 | B24: 85 | C24: Kinbasket Lk | D24: 2 | F24: 9 | AF24: Nil
A25: NFR86 | B25: 86 | C25: Beaver River | F25: 9 | AF25: Nil
A26: NFR87 | B26: 87 | C26: Jumping Crk | D26: 2 | F26: 4 | AF26: Nil
C27: Total | D27: =SUM(D2:D26) -> 32 | E27: =SUM(E2:E26) -> 0 | F27: =SUM(F2:F26) -> 125 | G27: =SUM(G2:G26) -> 3 | H27: =SUM(H2:H26) -> 1 | I27: =SUM(I2:I26) -> 0 | J27: =SUM(J2:J26) -> 18 | K27: =SUM(K2:K26) -> 2 | ... AE27: =SUM(AE2:AE26) -> 0 | AF27: =SUM(D27:AE27) -> 191

Sheet 2017_NFR
A1: Year | B1: Contract | C1: PSSName | D1: Plot | E1: Location | F1: Western Hemlock Looper | G1: Black-headed budworm | H1: Sawflies | I1: Green-striped forest looper | J1: Western False Hemlock Looper | K1: Gray Spruce Looper | L1: Saddleback Looper | M1: Semiothisa s unipunctaria | N1: Cladara limitaria | O1: Gabriola dyari | P1: Eupithicia olivacea | Q1: Choristoneura occidentalis | R1: Stenoporpia pulmonaria satisfacta | S1: Orgyia sp | T1: Psychidae | U1: Eupithecia spp | V1: Acantholyda | W1: Callophrys rosneri | X1: Feralia jocosa | Y1: Nytobia limitaria | Z1: Nematocampa resistaria | AA1: Protoboarmia p indicataria | AB1: Geometridae | AC1: Noctuidae | AD1: Hypagyrtia piniata | AE1: Synaxis pallulata | AF1: Macaria signaria | AG1: Zeiraphera canadensis | AH1: DEFOLIATON ESTIMATE
A2: 2012 | B2: Art | C2: NFR30 | D2: 30 | E2: Keen Crk (new location 09) | AH2: Nil
A3: 2012 | B3: Art | C3: NFR38 | D3: 38 | E3: Hills | J3: 1 | L3: 1 | AH3: Nil
A4: 2012 | B4: Art | C4: NFR58 | D4: 58 | E4: Halfway River | AH4: Nil
A5: 2012 | B5: Art | C5: NFR61 | D5: 61 | E5: Box Lake | H5: 1 | L5: 1 | AH5: Nil
A6: 2012 | B6: Art | C6: NFR62 | D6: 62 | E6: Kuskanax Crk | J6: 1 | AH6: Nil
A7: 2012 | B7: Art | C7: NFR65 | D7: 65 | E7: Shelter Bay Ferry | AH7: Nil
A8: 2012 | B8: Lorraine | C8: NFR66 | D8: 66 | E8: Sutherland Falls | AC8: 1 | AH8: Nil
A9: 2012 | B9: Lorraine | C9: NFR69 | D9: 69 | E9: Quartz Crk | H9: 2 | Z9: 1 | AH9: Nil
A10: 2012 | B10: Art | C10: NFR70 | D10: 70 | E10: Gerrad | AH10: Nil
C11: NFR71 | D11: 71 | E11: Trout Lake | AH11: Nil
A12: 2012 | B12: Lorraine | C12: NFR72 | D12: 72 | E12: Tangier FSR | AH12: Nil
A13: 2012 | B13: Lorraine | C13: NFR73 | D13: 73 | E13: Martha Crk | AH13: Nil
A14: 2012 | B14: Lorraine | C14: NFR74 | D14: 74 | E14: Goldstream River | AH14: Nil
A15: 2012 | B15: Lorraine | C15: NFR75 | D15: 75 | E15: Downie Crk | L15: 1 | X15: 1 | AH15: Nil
A16: 2012 | B16: Lorraine | C16: NFR76 | D16: 76 | E16: Bigmouth Crk | AH16: Nil
A17: 2012 | B17: Lorraine | C17: NFR78 | D17: 78 | E17: Carnes Crk | AH17: Nil
A18: 2012 | B18: Art | C18: NFR79 | D18: 79 | E18: Lardeau FSR | V18: 1 | AH18: Nil
A19: 2012 | B19: Art | C19: NFR80 | D19: 80 | E19: Meadow Crk | AB19: 1 | AH19: Nil
A20: 2012 | B20: Art | C20: NFR81 | D20: 81 | E20: Schroeder Crk | AH20: Nil
A21: 2012 | B21: Art | C21: NFR82 | D21: 82 | E21: Beaton | I21: 1 | AH21: Nil
A22: 2012 | B22: Lorraine | C22: NFR83 | D22: 83 | E22: Begbie Crk | AH22: Nil
A23: 2012 | B23: Lorraine | C23: NFR84 | D23: 84 | E23: Pitt Crk Rec Site | AH23: Nil
A24: 2012 | B24: Lorraine | C24: NFR85 | D24: 85 | E24: Kinbasket Lk | H24: 2 | AH24: Nil
A25: 2012 | B25: Lorraine | C25: NFR86 | D25: 86 | E25: Beaver River | H25: 2 | X25: 1 | AH25: Nil
A26: 2012 | B26: Lorraine | C26: NFR87 | D26: 87 | E26: Jumping Crk | H26: 3 | AH26: Nil
E27: Total | F27: =SUM(F2:F26) -> 0 | G27: =SUM(G2:G26) -> 0 | H27: =SUM(H2:H26) -> 10 | I27: =SUM(I2:I26) -> 1 | J27: =SUM(J2:J26) -> 2 | K27: =SUM(K2:K26) -> 0 | L27: =SUM(L2:L26) -> 3 | M27: =SUM(M2:M26) -> 0 | ... AG27: =SUM(AG2:AG26) -> 0

Sheet 2016_NFR
A1: Year | B1: Contract | C1: OldRegion | D1: PSSName | E1: Plot | F1: Location | G1: Western Hemlock Looper | H1: Black-headed budworm | I1: Sawflies | J1: Green-striped forest looper | K1: Western False Hemlock Looper | L1: Gray Spruce Looper | M1: Saddleback Looper | N1: Semiothisa s unipunctaria | O1: Cladara limitaria | P1: Gabriola dyari | Q1: Eupithicia olivacea | R1: Choristoneura occidentalis | S1: Stenoporpia pulmonaria satisfacta | T1: Orgyia sp | U1: Psychidae | V1: Eupithecia spp | W1: Acantholyda | X1: Callophrys rosneri | Y1: Nytobia limitaria | Z1: Nematocampa resistaria | AA1: Protoboarmia p indicataria | AB1: Geometridae | AC1: Hypagyrtia piniata | AD1: Synaxis pallulata | AE1: Macaria signaria | AF1: Zeiraphera canadensis | AG1: DEFOLIATON ESTIMATE
A2: 2012 | B2: Art | C2: NFR | D2: NFR30 | E2: 30 | F2: Keen Crk (new location 09)
A3: 2012 | B3: Art | C3: NFR | D3: NFR38 | E3: 38 | F3: Hills
A4: 2012 | B4: Art | C4: NFR | D4: NFR58 | E4: 58 | F4: Halfway River
A5: 2012 | B5: Art | C5: NFR | D5: NFR61 | E5: 61 | F5: Box Lake | K5: 1
A6: 2012 | B6: Art | C6: NFR | D6: NFR62 | E6: 62 | F6: Kuskanax Crk | J6: 1
A7: 2012 | B7: Art | C7: NFR | D7: NFR65 | E7: 65 | F7: Shelter Bay Ferry
A8: 2012 | B8: Lorraine | C8: NFR | D8: NFR66 | E8: 66 | F8: Sutherland Falls | J8: 1
A9: 2012 | B9: Lorraine | C9: NFR | D9: NFR69 | E9: 69 | F9: Quartz Crk
A10: 2012 | B10: Art | C10: NFR | D10: NFR70 | E10: 70 | F10: Gerrad | J10: 1
D11: NFR71 | E11: 71 | F11: Trout Lake | J11: 1
A12: 2012 | B12: Lorraine | C12: NFR | D12: NFR72 | E12: 72 | F12: Tangier FSR
A13: 2012 | B13: Lorraine | C13: NFR | D13: NFR73 | E13: 73 | F13: Martha Crk
A14: 2012 | B14: Lorraine | C14: NFR | D14: NFR74 | E14: 74 | F14: Goldstream River
A15: 2012 | B15: Lorraine | C15: NFR | D15: NFR75 | E15: 75 | F15: Downie Crk
A16: 2012 | B16: Lorraine | C16: NFR | D16: NFR76 | E16: 76 | F16: Bigmouth Crk | J16: 1
A17: 2012 | B17: Lorraine | C17: NFR | D17: NFR78 | E17: 78 | F17: Carnes Crk
A18: 2012 | B18: Art | C18: NFR | D18: NFR79 | E18: 79 | F18: Lardeau FSR | G18: 1
A19: 2012 | B19: Art | C19: NFR | D19: NFR80 | E19: 80 | F19: Meadow Crk
A20: 2012 | B20: Art | C20: NFR | D20: NFR81 | E20: 81 | F20: Schroeder Crk | J20: 1
A21: 2012 | B21: Art | C21: NFR | D21: NFR82 | E21: 82 | F21: Beaton
A22: 2012 | B22: Lorraine | C22: NFR | D22: NFR83 | E22: 83 | F22: Begbie Crk
A23: 2012 | B23: Lorraine | C23: NFR | D23: NFR84 | E23: 84 | F23: Pitt Crk Rec Site
A24: 2012 | B24: Lorraine | C24: NFR | D24: NFR85 | E24: 85 | F24: Kinbasket Lk
A25: 2012 | B25: Lorraine | C25: NFR | D25: NFR86 | E25: 86 | F25: Beaver River
A26: 2012 | B26: Lorraine | C26: NFR | D26: NFR87 | E26: 87 | F26: Jumping Crk
F27: Total | G27: =SUM(G18:G26) -> 1 | J27: =SUM(J2:J26) -> 6 | K27: 1

Sheet 2015_NFR
A1: Year | B1: Contract | C1: OldRegion | D1: PSSName | E1: Plot | F1: Location | G1: Western Hemlock Looper | H1: Black-headed budworm | I1: Sawflies | J1: Green-striped forest looper | K1: Western False Hemlock Looper | L1: Gray Spruce Looper | M1: Saddleback Looper | N1: Semiothisa s unipunctaria | O1: Cladara limitaria | P1: Gabriola dyari | Q1: Eupithicia olivacea | R1: Choristoneura occidentalis | S1: Stenoporpia pulmonaria satisfacta | T1: Orgyia sp | U1: Psychidae | V1: Eupithecia spp | W1: Acantholyda | X1: Callophrys rosneri | Y1: Nytobia limitaria | Z1: Nematocampa resistaria | AA1: Protoboarmia p indicataria | AB1: Geometridae | AC1: Hypagyrtia piniata | AD1: Synaxis pallulata | AE1: Macaria signaria | AF1: Zeiraphera canadensis | AG1: DEFOLIATON ESTIMATE
A2: 2012 | B2: Art | C2: NFR | D2: NFR30 | E2: 30 | F2: Keen Crk (new location 09)
A3: 2012 | B3: Art | C3: NFR | D3: NFR38 | E3: 38 | F3: Hills
A4: 2012 | B4: Art | C4: NFR | D4: NFR58 | E4: 58 | F4: Halfway River
A5: 2012 | B5: Art | C5: NFR | D5: NFR61 | E5: 61 | F5: Box Lake
A6: 2012 | B6: Art | C6: NFR | D6: NFR62 | E6: 62 | F6: Kuskanax Crk
A7: 2012 | B7: Art | C7: NFR | D7: NFR65 | E7: 65 | F7: Shelter Bay Ferry
A8: 2012 | B8: Lorraine | C8: NFR | D8: NFR66 | E8: 66 | F8: Sutherland Falls
A9: 2012 | B9: Lorraine | C9: NFR | D9: NFR69 | E9: 69 | F9: Quartz Crk
A10: 2012 | B10: Art | C10: NFR | D10: NFR70 | E10: 70 | F10: Gerrad | O10: 1
D11: NFR71 | E11: 71 | F11: Trout Lake
A12: 2012 | B12: Lorraine | C12: NFR | D12: NFR72 | E12: 72 | F12: Tangier FSR
A13: 2012 | B13: Lorraine | C13: NFR | D13: NFR73 | E13: 73 | F13: Martha Crk
A14: 2012 | B14: Lorraine | C14: NFR | D14: NFR74 | E14: 74 | F14: Goldstream River
A15: 2012 | B15: Lorraine | C15: NFR | D15: NFR75 | E15: 75 | F15: Downie Crk
A16: 2012 | B16: Lorraine | C16: NFR | D16: NFR76 | E16: 76 | F16: Bigmouth Crk
A17: 2012 | B17: Lorraine | C17: NFR | D17: NFR78 | E17: 78 | F17: Carnes Crk | G17: 1 | H17: 4
A18: 2012 | B18: Art | C18: NFR | D18: NFR79 | E18: 79 | F18: Lardeau FSR
A19: 2012 | B19: Art | C19: NFR | D19: NFR80 | E19: 80 | F19: Meadow Crk | J19: 1
A20: 2012 | B20: Art | C20: NFR | D20: NFR81 | E20: 81 | F20: Schroeder Crk
A21: 2012 | B21: Art | C21: NFR | D21: NFR82 | E21: 82 | F21: Beaton | O21: 1
A22: 2012 | B22: Lorraine | C22: NFR | D22: NFR83 | E22: 83 | F22: Begbie Crk
A23: 2012 | B23: Lorraine | C23: NFR | D23: NFR84 | E23: 84 | F23: Pitt Crk Rec Site | I23: 1
A24: 2012 | B24: Lorraine | C24: NFR | D24: NFR85 | E24: 85 | F24: Kinbasket Lk
A25: 2012 | B25: Lorraine | C25: NFR | D25: NFR86 | E25: 86 | F25: Beaver River
A26: 2012 | B26: Lorraine | C26: NFR | D26: NFR87 | E26: 87 | F26: Jumping Crk | G26: 1 | H26: 8
F27: Total | G27: =SUM(G2:G26) -> 2 | H27: =SUM(H2:H26) -> 12 | I27: =SUM(I2:I26) -> 1 | J27: =SUM(J2:J26) -> 1 | O27: =SUM(O2:O26) -> 2

Sheet 2014_NFR
A1: Year | B1: Contract | C1: OldRegion | D1: PSSName | E1: Plot | F1: Location | G1: Western Hemlock Looper | H1: Black-headed budworm | I1: Sawflies | J1: Green-striped forest looper | K1: Western False Hemlock Looper | L1: Gray Spruce Looper | M1: Saddleback Looper | N1: Semiothisa s unipunctaria | O1: Cladara limitaria | P1: Gabriola dyari | Q1: Eupithicia olivacea | R1: Choristoneura occidentalis | S1: Stenoporpia pulmonaria satisfacta | T1: Orgyia sp | U1: Psychidae | V1: Eupithecia spp | W1: Acantholyda | X1: Callophrys rosneri | Y1: Nytobia limitaria | Z1: Nematocampa resistaria | AA1: Protoboarmia p indicataria | AB1: Geometridae | AC1: Hypagyrtia piniata | AD1: Synaxis pallulata | AE1: Macaria signaria | AF1: Zeiraphera canadensis | AG1: DEFOLIATON ESTIMATE
A2: 2012 | B2: Art | C2: NFR | D2: NFR30 | E2: 30 | F2: Keen Crk (new location 09) | H2: 3
A3: 2012 | B3: Art | C3: NFR | D3: NFR38 | E3: 38 | F3: Hills | H3: 1
A4: 2012 | B4: Art | C4: NFR | D4: NFR58 | E4: 58 | F4: Halfway River | H4: 1 | L4: 1
A5: 2012 | B5: Art | C5: NFR | D5: NFR61 | E5: 61 | F5: Box Lake | H5: 4 | I5: 2
A6: 2012 | B6: Art | C6: NFR | D6: NFR62 | E6: 62 | F6: Kuskanax Crk | H6: 3 | J6: 1 | M6: 1
A7: 2012 | B7: Art | C7: NFR | D7: NFR65 | E7: 65 | F7: Shelter Bay Ferry | H7: 1
A8: 2012 | B8: Lorraine | C8: NFR | D8: NFR66 | E8: 66 | F8: Sutherland Falls | H8: 7 | M8: 1 | O8: 1
A9: 2012 | B9: Lorraine | C9: NFR | D9: NFR69 | E9: 69 | F9: Quartz Crk | I9: 1
A10: 2012 | B10: Art | C10: NFR | D10: NFR70 | E10: 70 | F10: Gerrad
E11: 71 | F11: Trout Lake | G11: 1 | I11: 2
A12: 2012 | B12: Lorraine | C12: NFR | D12: NFR72 | E12: 72 | F12: Tangier FSR | H12: 10 | AG12: Trace - BHB
A13: 2012 | B13: Lorraine | C13: NFR | D13: NFR73 | E13: 73 | F13: Martha Crk
A14: 2012 | B14: Lorraine | C14: NFR | D14: NFR74 | E14: 74 | F14: Goldstream River | H14: 1
A15: 2012 | B15: Lorraine | C15: NFR | D15: NFR75 | E15: 75 | F15: Downie Crk
A16: 2012 | B16: Lorraine | C16: NFR | D16: NFR76 | E16: 76 | F16: Bigmouth Crk | H16: 1 | I16: 1
A17: 2012 | B17: Lorraine | C17: NFR | D17: NFR78 | E17: 78 | F17: Carnes Crk | H17: 1 | O17: 1
A18: 2012 | B18: Art | C18: NFR | D18: NFR79 | E18: 79 | F18: Lardeau FSR | Q18: 1
A19: 2012 | B19: Art | C19: NFR | D19: NFR80 | E19: 80 | F19: Meadow Crk | W19: 1
A20: 2012 | B20: Art | C20: NFR | D20: NFR81 | E20: 81 | F20: Schroeder Crk | H20: 1
A21: 2012 | B21: Art | C21: NFR | D21: NFR82 | E21: 82 | F21: Beaton | I21: 3
A22: 2012 | B22: Lorraine | C22: NFR | D22: NFR83 | E22: 83 | F22: Begbie Crk | I22: 1
A23: 2012 | B23: Lorraine | C23: NFR | D23: NFR84 | E23: 84 | F23: Pitt Crk Rec Site | H23: 5 | I23: 3
A24: 2012 | B24: Lorraine | C24: NFR | D24: NFR85 | E24: 85 | F24: Kinbasket Lk | H24: 5 | I24: 4
A25: 2012 | B25: Lorraine | C25: NFR | D25: NFR86 | E25: 86 | F25: Beaver River | G25: 1 | H25: 47 | I25: 1
A26: 2012 | B26: Lorraine | C26: NFR | D26: NFR87 | E26: 87 | F26: Jumping Crk | G26: 1 | H26: 23 | I26: 12 | J26: 1 | L26: 1 | AG26: Trace -BHB
F27: Total | G27: =SUM(G2:G26) -> 3 | H27: =SUM(H2:H26) -> 114 | I27: =SUM(I2:I26) -> 30 | J27: =SUM(J2:J26) -> 2 | L27: =SUM(L2:L26) -> 2 | M27: =SUM(M2:M26) -> 2 | N27: =SUM(N2:N26) -> 0 | O27: =SUM(O2:O26) -> 2 | P27: =SUM(P2:P26) -> 0 | Q27: =SUM(Q2:Q26) -> 1 | R27: =SUM(R2:R26) -> 0 | S27: =SUM(S2:S26) -> 0 | ... AF27: =SUM(AF2:AF26) -> 0
F28: Average | G28: =G27/25 -> 0.12 | H28: =H27/25 -> 4.56 | I28: =I27/25 -> 1.2 | J28: =J27/25 -> 0.08 | L28: =L27/25 -> 0.08 | M28: =M27/25 -> 0.08 | N28: =N27/25 -> 0 | O28: =O27/25 -> 0.08 | P28: =P27/25 -> 0 | Q28: =Q27/25 -> 0.04 | R28: =R27/25 -> 0 | S28: =S27/25 -> 0 | ... AF28: =AF27/25 -> 0
F29: Average Infested | G29: 1 | H29: =H27/16 -> 7.125 | I29: 3 | J29: 1 | L29: 1 | M29: 1 | O29: 1 | Q29: 1 | W29: 1

Sheet 2013_NFR
A1: Year | B1: Contract | C1: OldRegion | D1: PSSName | E1: Plot | F1: Location | G1: Western Hemlock Looper | H1: Black-headed budworm | I1: Sawflies | J1: Green-striped forest looper | K1: Western False Hemlock Looper | L1: Gray Spruce Looper | M1: Saddleback Looper | N1: Semiothisa s unipunctaria | O1: Cladara limitaria | P1: Gabriola dyari | Q1: Eupithicia olivacea | R1: Choristoneura occidentalis | S1: Stenoporpia pulmonaria satisfacta | T1: Orgyia sp | U1: Psychidae | V1: Eupithecia spp | W1: Acantholyda | X1: Callophrys rosneri | Y1: Nytobia limitaria | Z1: Nematocampa resistaria | AA1: Protoboarmia p indicataria | AB1: Geometridae | AC1: Hypagyrtia piniata | AD1: Synaxis pallulata | AE1: Macaria signaria | AF1: Zeiraphera canadensis | AG1: DEFOLIATON ESTIMATE
A2: 2012 | B2: Art | C2: NFR | D2: NFR30 | E2: 30 | F2: Keen Crk (new location 09) | AI2: 30
A3: 2012 | B3: Art | C3: NFR | D3: NFR38 | E3: 38 | F3: Hills | AI3: 38
A4: 2012 | B4: Art | C4: NFR | D4: NFR58 | E4: 58 | F4: Halfway River | AI4: 58
A5: 2012 | B5: Art | C5: NFR | D5: NFR61 | E5: 61 | F5: Box Lake | AI5: 61
A6: 2012 | B6: Art | C6: NFR | D6: NFR62 | E6: 62 | F6: Kuskanax Crk | AI6: 62
A7: 2012 | B7: Art | C7: NFR | D7: NFR65 | E7: 65 | F7: Shelter Bay Ferry | AI7: 65
A8: 2012 | B8: Lorraine | C8: NFR | D8: NFR66 | E8: 66 | F8: Sutherland Falls | G8: =2+1+0 -> 3 | H8: 2 | J8: 3 | AI8: 66
A9: 2012 | B9: Lorraine | C9: NFR | D9: NFR69 | E9: 69 | F9: Quartz Crk | G9: 0 | I9: 2 | Z9: 1 | AI9: 70
A10: 2012 | B10: Art | C10: NFR | D10: NFR70 | E10: 70 | F10: Gerrad | AI10: 71
E11: 71 | F11: Trout Lake | AI11: 79
A12: 2012 | B12: Lorraine | C12: NFR | D12: NFR72 | E12: 72 | F12: Tangier FSR | G12: =9+5+8 -> 22 | H12: =1+2+3 -> 6 | I12: =11+32+9 -> 52 | J12: 2 | M12: 1 | Z12: 1 | AI12: 80
A13: 2012 | B13: Lorraine | C13: NFR | D13: NFR73 | E13: 73 | F13: Martha Crk | G13: =1+7+13 -> 21 | H13: =1+3 -> 4 | I13: =21+1 -> 22 | K13: =1+4 -> 5 | M13: 1 | AI13: 81
A14: 2012 | B14: Lorraine | C14: NFR | D14: NFR74 | E14: 74 | F14: Goldstream River | G14: =2+1+1 -> 4 | H14: =1 -> 1 | I14: =4+1+1 -> 6 | AI14: 82
A15: 2012 | B15: Lorraine | C15: NFR | D15: NFR75 | E15: 75 | F15: Downie Crk | G15: =1+11+4 -> 16 | H15: 1 | I15: =1+10 -> 11
A16: 2012 | B16: Lorraine | C16: NFR | D16: NFR76 | E16: 76 | F16: Bigmouth Crk | G16: 1 | H16: 4 | I16: =16+5+6 -> 27 | AI16: 69
A17: 2012 | B17: Lorraine | C17: NFR | D17: NFR78 | E17: 78 | F17: Carnes Crk | G17: =2+0+2 -> 4 | H17: 1 | I17: 1 | AI17: 72
A18: 2012 | B18: Art | C18: NFR | D18: NFR79 | E18: 79 | F18: Lardeau FSR | AI18: 73
A19: 2012 | B19: Art | C19: NFR | D19: NFR80 | E19: 80 | F19: Meadow Crk | AI19: 74
A20: 2012 | B20: Art | C20: NFR | D20: NFR81 | E20: 81 | F20: Schroeder Crk | AI20: 75
A21: 2012 | B21: Art | C21: NFR | D21: NFR82 | E21: 82 | F21: Beaton | AI21: 76
A22: 2012 | B22: Lorraine | C22: NFR | D22: NFR83 | E22: 83 | F22: Begbie Crk | G22: =3+2+7 -> 12 | H22: =0+5+3 -> 8 | I22: =4+0+0 -> 4 | M22: 1 | AI22: 78
A23: 2012 | B23: Lorraine | C23: NFR | D23: NFR84 | E23: 84 | F23: Pitt Crk Rec Site | G23: =1+0+11 -> 12 | I23: =3+41+50 -> 94 | Z23: 1 | AI23: 83
A24: 2012 | B24: Lorraine | C24: NFR | D24: NFR85 | E24: 85 | F24: Kinbasket Lk | G24: =0+0+1 -> 1 | I24: =12+21+6 -> 39 | AI24: 84
A25: 2012 | B25: Lorraine | C25: NFR | D25: NFR86 | E25: 86 | F25: Beaver River | G25: =9+12+5 -> 26 | I25: =2+2+10 -> 14 | R25: 1 | AI25: 85
A26: 2012 | B26: Lorraine | C26: NFR | D26: NFR87 | E26: 87 | F26: Jumping Crk | G26: =9+7+6 -> 22 | H26: =7+9+18 -> 34 | I26: =14+8+49+14+60 -> 145 | M26: 1 | P26: 1 | Z26: 1 | AI26: 86
F27: Total | G27: =SUM(G2:G26) -> 144 | H27: =SUM(H2:H26) -> 61 | I27: =SUM(I2:I26) -> 417 | J27: =SUM(J2:J26) -> 5 | K27: =SUM(K2:K26) -> 5 | L27: =SUM(L2:L26) -> 0 | M27: =SUM(M2:M26) -> 4 | N27: =SUM(N2:N26) -> 0 | ... AF27: =SUM(AF2:AF26) -> 0 | AI27: 87
F28: Average | G28: =G27/24 -> 6 | H28: =H27/24 -> 2.5416667 | I28: =I27/24 -> 17.375 | J28: =J27/24 -> 0.20833333 | K28: =K27/24 -> 0.20833333 | L28: =L27/24 -> 0 | M28: =M27/24 -> 0.16666667 | N28: =N27/24 -> 0 | ... AF28: =AF27/24 -> 0
F29: Average Infested | G29: =G27/21 -> 6.8571429 | H29: 2 | I29: =I27/25 -> 16.68

Sheet 2012_NFR 
A1: Year | B1: Contract | C1: OldRegion | D1: PSSName | E1: Plot | F1: Location | G1: Western Hemlock Looper | H1: Black-headed budworm | I1: Sawflies | J1: Green-striped forest looper | K1: Western False Hemlock Looper | L1: Gray Spruce Looper | M1: Saddleback Looper | N1: Semiothisa s unipunctaria | O1: Cladara limitaria | P1: Gabriola dyari | Q1: Eupithicia olivacea | R1: Choristoneura occidentalis | S1: Stenoporpia pulmonaria satisfacta | T1: Orgyia sp | U1: Psychidae | V1: Eupithecia spp | W1: Acantholyda | X1: Callophrys rosneri | Y1: Nytobia limitaria | Z1: Nematocampa resistaria | AA1: Protoboarmia p indicataria | AB1: Geometridae | AC1: Hypagyrtia piniata | AD1: Synaxis pallulata | AE1: Macaria signaria | AF1: Zeiraphera canadensis | AG1: DEFOLIATON ESTIMATE
A2: 2012 | B2: Art | C2: NFR | D2: NFR30 | E2: 30 | F2: Keen Crk (new location 09) | G2: 0 | I2: 11 | AG2: N
A3: 2012 | B3: Art | C3: NFR | D3: NFR38 | E3: 38 | F3: Hills | G3: 0 | I3: 0 | M3: 1 | R3: 2 | AG3: N
A4: 2012 | B4: Art | C4: NFR | D4: NFR58 | E4: 58 | F4: Halfway River | G4: 0 | I4: 0 | J4: 1 | M4: 1 | R4: 1 | AG4: N
A5: 2012 | B5: Art | C5: NFR | D5: NFR61 | E5: 61 | F5: Box Lake | G5: 0 | I5: 0 | M5: 2 | O5: 1 | AG5: N
A6: 2012 | B6: Art | C6: NFR | D6: NFR62 | E6: 62 | F6: Kuskanax Crk | G6: 0 | I6: 0 | J6: 3 | N6: 1 | R6: 5 | AG6: N
A7: 2012 | B7: Art | C7: NFR | D7: NFR65 | E7: 65 | F7: Shelter Bay Ferry | G7: 2 | I7: 2 | J7: 1 | M7: 1 | R7: 1 | AG7: N
A8: 2012 | B8: Lorraine | C8: NFR | D8: NFR66 | E8: 66 | F8: Sutherland Falls | G8: 12 | I8: 9 | K8: 1 | AG8: N
